Workbook

Sheet SERVICE_ROUTE_ORG
A1: Дата актуализации: 13.04.2026 | B1: CODE | C1: SERVICE_CODE
A2: =IF(B2="","",CONCATENATE(B2,C2)) -> 102220228376260047363 | B2: 1022202283762 | C2: 60047363
A3: =IF(B3="","",CONCATENATE(B3,C3)) -> 102220291465660047363 | B3: 1022202914656 | C3: 60047363
A4: =IF(B4="","",CONCATENATE(B4,C4)) -> 102220273332160047363 | B4: 1022202733321 | C4: 60047363
A5: =IF(B5="","",CONCATENATE(B5,C5)) -> 102220221842260047363 | B5: 1022202218422 | C5: 60047363
A6: =IF(B6="","",CONCATENATE(B6,C6)) -> 102220266976360047363 | B6: 1022202669763 | C6: 60047363
A7: =IF(B7="","",CONCATENATE(B7,C7)) -> 102220289323960047363 | B7: 1022202893239 | C7: 60047363
A8: =IF(B8="","",CONCATENATE(B8,C8)) -> 102220086704060047363 | B8: 1022200867040 | C8: 60047363
A9: =IF(B9="","",CONCATENATE(B9,C9)) -> 102220276863160047363 | B9: 1022202768631 | C9: 60047363
A10: =IF(B10="","",CONCATENATE(B10,C10)) -> 102220256352560047363 | B10: 1022202563525 | C10: 60047363
A11: =IF(B11="","",CONCATENATE(B11,C11)) -> 102220291695560047363 | B11: 1022202916955 | C11: 60047363
A12: =IF(B12="","",CONCATENATE(B12,C12)) -> 102220075457560047363 | B12: 1022200754575 | C12: 60047363
A13: =IF(B13="","",CONCATENATE(B13,C13)) -> 102220194445660047363 | B13: 1022201944456 | C13: 60047363
... A71: =IF(B71="","",CONCATENATE(B71,C71)) -> 125220001845460047363 | B71: 1252200018454 | C71: 60047363

Sheet ЕСНСИ
A1: Дата актуализации: 07.10.2026 | B1: CODE | C1: SERVICE_CODE
A2: =IF(B2="","",CONCATENATE(B2,C2)) -> 1072235001420-10000115376 | B2: 1072235001420 | C2: -10000115376
A3: =IF(B3="","",CONCATENATE(B3,C3)) -> 1072210001511-10000115337 | B3: 1072210001511 | C3: -10000115337
A4: =IF(B4="","",CONCATENATE(B4,C4)) -> 1022202191362-10000115331 | B4: 1022202191362 | C4: -10000115331
A5: =IF(B5="","",CONCATENATE(B5,C5)) -> 1072207001030-10000115377 | B5: 1072207001030 | C5: -10000115377
A6: =IF(B6="","",CONCATENATE(B6,C6)) -> 1022202217036-10000115356 | B6: 1022202217036 | C6: -10000115356
A7: =IF(B7="","",CONCATENATE(B7,C7)) -> 1022202611782-10000115331 | B7: 1022202611782 | C7: -10000115331
A8: =IF(B8="","",CONCATENATE(B8,C8)) -> 1022202101030-10000115345 | B8: 1022202101030 | C8: -10000115345
A9: =IF(B9="","",CONCATENATE(B9,C9)) -> 1022202072430-10000115356 | B9: 1022202072430 | C9: -10000115356
A10: =IF(B10="","",CONCATENATE(B10,C10)) -> 1022202149936-10000115361 | B10: 1022202149936 | C10: -10000115361
A11: =IF(B11="","",CONCATENATE(B11,C11)) -> 1022202916955-10000115366 | B11: 1022202916955 | C11: -10000115366
A12: =IF(B12="","",CONCATENATE(B12,C12)) -> 1022202611782-10000000208 | B12: 1022202611782 | C12: -10000000208
A13: =IF(B13="","",CONCATENATE(B13,C13)) -> 1022202073200-10000115339 | B13: 1022202073200 | C13: -10000115339
... A1193: =IF(B1193="","",CONCATENATE(B1193,C1193)) -> 1072235001453-10000000194 | B1193: 1072235001453 | C1193: -10000000194
B1194: 1022202217036 | C1194: -10000115323
A1195: =IF(B1195="","",CONCATENATE(B1195,C1195)) -> 1022202072430-10000115365 | B1195: 1022202072430 | C1195: -10000115365
A1196: =IF(B1196="","",CONCATENATE(B1196,C1196)) -> 1072210001577-10000000200 | B1196: 1072210001577 | C1196: -10000000200
A1197: =IF(B1197="","",CONCATENATE(B1197,C1197)) -> 1022200507823-10000115360 | B1197: 1022200507823 | C1197: -10000115360
A1198: =IF(B1198="","",CONCATENATE(B1198,C1198)) -> 1022200754575-10000115371 | B1198: 1022200754575 | C1198: -10000115371
A1199: =IF(B1199="","",CONCATENATE(B1199,C1199)) -> 1072209003030-10000000200 | B1199: 1072209003030 | C1199: -10000000200
A1200: =IF(B1200="","",CONCATENATE(B1200,C1200)) -> 1022202150960-10000115324 | B1200: 1022202150960 | C1200: -10000115324
A1201: =IF(B1201="","",CONCATENATE(B1201,C1201)) -> 1022202563525-10000000241 | B1201: 1022202563525 | C1201: -10000000241
A1202: =IF(B1202="","",CONCATENATE(B1202,C1202)) -> 1022202366108-10000115341 | B1202: 1022202366108 | C1202: -10000115341
A1203: =IF(B1203="","",CONCATENATE(B1203,C1203)) -> 1022200507823-10000115373 | B1203: 1022200507823 | C1203: -10000115373
A1204: =IF(B1204="","",CONCATENATE(B1204,C1204)) -> 1022202735543-10000115325 | B1204: 1022202735543 | C1204: -10000115325
A1205: =IF(B1205="","",CONCATENATE(B1205,C1205)) -> 1022200535280-10000000235 | B1205: 1022200535280 | C1205: -10000000235
A1206: =IF(B1206="","",CONCATENATE(B1206,C1206)) -> 1022200883847-10000000231 | B1206: 1022200883847 | C1206: -10000000231
... A6533: =IF(B6533="","",CONCATENATE(B6533,C6533)) -> 1022201523926-60029382 | B6533: 1022201523926 | C6533: -60029382
A6534: =IF(B6534="","",CONCATENATE(B6534,C6534))
A6535: =IF(B6535="","",CONCATENATE(B6535,C6535))
A6536: =IF(B6536="","",CONCATENATE(B6536,C6536))
A6537: =IF(B6537="","",CONCATENATE(B6537,C6537))
A6538: =IF(B6538="","",CONCATENATE(B6538,C6538))
A6539: =IF(B6539="","",CONCATENATE(B6539,C6539))
A6540: =IF(B6540="","",CONCATENATE(B6540,C6540))
A6541: =IF(B6541="","",CONCATENATE(B6541,C6541))
A6542: =IF(B6542="","",CONCATENATE(B6542,C6542))
A6543: =IF(B6543="","",CONCATENATE(B6543,C6543))
A6544: =IF(B6544="","",CONCATENATE(B6544,C6544))
A6545: =IF(B6545="","",CONCATENATE(B6545,C6545))
... A10100: =IF(B10100="","",CONCATENATE(B10100,C10100))

Sheet OIV_SERVICES
A1: Дата актуализации: 13.04.2026 | B1: OGRN | C1: SERVICE_CODE
A2: =IF(B2="","",CONCATENATE(B2,C2)) -> 1022200754575-10000000451 | B2: 1022200754575 | C2: -10000000451
A3: =IF(B3="","",CONCATENATE(B3,C3)) -> 1022202669851-10000000451 | B3: 1022202669851 | C3: -10000000451
A4: =IF(B4="","",CONCATENATE(B4,C4)) -> 1022202575570-10000000451 | B4: 1022202575570 | C4: -10000000451
A5: =IF(B5="","",CONCATENATE(B5,C5)) -> 1022200567212-10000000451 | B5: 1022200567212 | C5: -10000000451
A6: =IF(B6="","",CONCATENATE(B6,C6)) -> 1022200813656-10000000451 | B6: 1022200813656 | C6: -10000000451
A7: =IF(B7="","",CONCATENATE(B7,C7)) -> 1022200768468-10000000451 | B7: 1022200768468 | C7: -10000000451
A8: =IF(B8="","",CONCATENATE(B8,C8)) -> 1022200883847-10000000451 | B8: 1022200883847 | C8: -10000000451
A9: =IF(B9="","",CONCATENATE(B9,C9)) -> 1022201944456-10000000451 | B9: 1022201944456 | C9: -10000000451
A10: =IF(B10="","",CONCATENATE(B10,C10)) -> 1022200867040-10000000451 | B10: 1022200867040 | C10: -10000000451
A11: =IF(B11="","",CONCATENATE(B11,C11)) -> 1022202914656-10000000451 | B11: 1022202914656 | C11: -10000000451
A12: =IF(B12="","",CONCATENATE(B12,C12)) -> 1022202217036-10000000451 | B12: 1022202217036 | C12: -10000000451
A13: =IF(B13="","",CONCATENATE(B13,C13)) -> 1022202366108-10000000451 | B13: 1022202366108 | C13: -10000000451
... A309: =IF(B309="","",CONCATENATE(B309,C309)) -> 1022201760635-10000000451 | B309: 1022201760635 | C309: -10000000451

Sheet OMSY_MINSTROY
A1: Дата актуализации: 13.04.2026 | B1: OGRN | C1: SERVICE_CODE
A2: =IF(B2="","",CONCATENATE(B2,C2)) -> 1252200018421-00001 | B2: 1252200018421 | C2: -00001
A3: =IF(B3="","",CONCATENATE(B3,C3)) -> 1022202073200-00001 | B3: 1022202073200 | C3: -00001
A4: =IF(B4="","",CONCATENATE(B4,C4)) -> 1022200535280-00001 | B4: 1022200535280 | C4: -00001
A5: =IF(B5="","",CONCATENATE(B5,C5))
A6: =IF(B6="","",CONCATENATE(B6,C6))
A7: =IF(B7="","",CONCATENATE(B7,C7))
A8: =IF(B8="","",CONCATENATE(B8,C8))
A9: =IF(B9="","",CONCATENATE(B9,C9))
A10: =IF(B10="","",CONCATENATE(B10,C10))
A11: =IF(B11="","",CONCATENATE(B11,C11))
A12: =IF(B12="","",CONCATENATE(B12,C12))
A13: =IF(B13="","",CONCATENATE(B13,C13))
A14: =IF(B14="","",CONCATENATE(B14,C14))
A15: =IF(B15="","",CONCATENATE(B15,C15))
A16: =IF(B16="","",CONCATENATE(B16,C16))
... A24: =IF(B24="","",CONCATENATE(B24,C24))

Sheet OMSY_MINSTROY_ARCHIVE
A1: Дата актуализации: 13.04.2026 | B1: OGRN | C1: SERVICE_CODE
A2: =IF(B2="","",CONCATENATE(B2,C2)) -> 1062221001160-00002 | B2: 1062221001160 | C2: -00002
A3: =IF(B3="","",CONCATENATE(B3,C3)) -> 1022202891303-00002 | B3: 1022202891303 | C3: -00002
A4: =IF(B4="","",CONCATENATE(B4,C4)) -> 1022201908651-00002 | B4: 1022201908651 | C4: -00002
A5: =IF(B5="","",CONCATENATE(B5,C5)) -> 1022201982890-00002 | B5: 1022201982890 | C5: -00002
A6: =IF(B6="","",CONCATENATE(B6,C6)) -> 1022200507548-00002 | B6: 1022200507548 | C6: -00002
A7: =IF(B7="","",CONCATENATE(B7,C7))

Sheet База ведомств
C1: 1 | E1: 2 | G1: 3 | I1: 4 | K1: 5 | M1: 6 | O1: 7 | Q1: 8 | S1: 9 | U1: 10 | W1: 11 | Y1: 12 | AA1: 13 | AC1: 14 | AE1: 15 | AG1: 16 | AI1: 17 | AK1: 18 | AM1: 19 | AO1: 20 | AQ1: 21 | AS1: 22 | AU1: 23 | AW1: 24 | AY1: 25 | BA1: 26 | BC1: 27 | BE1: 28 | BG1: 29 | BI1: 30 | BK1: 31 | BM1: 32 | BO1: 33 | BQ1: 34 | BS1: 35 | BU1: 36 | BW1: 37 | BY1: 38 | CA1: 39 | CC1: 40 | CE1: 41 | CG1: 42 | CI1: 43 | CK1: 44 | CM1: 45 | CO1: 46 | CQ1: 47 | CS1: 48 | CU1: 49 | CW1: 50 | CY1: 51 | DA1: 52 | DC1: 53 | DE1: 54 | DG1: 55 | DI1: 56 | DK1: 57 | DM1: 58 | DO1: 59 | DQ1: 60 | DS1: 61 | DU1: 62 | DW1: 63 | DY1: 64 | EA1: 65 | EC1: 66 | EE1: 67 | EG1: 68 | EI1: 69
A2: Выберите район из выподающего списка | C2: г.Алейск | E2: г. Барнаул | G2: г. Белокуриха | I2: г. Бийск | K2: г.Заринск | M2: ЗАТО Сибирский | O2: г. Новоалтайск | Q2: г. Рубцовска | S2: г. Славгорода | U2: г. Яровое | W2: Алейский район | Y2: Алтайский район | AA2: Баевский район | AC2: Бийский район | AE2: Благовещенский район | AG2: Бурлинский район | AI2: Быстроистокский район | AK2: Волчихинский район | AM2: Егорьевский район | AO2: Ельцовский район | AQ2: Завьяловский район | AS2: Залесовский округ | AU2: Заринский район | AW2: Змеиногорский округ | AY2: Зональный район | BA2: Калманский район | BC2: Каменский район | BE2: Ключевский район | BG2: Косихинский район | BI2: Красногорский район | BK2: Краснощековский район | BM2: Крутихинский район | BO2: Кулундинский район | BQ2: Курьинский район | BS2: Кытмановский район | BU2: Локтевский район | BW2: Мамонтовский район | BY2: Михайловский район | CA2: Немецкий национальный район | CC2: Новичихинский район | CE2: Павловский район | CG2: Панкрушихинский район | CI2: Первомайский район | CK2: Петропавловский район | CM2: Поспелихинский район | CO2: Ребрихинский район | CQ2: Родинский район | CS2: Романовский район | CU2: Рубцовский район | CW2: Смоленский район | CY2: Советский район | DA2: Солонешенский округ | DC2: Солтонский район | DE2: Суетский округ | DG2: Табунский район | DI2: Тальменский район | DK2: Тогульский район | DM2: Топчихинский район | DO2: Третьяковский район | DQ2: Троицкий район | DS2: Тюменцевский район | DU2: Угловский район | DW2: Усть-Калманский район | DY2: Усть-Пристанский район | EA2: Хабарский район | EC2: Целинный район | EE2: Чарышский район | EG2: Шелаболихинский район | EI2: Шипуновский район
A9: 1 | B9: 1022200507548 | C9: Администрация г. Алейска | D9: 1042202280251 | E9: Администрация г. Барнаула | F9: 1022200535280 | G9: Администрация г. Белокуриха | H9: 1022200567212 | I9: Администрация г. Бийска | J9: 1022200708001 | K9: Администрация г.Заринска | L9: 1022202735543 | M9: Администрация ЗАТО Сибирский | N9: 1022200770987 | O9: Администрация г. Новоалтайска | P9: 1022200813656 | Q9: Администрация г. Рубцовска | R9: 1022200867040 | S9: Администрация г. Славгорода | T9: 1022200883847 | U9: Администрация г. Яровое | V9: 1022200507823 | W9: Администрация Алейского района | X9: 1022201907870 | Y9: Администрация Алтайского района | Z9: 1022202149936 | AA9: Администрация Баевского района | AB9: 1022200570853 | AC9: Администрация Бийского района | AD9: 1022201982890 | AE9: Администрация Благовещенского района | AF9: 1022200882076 | AG9: Администрация Бурлинского района | AH9: 1022202670544 | AI9: Администрация Быстроистокского района | AJ9: 1022202575570 | AK9: Администрация Волчихинского района | AL9: 1022202611782 | AM9: Администрация Егорьевского района | AN9: 1022202914656 | AO9: Администрация Ельцовского района | AP9: 1022202073200 | AQ9: Администрация Завьяловского района | AR9: 1212200031120 | AS9: Администрация Залесовского Муниципального округа Алтайского края | AT9: 1022202104000 | AU9: Администрация Заринского района | AV9: 1242200019930 | AW9: Администрация муниципального округа Змеиногорский район Алтайского края | AX9: 1252200018476 | AY9: Администрация Муниципального округа Зональный район Алтайского края | AZ9: 1022202768631 | BA9: Администрация Калманского района | BB9: 1022200754575 | BC9: Администрация Каменского района | BD9: 1252200018443 | BE9: Администрация Муниципального округа Ключевский район Алтайского края | BF9: 1022202191362 | BG9: Администрация Косихинского района | BH9: 1022201944456 | BI9: Администрация Красногорского района | BJ9: 1022202218422 | BK9: Администрация Краснощековского района | BL9: 1022202150960 | BM9: Администрация Крутихинского района | BN9: 1252200018487 | BO9: Администрация Муниципального округа Кулундинский район Алтайского края | BP9: 1022202217036 | BQ9: Администрация Курьинского района | BR9: 1022202101030 | BS9: Администрация Кытмановского района | BT9: 1022202282849 | BU9: Администрация Локтевского района | BV9: 1022202072430 | BW9: Администрация Мамонтовского района | BX9: 1022202316124 | BY9: Администрация Михайловского района | BZ9: 1252200018454 | CA9: Администрация Муниципального округа Немецкий национальный район Алтайского края | CB9: 1022202525388 | CC9: Администрация Новичихинского района | CD9: 1022202366108 | CE9: Администрация Павловского района | CF9: 1252200018421 | CG9: Администрация Муниципального округа Панкрушихинский район Алтайского края | CH9: 1022200768468 | CI9: Администрация Первомайского района | CJ9: 1252200018465 | CK9: Администрация Муниципального округа Петропавловский район Алтайского края | CL9: 1022202523837 | CM9: Администрация Поспелихинского района | CN9: 1022202565120 | CO9: Администрация Ребрихинского района | CP9: 1022202576989 | CQ9: Администрация Родинского района | CR9: 1022202073740 | CS9: Администрация Романовского района | CT9: 1022202613894 | CU9: Администрация Рубцовского района | CV9: 1022202669763 | CW9: Администрация Смоленского района | CX9: 1022202669851 | CY9: Администрация Советского района | CZ9: 1252200018432 | DA9: Администрация Муниципального округа Солонешенский район Алтайского края | DB9: 1022201944236 | DC9: Администрация Солтонского района | DD9: 1222200021438 | DE9: Администрация муниципального округа Суетский район Алтайского края | DF9: 1252200018498 | DG9: Администраця Муниципального округа Табунский район Алтайского края | DH9: 1022202733321 | DI9: Администрация Тальменского района | DJ9: 1022202916955 | DK9: Администрация Тогульского района | DL9: 1022202767971 | DM9: Администрация Топчихинского района | DN9: 1022200730507 | DO9: Администрация Третьяковского района | DP9: 1022202192264 | DQ9: Администрация Троицкого района | DR9: 1022202563525 | DS9: Администрация Тюменцевского района | DT9: 1022202283762 | DU9: Администрация Угловского района | DV9: 1022202863583 | DW9: Администрация Усть-Калманского района | DX9: 1022202864452 | DY9: Администрация Усть-Пристанского района | DZ9: 1022202893239 | EA9: Администрация Хабарского района | EB9: 1022202914942 | EC9: Администрация Целинного района | ED9: 1222200021482 | EE9: Администрация муниципального округа Чарышского района Алтайского края | EF9: 1022202365162 | EG9: Администрация Шелаболихинского района | EH9: 1022202955180 | EI9: Администрация Шипуновского района
A10: 2 | D10: 1022201509990 | E10: Комитет по образованию г. Барнаула | V10: 1022200508076 | W10: Администрация Алейского сельсовета Алейского района | X10: 1022201906330 | Y10: Администрация Айского сельсовета Алтайского района | Z10: 1022202150101 | AA10: Администрация Баевского сельсовета Баевского района | AB10: 1022201947228 | AC10: Администрация Большеугреневского сельсовета Бийского района | AD10: 1022201983319 | AE10: Администрация Алексеевского сельсовета Благовещенского района | AF10: 1022200882010 | AG10: Администрация Бурлинского сельсовета Бурлинского района | AH10: 1022202667343 | AI10: Администрация Акутихинского сельсовета Быстроистокского района | AJ10: 1022202575867 | AK10: Администрация Берёзовского сельсовета Волчихинского района | AL10: 1022202611958 | AM10: Администрация Кругло-Семенцовского сельсовета Егорьевского района | AN10: 1022202915195 | AO10: Администрация Верх-Ненинского сельсовета Ельцовского района | AP10: 1022202071352 | AQ10: Администрация Гилёвского сельсовета Завьяловского района | AT10: 1022202104430 | AU10: Администрация Аламбайского сельсовета Заринского района | AV10: 1022200728582 | AW10: Комитет по образованию и делам молодежи администрации муниципального округа Змеиногорский район Алтайского края | AZ10: 1022202772052 | BA10: Администрация Бурановского сельсовета Калманского района | BB10: 1022202149342 | BC10: Администрация Аллаксого сельсовета Каменского района | BF10: 1022202192638 | BG10: Администрация Баюновского сельсовета Косихинского района | BH10: 1022201945204 | BI10: Администрация Березовского сельсовета Красногорского района | BJ10: 1022202217322 | BK10: Администрация Акимовского сельсовета Краснощековского района | BL10: 1022202152720 | BM10: Администрация Боровского сельсовета Крутихинского района | BN10: 1252200018685 | BO10: УПРАВЛЕНИЕ ТЕРРИТОРИАЛЬНЫХ ОТДЕЛОВ МУНИЦИПАЛЬНОГО ОКРУГА КУЛУНДИНСКИЙ РАЙОН | BP10: 1022202216695 | BQ10: Администрация Казанцевского сельсовета Курьинского района | BR10: 1022202101020 | BS10: Администрация Дмитро-Титовского сельсовета Кытмановского района | BT10: 1022202282761 | BU10: Администрация Александровского сельсовета Локтевского района | BV10: 1022202074586 | BW10: Администрация Буканского сельсовета Мамонтовского района | BX10: 1022202315035 | BY10: Администрация Ащегульского сельсовета Михайловского района | CB10: 1022202523848 | CC10: Администрация Долговского сельсовета Новичихинского района | CD10: 1022202365096 | CE10: Администрация Арбузовского сельсовета Павловского района | CH10: 1022202407479 | CI10: Администрация Акуловского сельсовета Первомайского района | CL10: 1022202524156 | CM10: Администрация Борковского сельсовета Поспелихинского района | CN10: 1022202563448 | CO10: Администрация Беловского сельсовета Ребрихинского района | CP10: 1022202575053 | CQ10: Администрация Зеленолуговского сельсовета Родинского района | CR10: 1022202070791 | CS10: Администрация Гуселетовского сельсовета Романовского района | CT10: 1022202611331 | CU10: Администрация Безрукавского сельсовета Рубцовского района | CV10: 1022202670192 | CW10: Администрация Ануйского сельсовета Смоленского района | CX10: 1022202668180 | CY10: Администрация Кокшинского сельсовета Советского района | DB10: 1022201943356 | DC10: Администрация Карабинского сельсовета Солтонского района | DF10: 1022202238002 | DG10: Комитет администрации Табунского района Алтайского края по образованию | DH10: 1122208000375 | DI10: Администрация Анисимовского сельсовета Тальменского района | DJ10: 1022202917890 | DK10: Администрация Антипинского сельсовета Тогульского района | DL10: 1022202769489 | DM10: Администрация Белояровского сельсовета Топчихинского района | DN10: 1022200729572 | DO10: Администрация Екатерининского сельсовета Третьяковского района | DP10: 1022202193573 | DQ10: Администрация Беловского сельсовета Троицкого района | DR10: 1022202563162 | DS10: Администрация Андроновского сельсовета Тюменцевского района | DT10: 1022202284037 | DU10: Администрация Круглянского сельсовета Угловского района | DV10: 1022202863319 | DW10: Администрация Кабановского сельсовета Усть-Калманского района | DX10: 1022202864364 | DY10: Администрация Вяткинского сельсовета Усть-Пристанского района | DZ10: 1022202891776 | EA10: Администрация Зятьково-Реченского сельсовета Хабарского района | EB10: 1122204000720 | EC10: Администрация Бочкаревского сельсовета Целинного района | EF10: 1022202365118 | EG10: Администрация Верх-Кучукского сельсовета Шелаболихинского района | EH10: 1022202954168 | EI10: Администрация Белоглазовского сельсовета Шипуновского района
A11: 3 | D11: 1022201760635 | E11: Комитет жилищно-коммунального хозяйства г. Барнаула | V11: 1022200508813 | W11: Администрация Безголосовского сельсовета Алейского района | X11: 1022201908519 | Y11: Администрация Алтайского сельсовета Алтайского района | Z11: 1022202150046 | AA11: Администрация Верх-Пайвинского сельсовета Баевского района | AB11: 1022201945116 | AC11: Администрация Верх-Бехтемирского сельсовета Бийского района | AD11: 1022201982417 | AE11: Администрация Благовещенского поссовета Благовещенского района | AF11: 1022200882285 | AG11: Администрация Михайловского сельсовета Бурлинского района | AH11: 1022202667838 | AI11: Администрация Быстроистокского сельсовета Быстроистокского района | AJ11: 1022202575581 | AK11: Администрация Бор-Форпостовского сельсовета Волчихинского района | AL11: 1022202612398 | AM11: Администрация Лебяжинского сельсовета Егорьевского района | AN11: 1022202917164 | AO11: Администрация Ельцовского сельсовета Ельцовского района | AP11: 1022202073090 | AQ11: Администрация Глубоковского сельсовета Завьяловского района | AT11: 1022202103252 | AU11: Администрация Верх-Камышенского сельсовета Заринского района | AV11: 1152209000096 | AW11: Управление экономики и имущественных отношений администрации муниципального округа Змеиногорский район Алтайского края | AZ11: 1022202769071 | BA11: Администрация Зимарёвского сельсовета Калманского района | BB11: 1022202149320 | BC11: Администрация Верх-Аллакского сельсовета Каменского района | BF11: 1022202192649 | BG11: Администрация Верх-Жилинского сельсовета Косихинского района | BH11: 1022201946799 | BI11: Администрация Быстрянского сельсовета Красногорского района | BJ11: 1022202218290 | BK11: Администрация Берёзовского сельсовета Краснощековского района | BL11: 1022202150651 | BM11: Администрация Волчно-Бурлинского сельсовета Крутихинского района | BP11: 1022202218312 | BQ11: Администрация Колыванского сельсовета Курьинского района | BR11: 1022202100997 | BS11: Администрация Кытмановского сельсовета | BT11: 1022202282794 | BU11: Администрация Второкаменского сельсовета Локтевского района | BV11: 1022202074894 | BW11: Администрация Гришенского сельсовета Мамонтовского района | BX11: 1022202315970 | BY11: Администрация Бастанского сельсовета Михайловского района | CB11: 1022202525740 | CC11: Администрация Лобанихинского сельсовета Новичихинского района | CD11: 1022202363050 | CE11: Администрация Бурановского сельсовета Павловского района | CH11: 1022202410295 | CI11: Администрация Баюновоключевского сельсовета Первомайского района | CL11: 1022202524244 | CM11: Администрация Красноалтайского сельсовета Поспелихинского района | CN11: 1022202562909 | CO11: Администрация Боровлянского сельсовета Ребрихинского района | CP11: 1022202575670 | CQ11: Администрация Кочкинского сельсовета Родинского района | CR11: 1022202070857 | CS11: Администрация Гилев-Логовского сельсовета Романовского района | CT11: 1022202612233 | CU11: Администрация Бобковского сельсовета Рубцовского района | CV11: 1022202667959 | CW11: Администрация Верх-Обского сельсовета Смоленского района | CX11: 1022202669697 | CY11: Администрация Коловского сельсовета Советского района | DB11: 1022201943345 | DC11: Администрация Макарьевского сельсовета Солтонского района | DH11: 1022202734531 | DI11: Администрация Зайцевского сельсовета Тальменского района | DJ11: 1022202916780 | DK11: Администрация Новоиушинского сельсовета Тогульского района | DL11: 1022202769357 | DM11: Администрация Володарского сельсовета Топчихинского района | DN11: 1022200729869 | DO11: Администрация Корболихинского сельсовета Третьяковского района | DP11: 1022202193727 | DQ11: Администрация Боровлянского сельсовета Троицкого района | DR11: 1022202563646 | DS11: Администрация Берёзовского сельсовета Тюменцевского района | DT11: 1022202283730 | DU11: Администрация Лаптевского сельсовета Угловского района | DV11: 1022202863176 | DW11: Администрация Михайловского сельсовета Усть-Калманского района | DX11: 1022202864782 | DY11: Администрация Краснодарского сельсовета Усть-Пристанского района | DZ11: 1022202891963 | EA11: Администрация Коротоякского сельсовета Хабарского района | EB11: 1022202915283 | EC11: Администрация Воеводского сельсовета Целинного района | EF11: 1022202365130 | EG11: Администрация Ильинского сельсовета Шелаболихинского района | EH11: 1022202953640 | EI11: Администрация Бобровского сельсовета Шипуновского района
A12: 4 | D12: 1062221001160 | E12: Комитет по земельным ресурсам и землеустройству г. Барнаула | V12: 1022200508780 | W12: Администрация Большепанюшевского сельсовета Алейского района | X12: 1022201907804 | Y12: Администрация Беловского сельсовета Алтайского района | Z12: 1022202150090 | AA12: Администрация Верх-Чуманского сельсовета Баевского района | AB12: 1022201945710 | AC12: Администрация Верх-Катунского сельсовета Бийского района | AD12: 1022201982395 | AE12: Администрация Гляденьского сельсовета Благовещенского района | AF12: 1022200882560 | AG12: Администрация Новоандреевского сельсовета Бурлинского района | AH12: 1022202668278 | AI12: Администрация Верх-Ануйского сельсовета Быстроистокского района | AJ12: 1022202576362 | AK12: Администрация Волчихинского сельсовета Волчихинского района | AL12: 1022202611793 | AM12: Администрация Малошелковниковского сельсовета Егорьевского района | AN12: 1022202914832 | AO12: Администрация Мартыновского сельсовета Ельцовского района | AP12: 1022202071308 | AQ12: Администрация Гоноховского сельсовета Завьяловского района | AT12: 1022202103835 | AU12: Администрация Воскресенского сельсовета Заринского района | AV12: 1242200019808 | AW12: Управление территориальных отделов Администрации муниципального округа Змеиногорский район Алтайского края | AZ12: 1022202769038 | BA12: Администрация Калистратихинского сельсовета Калманского района | BB12: 1022202149639 | BC12: Администрация Гоноховского сельсовета Каменского района | BF12: 1022202193903 | BG12: Администрация Глушинского сельсовета Косихинского района | BH12: 1062234013379 | BI12: Администрация Красногорского сельсовета Красногорского района | BJ12: 1022202217135 | BK12: Администрация Верх-Камышенского сельсовета Краснощековского района | BL12: 1022202150673 | BM12: Администрация Долганского сельсовета Крутихинского района | BP12: 1022202217850 | BQ12: Администрация Трусовского сельсовета Курьинского района | BR12: 1022202101019 | BS12: Администрация Новотарабинского сельсовета Кытмановского района | BT12: 1022202282740 | BU12: Администрация Георгиевского сельсовета Локтевского района | BV12: 1022202073860 | BW12: Администрация Кадниковского сельсовета Мамонтовского района | BX12: 1022202316102 | BY12: Администрация Малиновоозёрского поссовета Михайловского района | CB12: 1022202523815 | CC12: Администрация Мельниковского сельсовета Новичихинского района | CD12: 1022202362346 | CE12: Администрация Елунинского сельсовета Павловского района | CH12: 1022202409063 | CI12: Администрация Березовского сельсовета Первомайского района | CL12: 1022202524453 | CM12: Администрация Калмыцко-Мысовского сельсовета Поспелихинского района | CN12: 1022202563756 | CO12: Администрация Воронихинского сельсовета Ребрихинского района | CP12: 1022202575504 | CQ12: Администрация Каяушинского сельсовета Родинского района | CR12: 1022202071374 | CS12: Администрация Грано-Маяковского сельсовета Романовского района | CT12: 1022202613289 | CU12: Администрация Большешелковниковского сельсовета Рубцовского района | CV12: 1022202669488 | CW12: Администрация Кировского сельсовета Смоленского района | CX12: 1022202669708 | CY12: Администрация Красноярского сельсовета Советского района | DB12: 1022201943994 | DC12: Администрация Ненинского сельсовета Солтонского района | DH12: 1022202734905 | DI12: Администрация Казанцевского сельсовета Тальменского района | DJ12: 1112205000137 | DK12: Администрация Старотогульского сельсовета Тогульского района | DL12: 1022202768972 | DM12: Администрация Зиминского сельсовета Топчихинского района | DN12: 1022200729638 | DO12: Администрация Новоалейского сельсовета Третьяковского района | DP12: 1022202193342 | DQ12: Администрация Гордеевского сельсовета Троицкого района | DR12: 1022202564856 | DS12: Администрация Вылковского сельсовета Тюменцевского района | DT12: 1022202282926 | DU12: Администрация Озерно-Кузнецовского сельсовета Угловского района | DV12: 1022202863011 | DW12: Администрация Новобурановского сельсовета Усть-Калманского района | DX12: 1022202864243 | DY12: Администрация Красноярского сельсовета Усть-Пристанского района | DZ12: 1022202891490 | EA12: Администрация Мартовского сельсовета Хабарского района | EB12: 1022202916592 | EC12: Администрация Дружбинского сельсовета Целинного района | EF12: 1022202365151 | EG12: Администрация Инского сельсовета Шелаболихинского района | EH12: 1022202954894 | EI12: Администрация Войковского сельсовета Шипуновского района
A13: 5 | D13: 1022201770381 | E13: Комитет по управлению муниципальной собственностью г. Барнаула | V13: 1022200507933 | W13: Администрация Боровского сельсовета Алейского района | X13: 1022201906737 | Y13: Администрация Куяганского сельсовета Алтайского района | Z13: 1022202150068 | AA13: Администрация Нижнечуманского сельсовета Баевского района | AB13: 1022201947602 | AC13: Администрация Енисейского сельсовета Бийского района | AD13: 1022201982428 | AE13: Администрация Леньковского сельсовета Благовещенского района | AF13: 1022200882440 | AG13: Администрация Новопесчанского сельсовета Бурлинского района | AH13: 1022202668696 | AI13: Администрация Верх-Озернинского сельсовета Быстроистокского района | AJ13: 1022202575625 | AK13: Администрация Востровского сельсовета Волчихинского района | AL13: 1022202612387 | AM13: Администрация Новоегорьевского сельсовета Егорьевского района | AN13: 1022202915569 | AO13: Администрация Новокаменского сельсовета Ельцовского района | AP13: 1022202071198 | AQ13: Администрация Завьяловского сельсовета Завьяловского района | AT13: 1022202104704 | AU13: Администрация Голухинского сельсовета Заринского района | AZ13: 1022202768830 | BA13: Администрация Калманского сельсовета Калманского района | BB13: 1022202149331 | BC13: Администрация Корниловского сельсовета Каменского района | BF13: 1022202192660 | BG13: Администрация Каркавинского сельсовета Косихинского района | BH13: 1022201945380 | BI13: Администрация Новозыковского сельсовета Красногорского района | BJ13: 1022202218235 | BK13: Администрация Карповского сельсовета Краснощековского района | BL13: 1022202150662 | BM13: Администрация Заковряшинского сельсовета Крутихинского района | BP13: 1022202217685 | BQ13: Админитсрация Кузнецовского сельсовета Курьинского района | BR13: 1102205000490 | BS13: Администрация Октябрьского сельсовета Кытмановского района | BT13: 1022202282805 | BU13: Администрация Гилевского сельсовета Локтевского района | BV13: 1022202072860 | BW13: Администрация Комсомольского сельсовета Мамонтовского района | BX13: 1022202316905 | BY13: Администрация Николаевского сельсовета Михайловского района | CB13: 1022202523200 | CC13: Администрация Новичихинского сельсовета Новичихинского района | CD13: 1022202362412 | CE13: Администрация Колыванского сельсовета Павловского района | CH13: 1022202408326 | CI13: Администрация Бобровского сельсовета Первомайского района | CL13: 1022202523804 | CM13: Администрация Клепечихинского сельсовета Поспелихинского района | CN13: 1022202562910 | CO13: Администрация Зеленорощинского сельсовета Ребрихинского района | CP13: 1022202575240 | CQ13: Администрация Мирненского сельсовета Родинского района | CR13: 1022202070923 | CS13: Администрация Дубровинского сельсовета Романовского района | CT13: 1022202613828 | CU13: Администрация Веселоярского сельсовета Рубцовского района | CV13: 1022202670269 | CW13: Администрация Линевского сельсовета Смоленского района | CX13: 1022202669598 | CY13: Администрация Никольского сельсовета Советского района | DB13: 1022201943499 | DC13: Администрация Нижнененинского сельсовета Солтонского района | DH13: 1022202733288 | DI13: Администрация Кашкарагаихинского сельсовета Тальменского района | DJ13: 1092205000051 | DK13: Администрация Тогульского сельсовета Тогульского района | DL13: 1022202770941 | DM13: Администрация Кировского сельсовета Топчихинского района | DN13: 1022200729528 | DO13: Администрация Первокаменского сельсовета Третьяковского района | DP13: 1022202194244 | DQ13: Администрация Ереминского сельсовета Троицкого района | DR13: 1022202564163 | DS13: Администрация Грязновского сельсовета Тюменцевского района | DT13: 1022202284356 | DU13: Администрация Павловского сельсовета Угловского района | DV13: 1022202863374 | DW13: Администрация Новокалманского сельсовета Усть-Калманского района | DX13: 1022202864320 | DY13: Администрация Троицкого сельсовета Усть-Пристанского района | DZ13: 1022202891480 | EA13: Администрация Мичуринского сельсовета Хабарского района | EB13: 1022202916328 | EC13: Администрация Еландинского сельсовета Целинного района | EF13: 1022202363831 | EG13: Администрация Кипринского сельсовета Шелаболихинского района | EH13: 1022202954784 | EI13: Администрация Горьковского сельсовета Шипуновского района
A14: 6 | D14: 1022200907156 | E14: Комитет по строительству, архитектуре и развитию г. Барнаула | V14: 1022200509616 | W14: Администрация Дружбинского сельсовета Алейского района | X14: 1022201906209 | Y14: Администрация Куячинского сельсовета Алтайского района | Z14: 1022202150134 | AA14: Администрация Паклинского сельсовета Баевского района | AB14: 1022201948515 | AC14: Администрация Заринского сельсовета Бийского района | AD14: 1022201982330 | AE14: Администрация Нижнекучукского сельсовета Благовещенского района | AF14: 1022200882307 | AG14: Администрация Новосельского сельсовета Бурлинского района | AH14: 1022202668102 | AI14: Администрация Новопокровского сельсовета Быстроистокского района | AJ14: 1022202576120 | AK14: Администрация Коминтерновского сельсовета Волчихинского района | AL14: 1022202611760 | AM14: Администрация Первомайского сельсовета Егорьевского района | AN14: 1022202914800 | AO14: Администрация Пуштулимского сельсовета Ельцовского района | AP14: 1022202071363 | AQ14: Администрация Камышенского сельсовета Завьяловского района | AT14: 1022202103054 | AU14: Администрация Гоношихинского сельсовета Заринского района | AZ14: 1022202769401 | BA14: Администрация Кубанского сельсовета Калманского района | BB14: 1022202149595 | BC14: Администрация Новоярковского сельсовета Каменского района | BF14: 1022202191615 | BG14: Администрацмя Контошинского сельсовета Косихинского района | BH14: 1022201945413 | BI14: Администрация Новоталовского сельсовета Красногорского района | BJ14: 1022202218532 | BK14: Администрация Краснощековского сельсовета Краснощековского района | BL14: 1022202151070 | BM14: Администрация Крутихинского сельсовета Крутихинского района | BP14: 1022202217069 | BQ14: Админитсрация Курьинского сельсовета Курьинского района | BR14: 1022202101063 | BS14: Администрация Порошинского сельсовета Кытмановского района | BT14: 1022202282772 | BU14: Администрация Ермошихинского сельсовета Локтевского района | BV14: 1022202073850 | BW14: Администрация Корчинского сельсовета Мамонтовского района | BX14: 1022202316146 | BY14: Администрация Назаровского сельсовета Михайловского района | CB14: 1022202524849 | CC14: Администрация Поломошенского сельсовета Новичихинского района | CD14: 1022202362995 | CE14: Администрация Комсомольского сельсовета Павловского района | CH14: 1022202406687 | CI14: Администрация Боровихинского сельсовета Первомайского района | CL14: 1022202524387 | CM14: Администрация Красноярского сельсовета Поспелихинского района | CN14: 1022202564086 | CO14: Администрация Зиминского сельсовета Ребрихинского района | CP14: 1022202575306 | CQ14: Администрация Покровского сельсовета Родинского района | CR14: 1022202070670 | CS14: Администрация Закладнинского сельсовета Романовского района | CT14: 1022202611342 | CU14: Администрация Вишневского сельсовета Рубцовского района | CV14: 1022202668146 | CW14: Администрация Новотырышкинского сельсовета Смоленского района | CX14: 1022202670577 | CY14: Администрация Платовского сельсовета Советского района | DB14: 1022201943334 | DC14: Администрация Солтонского сельсовета Солтонского района | DH14: 1022202735060 | DI14: Администрация Курочкинского сельсовета Тальменского района | DJ14: 1022202915790 | DK14: Администрация Топтушинского сельсовета Тогульского района | DL14: 1022202768940 | DM14: Администрация Ключевского сельсовета Топчихинского района | DN14: 1022200730188 | DO14: Администрация Плосковского сельсовета Третьяковского района | DP14: 1022202192540 | DQ14: Администрация Заводского сельсовета Троицкого района | DR14: 1022202563096 | DS14: Администрация Заводского сельсовета Тюменцевского района | DT14: 1022202283047 | DU14: Администрация Симоновского сельсовета Угловского района | DV14: 1022202863539 | DW14: Администрация Огневского сельсовета Усть-Калманского района | DX14: 1022202863935 | DY14: Администрация Усть-Пристанского сельсовета Усть-Пристанского района | DZ14: 1022202891479 | EA14: Администрация Новоильинского сельсовета Хабарского района | EB14: 1022202915459 | EC14: Администрация Ложкинского сельсовета Целинного района | EF14: 1022202364030 | EG14: Администрация Крутишинского сельсовета Шелаболихинского района | EH14: 1022202956698 | EI14: Администрация Ельцовского сельсовета Шипуновского района
A15: 7 | D15: 1232200021096 | E15: Комитет по благоустройству г. Барнаула | V15: 1022200508549 | W15: Администрация Дубровского сельсовета Алейского района | X15: 1022201906143 | Y15: Администрация Макарьевского сельсовета Алтайского района | Z15: 1022202150772 | AA15: Администрация Плотавского сельсовета Баевского района | AB15: 1022201949770 | AC15: Администрация Калининского сельсовета Бийского района | AD15: 1022201982296 | AE15: Администрация Николаевского сельсовета Благовещенского района | AF15: 1022200883308 | AG15: Администрация Ореховского сельсовета Бурлинского района | AH15: 1022202668465 | AI15: Администрации Приобского сельсовета Быстроистокского района | AJ15: 1022202575889 | AK15: Администрация Малышево-Логовского сельсовета Волчихинского района | AL15: 1022202611705 | AM15: Администрация Сростинского сельсовета Егорьевского района | AN15: 1022202918330 | AO15: Администрация Черемшанского сельсовета Ельцовского района | AP15: 1022202071132 | AQ15: Администрация Малиновского сельсовета Завьяловского района | AT15: 1022202102218 | AU15: Администрация Гришинского сельсовета Заринского района | AZ15: 1022202771590 | BA15: Администрация Новоромановского сельсовета Калманского района | BB15: 1022202149694 | BC15: Администрация Плотниковского сельсовета Каменского района | BF15: 1022202191549 | BG15: Администрация Косихинского сельсовета Косихинского района | BH15: 1022201944819 | BI15: Администрация Соусканихинского сельсовета Красногорского района | BJ15: 1022202217267 | BK15: Администрация Маралихинского сельсовета Краснощековского района | BL15: 1022202151322 | BM15: Администрация Маловолчанского сельсовета Крутихинского района | BP15: 1022202217762 | BQ15: Админитсрация Бугрышихинского сельсовета Курьинского района | BR15: 1022202100964 | BS15: Администрация Семено - Красиловского сельсовета Кытмановского района | BT15: 1022202282673 | BU15: Администрация Золотухинского сельсовета Локтевского района | BV15: 1022202072496 | BW15: Администрация Костино-Логовского сельсовета Мамонтовского района | BX15: 1022202316212 | BY15: Администрация Полуямского сельсовета Михайловского района | CB15: 1022202525520 | CC15: Администрация Солоновского сельсовета Новичихинского района | CD15: 1022202362984 | CE15: Администрация Лебяжинского сельсовета Павловского района | CH15: 1022202409481 | CI15: Администрация Жилинского сельсовета Первомайского района | CL15: 1022202523860 | CM15: Администрация 12 Лет Октября сельсовета Поспелихинского района | CN15: 1022202563184 | CO15: Администрация Клочковского сельсовета Ребрихинского района | CP15: 1022202575427 | CQ15: Администрация Раздольненского сельсовета Родинского района | CR15: 1022202070659 | CS15: Администрация Казанцевского сельсовета Романовского района | CT15: 1022202612618 | CU15: Администрация Дальнего сельсовета Рубцовского района | CV15: 1022202668971 | CW15: Администрация Смоленского сельсовета Смоленского района | CX15: 1022202670600 | CY15: Администрация Половинского сельсовета Советского района | DB15: 1022201944269 | DC15: Администрация Сузопского сельсовета солтонского района | DH15: 1022202736236 | DI15: Администрация Ларичихинского сельсовета Тальменского района | DJ15: 1062205001330 | DK15: Главное управление экономики Администрации Тогульского района Алтайского края | DL15: 1022202769270 | DM15: Администрация Красноярского сельсовета Топчихинского района | DN15: 1022200730298 | DO15: Администрация Садового сельсовета Третьяковского района | DP15: 1022202193760 | DQ15: Администрация Зеленополянского сельсовета Троицкого района | DR15: 1022202565659 | DS15: Администрация Ключевского сельсовета Тюменцевского района | DT15: 1022202282937 | DU15: Администрация Тополинского сельсовета Угловского района | DV15: 1022202863891 | DW15: Администрация Пономаревского сельсовета Усть-Калманского района | DX15: 1022202864386 | DY15: Администрация Коробейниковского сельсовета Усть-Пристанского района | DZ15: 1022202891589 | EA15: Администрация Плесо-Курьинского сельсовета Хабарского района | EB15: 1022202915063 | EC15: Администрация Марушинского сельсовета Целинного района | EF15: 1022202364062 | EG15: Администрация Кучукского сельсовета Шелаболихинского района | EH15: 1022202955026 | EI15: Администрация Зеркальского сельсовета Шипуновского района
A16: 8 | D16: 1022200908839 | E16: Комитет по физической культуре и спорту г. Барнаула | V16: 1022200508087 | W16: Администрация Заветильичевского сельсовета Алейского района | X16: 1022201907090 | Y16: Администрация Нижнекаменского сельсовета Алтайского района | Z16: 1022202150783 | AA16: Администрация Прослаухинского сельсовета Баевского района | AB16: 1022201945589 | AC16: Администрация Лесного сельсовета Бийского района | AD16: 1022201983396 | AE16: Администрация Новокулундинского сельсовета Благовещенского района | AF16: 1022200882571 | AG16: Администрация Партизанского сельсовета Бурлинского района | AH16: 1022202668311 | AI16: Администрация Усть-Ануйского сельсовета Быстроистокского района | AJ16: 1022202575966 | AK16: Администрация Новокормихинского сельсовета Волчихинского района | AL16: 1022202611694 | AM16: Администрация Титовского сельсовета Егорьевского района | AP16: 1022202072738 | AQ16: Администрация Овечкинского сельсовета Завьяловского района | AT16: 1022202103109 | AU16: Администрация Жуланихинского сельсовета Заринского района | AZ16: 1022202770864 | BA16: Администрация Обского сельсовета Калманского района | BB16: 1022202149397 | BC16: Администрация Пригородного сельсовета Каменского района | BF16: 1022202191505 | BG16: Администрация Лосихинского сельсовета Косихинского района | BH16: 1022201945622 | BI16: Администрация Усть-Ишинского сельсовета Красногорского района | BJ16: 1022202218830 | BK16: Администрация Новошипуновского сельсовета Краснощековского района | BL16: 1022202151157 | BM16: Администрация Новодубровского сельсовета Крутихинского района | BP16: 1022202218037 | BQ16: Админитсрация Ивановского сельсовета Курьинского района | BR16: 1022202101481 | BS16: Администрация Сунгайского сельсовета Кытмановского района | BT16: 1022202282750 | BU16: Администрация Кировского сельсовета Локтевского района | BV16: 1022202072848 | BW16: Администрация Крестьянского сельсовета Мамонтовского района | BX16: 1022202316080 | BY16: Администрация Ракитовского сельсовета Михайловского района | CB16: 1022202523595 | CC16: Администрация Токаревского сельсовета Новичихинского района | CD16: 1022202365679 | CE16: Администрация Новозоринского сельсовета Павловского района | CH16: 1022202407578 | CI16: Администрация Журавлихинского сельсовета Первомайского района | CL16: 1022202524486 | CM16: Администрация Мамонтовского сельсовета Поспелихинского района | CN16: 1022202563404 | CO16: Администрация Пановского сельсовета Ребрихинского района | CP16: 1022202576065 | CQ16: Администрация Родинского сельсовета Родинского района | CR16: 1022202070880 | CS16: Администрация Майского сельсовета Романовского района | CT16: 1022202613938 | CU16: Администрация Куйбышевского сельсовета Рубцовского района | CV16: 1022202670434 | CW16: Администрация Солоновского сельсовета Смоленского района | CX16: 1022202670566 | CY16: Администрация Сетовского сельсовета Советского района | DH16: 1112208003357 | DI16: Администрация Луговского сельсовета Тальменского района | DL16: 1022202769214 | DM16: Администрация Макарьевского сельсовета Топчихинского района | DN16: 1022200729561 | DO16: Администрация Староалейского сельсовета Третьяковского района | DP16: 1022202193860 | DQ16: Администрация Кипешинского сельсовета Троицкого района | DR16: 1022202565428 | DS16: Администрация Королёвского сельсовета Тюменцевского района | DT16: 1022202282520 | DU16: Администрация Угловского сельсовета Угловского района | DV16: 1022202862879 | DW16: Администрация Приозерного сельсовета Усть-Калманского района | DX16: 1022202864287 | DY16: Администрация Нижнеозернинского сельсовета Усть-Пристанского района | DZ16: 1022202893360 | EA16: Администрация Свердловского сельсовета Хабарского района | EB16: 1022202915976 | EC16: Администрация Овсянниковского сельсовета Целинного района | EF16: 1022202365680 | EG16: Администрация Макаровского сельсовета Шелаболихинского района | EH16: 1022202956160 | EI16: Администрация Ильинского сельсовета Шипуновского района
A17: 9 | D17: 1022200895441 | E17: Администрация Железнодорожного района г. Барнаула | V17: 1022200508714 | W17: Администрация Кашинского сельсовета Алейского района | X17: 1022201907430 | Y17: Администрация Пролетарского сельсовета Алтайского района | Z17: 1022202150123 | AA17: Администрация Ситниковского сельсовета Баевского района | AB17: 1022201945765 | AC17: Администрация Малоенисейского сельсовета Бийского района | AD17: 1022201982351 | AE17: Администрация Орлеанского сельсовета Благовещенского района | AF17: 1022200882296 | AG17: Администрация Рожковского сельсовета Бурлинского района | AH17: 1022202668432 | AI17: Администрация Хлеборобного сельсовета Быстроистокского района | AJ17: 1022202575890 | AK17: Администрация Пятковологовского сельсовета Волчихинского района | AL17: 1022202611947 | AM17: Администрация Шубинского сельсовета Егорьевского района | AP17: 1022202072232 | AQ17: Администрация Светловского сельсовета Завьяловского района | AT17: 1022202104473 | AU17: Администрация Зыряновского сельсовета Заринского района | AZ17: 1022202768873 | BA17: Администрация Усть-Алейского сельсовета Калманского района | BB17: 1022202149386 | BC17: Администрация Попереченского сельсовета Каменского района | BF17: 1022202193463 | BG17: Администрация Малаховского сельсовета Косихинского района | BH17: 1022201945787 | BI17: Администрация Усть-Кажинского сельсовета Красногорского района | BJ17: 1022202217344 | BK17: Администрация Суетского сельсовета Краснощековского района | BL17: 1022202150695 | BM17: Администрация Подборного сельсовета Крутихинского района | BP17: 1022202217861 | BQ17: Админитсрация Краснознаменского сельсовета Курьинского района | BR17: 1022202101404 | BS17: Администрация Тягунского сельсовета Кытмановского района | BT17: 1022202282816 | BU17: Администрация Локтевского сельсовета Локтевского района | BV17: 1022202071748 | BW17: Администрация Мамонтовского сельсовета Мамонтовского района | CD17: 1022202365074 | CE17: Администрация Павловского сельсовета Павловского района | CH17: 1022202406225 | CI17: Администрация Зудиловского сельсовета Первомайского района | CL17: 1022202524464 | CM17: Администрация Николаевского сельсовета Поспелихинского района | CN17: 1022202562590 | CO17: Администрация Плоскосеминского сельсовета Ребрихинского района | CP17: 1022202575493 | CQ17: Администрация Степновского сельсовета Родинского района | CR17: 1022202070747 | CS17: Администрация Мормышанского сельсовета Романовского района | CT17: 1022202613290 | CU17: Администрация Новоалександровского сельсовета Рубцовского района | CV17: 1022202670236 | CW17: Администрация Сычёвского сельсовета Смоленского района | CX17: 1022202668740 | CY17: Администрация Советского сельсовета Советского района | DH17: 1022202734950 | DI17: Администрация Лушниковского сельсовета Тальменского района | DL17: 1022202768587 | DM17: Администрация Парфеновского сельсовета Топчихинского района | DN17: 1022200730199 | DO17: Администрация Третьяковского сельсовета Третьяковского района | DP17: 1022202194013 | DQ17: Администрация Петровского сельсовета Троицкого района | DR17: 1022202563679 | DS17: Администрация Мезенцевского сельсовета Тюменцевского района | DT17: 1022202283718 | DU17: Комитет администрации Угловского района по образованию и делам молодёжи Алтайского края | DV17: 1022202863308 | DW17: Администрация Усть-Калманского сельсовета Усть-Калманского района | DX17: 1022202863957 | DY17: Администрация Беловского сельсовета Усть-Пристанского района | DZ17: 1022202891765 | EA17: Администрация Тополинского сельсовета Хабарского района | EB17: 1022202915514 | EC17: Администрация Степно-Чумышского сельсовета Целинного района | EF17: 1022202365173 | EG17: Администрация Новообинцевского сельсовета Шелаболихинского района | EH17: 1022202956401 | EI17: Администрация Комарихинского сельсовета Шипуновского района
A18: 10 | D18: 1022201128905 | E18: Администрация Индустриального района г. Барнаула | V18: 1022200509484 | W18: Администрация Кировского сельсовета Алейского района | X18: 1022201907012 | Y18: Администрация Россошинского сельсовета Алтайского района | Z18: 1022202150057 | AA18: Комитет Администрации Баевского района по образованию | AB18: 1022201945127 | AC18: Администрация Малоугреневского сельсовета Бийского района | AD18: 1022201982318 | AE18: Администрация Степноозерского поссовета Благовещенского района | AF18: 1022200882990 | AG18: Администрация Устьянского сельсовета Бурлинского района | AJ18: 1022202575790 | AK18: Администрация Селивёрстовского сельсовета Волчихинского района | AP18: 1022202071286 | AQ18: Администрация Тумановского сельсовета Завьяловского района | AT18: 1022202102207 | AU18: Администрация Комарского сельсовета Заринского района | AZ18: 1022202768280 | BA18: Администрация Шадринского сельсовета Калманского района | BB18: 1022202149353 | BC18: Администрация Рыбинского сельсовета Каменского района | BF18: 1022202193276 | BG18: Администрация Налобихинского сельсовета Косихинского района | BJ18: 1022202217707 | BK18: Администрация Усть-Беловского сельсовета Краснощековского района | BL18: 1022202151245 | BM18: Администрация Прыганского сельсовета Крутихинского района | BP18: 1022202217872 | BQ18: Админитсрация Новофирсовского сельсовета Курьинского района | BR18: 1022202101338 | BS18: Администрация Тяхтинского сельсовета Кытмановского района | BT18: 1022202282827 | BU18: Администрация Масальского сельсовета Локтевского района | BV18: 1022202072870 | BW18: Администрация Островновского сельсовета Мамонтовского района | CD18: 1022202363479 | CE18: Администрация Павлозаводского сельсовета Павловского района | CH18: 1022202406632 | CI18: Администрация Логовского сельсовета Первомайского района | CL18: 1022202524662 | CM18: Администрация Озимовского сельсовета Поспелихинского района | CN18: 1022202563426 | CO18: Администрация Подстепновского сельсовета Ребрихинского района | CP18: 1022202575680 | CQ18: Администрация Степно-Кучукского сельсовета Родинского района | CR18: 1022202070758 | CS18: Администрация Рассветовского сельсовета Романовского района | CT18: 1022202610946 | CU18: Администрация Новониколаевского сельсовета Рубцовского района | CV18: 1022202669829 | CW18: Администрация Точилинского сельсовета Смоленского района | CX18: 1022202669521 | CY18: Администрация Талицкого сельсовета Советского района | DH18: 1022202735367 | DI18: Администрация Новоозёрского сельсовета Тальменского района | DL18: 1022202768576 | DM18: Администрация Переясловского сельсовета Топчихинского района | DN18: 1022200729407 | DO18: Администрация Шипунихинского сельсовета Третьяковского района | DP18: 1022202191263 | DQ18: Администрация Троицкого сельсовета Троицкого района | DR18: 1022202562689 | DS18: Администрация Новокарповского сельсовета Тюменцевского района | DV18: 1022202863253 | DW18: Администрация Чарышского сельсовета Усть-Калманского района | DX18: 1022202863649 | DY18: Администрация Брусенцевского сельсовета Усть-Пристанского района | DZ18: 1022202891666 | EA18: Администрация Утянского сельсовета Хабарского района | EB18: 1022202915646 | EC18: Администрация Сухо-Чемровского сельсовета Целинного района | EF18: 1022202362885 | EG18: Администрация Шелаболихинского сельсовета Шелаболихинского района | EH18: 1022202955609 | EI18: Администрация Краснояровского сельсовета Шипуновского района
A19: 11 | D19: 1022201145768 | E19: Власихинская сельская администрация Индустриального района г. Барнаула | V19: 1022200507966 | W19: Администрация Краснопартизанского сельсовета Алейского района | X19: 1022201907188 | Y19: Администрация Старобелокурихинского сельсовета Алтайского района | Z19: 1022202151058 | AA19: Комитет по экономике и земельным отношениям Администрации Баевского района | AB19: 1022201945105 | AC19: Администрация Новиковского сельсовета Бийского района | AD19: 1022201982307 | AE19: Администрация Суворовского сельсовета Благовещенского района | AJ19: 1022202577198 | AK19: Администрация Солоновского сельсовета Волчихинского района | AP19: 1022202072100 | AQ19: Администрация Харитоновского сельсовета Завьяловского района | AT19: 1022202104440 | AU19: Администрация Новодраченинского сельсовета Заринского района | AZ19: 1022202768367 | BA19: Администрация Шиловского сельсовета Калманского района | BB19: 1022202149640 | BC19: Администрация Столбовского сельсовета Каменского района | BF19: 1022202193441 | BG19: Администрация Плотниковского сельсовета Косихинского района | BJ19: 1022202217180 | BK19: Администрация Усть-Козлухинского сельсовета Краснощековского района | BP19: 1022202216630 | BQ19: Админитсрация Усть-Таловского сельсовета Курьинского района | BR19: 1022202101052 | BS19: Администрация Червовского сельсовета Кытмановского района | BT19: 1022202282728 | BU19: Администрация Николаевского сельсовета Локтевского района | BV19: 1022202072771 | BW19: Администрация Покровского сельсовета Мамонтовского района | CD19: 1022202362401 | CE19: Администрация Прутского сельсовета Павловского района | CH19: 1022202408491 | CI19: Администрация Новоберезовского сельсовета Первомайского района | CL19: 1022202524520 | CM19: Администрация Поспелихинского сельсовета Поспелихинского района | CN19: 1022202563349 | CO19: Администрация Ребрихинского сельсовета Ребрихинского района | CP19: 1022202575471 | CQ19: Администрация Центрального сельсовета Родинского района | CR19: 1022202070934 | CS19: Администрация Романовского сельсовета Романовского района | CT19: 1022202614037 | CU19: Администрация Новороссийского сельсовета Рубцовского района | CV19: 1022202669774 | CW19: Комитет по образованию Смоленского района Алтайского края | CX19: 1022202669147 | CY19: Администрация Урожайного сельсовета Советского района | DH19: 1022202733387 | DI19: Администрация Новоперуновского сельсовета Тальменского района | DL19: 1022202768246 | DM19: Администрация Победимского сельсовета Топчихинского района | DN19: 1022200730364 | DO19: Комитет администрации Третьяковского района Алтайского края по образованию | DP19: 1022202193991 | DQ19: Администрация Хайрюзовского сельсовета Троицкого района | DR19: 1022202562810 | DS19: Администрация Тюменцевского сельсовета Тюменцевского района | DX19: 1022202864606 | DY19: Администрация Елбанского сельсовета Усть-Пристанского района | DZ19: 1022202891578 | EA19: Администрация Хабарского сельсовета Хабарского района | EB19: 1022202915602 | EC19: Администрация Хомутинского сельсовета Целинного района | EH19: 1022202954861 | EI19: Администрация Нечунаевского сельсовета Шипуновского района
A20: 12 | D20: 1022201386900 | E20: Администрация Ленинского района г. Барнаула | V20: 1022200508571 | W20: Администрация Малиновского сельсовета Алейского района | AB20: 1022201945700 | AC20: Администрация Первомайского сельсовета Бийского района | AD20: 1022201982406 | AE20: Администрация Шимолинского сельсовета Благовещенского района | AJ20: 1022202575955 | AK20: Администрация Усть-Волчихинского сельсовета Волчихинского района | AP20: 1022202071814 | AQ20: Администрация Чернавского сельсовета Завьяловского района | AT20: 1022202103010 | AU20: Администрация Новозыряновского сельсовета Заринского района | BB20: 1022202149441 | BC20: Администрация Телеутского сельсовета Каменского района | BF20: 1022202192583 | BG20: Администрация Полковниковского сельсовета Косихинского района | BJ20: 1022202218895 | BK20: Администрация Усть-Пустынского сельсовета Краснощековского района | BT20: 1022202282684 | BU20: Администрация Новенского сельсовета Локтевского района | BV20: 1022202072837 | BW20: Администрация Сусловского сельсовета Мамонтовского района | CD20: 1022202363853 | CE20: Администрация Рогозихинского сельсовета Павловского района | CH20: 1022202405653 | CI20: Администрация Первомайского сельсовета Первомайского района | CL20: 1022202524410 | CM20: Администрация Поспелихинского Центрального сельсовета Поспелихинского района | CN20: 1022202563008 | CO20: Администрация Рожне-Логовского сельсовета Ребрихинского района | CP20: 1022202575350 | CQ20: Администрация Шаталовского сельсовета Родинского района | CR20: 1022202070802 | CS20: Администрация Сидоровского сельсовета Романовского района | CT20: 1022202611595 | CU20: Администрация Новосклюихинского сельсовета Рубцовского района | CX20: 1022202669037 | CY20: Администрация Шульгин-Логского сельсовета Советского района | DH20: 1022202733365 | DI20: Администрация Новотроицкого сельсовета Тальменского района | DL20: 1022202768510 | DM20: Администрация Покровского сельсовета Топчихинского района | DP20: 1022202193837 | DQ20: Администрация Южаковского сельсовета Троицкого района | DR20: 1022202564097 | DS20: Администрация Урывского сельсовета Тюменцевского района | DX20: 1022202866950 | DY20: Администрация Клепиковского сельсовета Усть-Пристанского района | EB20: 1022202915690 | EC20: Администрация Целинного сельсовета Целинного района | EH20: 1022202955862 | EI20: Администрация Первомайского сельсовета Шипуновского района
A21: 13 | D21: 1022201394984 | E21: Научногородокская сельская администрация Ленинского района г. Барнаула | V21: 1022200510903 | W21: Администрация Моховского сельсовета Алейского района | AB21: 1022201945303 | AC21: Администрация Светлоозерского сельсовета Бийского района | AD21: 1022201982362 | AE21: Администрация Яготинского сельсовета Благовещенского района | AJ21: 1022202575801 | AK21: Комитет Администрации Волчихинского района Алтайского района по образованию и делам молодежи | AP21: 1022202072661 | AQ21: Администрация Чистоозёрского сельсовета Завьяловского района | AT21: 1082205000921 | AU21: Администрация Новокопыловского сельсовета Заринского района | BB21: 1022202149408 | BC21: Администрация Толстовского сельсовета Каменского района | BJ21: 1022202217729 | BK21: Администрация Харловского сельсовета Краснощековского района | BT21: 1022202282695 | BU21: Администрация Новомихайловского сельсовета Локтевского района | BV21: 1022202072309 | BW21: Администрация Тимирязевского сельсовета Мамонтовского района | CD21: 1022202364580 | CE21: Администрация Стуковского сельсовета Павловского района | CH21: 1022202406984 | CI21: Администрация Повалихинского сельсовета Первомайского района | CN21: 1022202562513 | CO21: Администрация Станционно-Ребрихинского сельсовета Ребрихинского района | CP21: 1022202575075 | CQ21: Администрация Ярослав-Логовского сельсовета Родинского района | CR21: 1022202071583 | CS21: Администрация Тамбовского сельсовета Романовского района | CT21: 1022202611562 | CU21: Администрация Половинкинского сельсовета Рубцовского района | CX21: 1022202670302 | CY21: Администрация Шульгинского сельсовета Советского района | DH21: 1022202733398 | DI21: Администрация Озерского сельсовета Тальменского района | DL21: 1022202770204 | DM21: Администрация Сидоровского сельсовета Топчихинского района | DR21: 1022202562711 | DS21: Администрация Черемшанского сельсовета Тюменцевского района | DX21: 1022202864408 | DY21: Администрация Чеканихинского сельсовета Усть-Пристанского района | EB21: 1022202917285 | EC21: Администрация Шалапского сельсовета Целинного района | EH21: 1022202955400 | EI21: Администрация Порожненского сельсовета Шипуновского района
A22: 14 | D22: 1022201523926 | E22: Администрация Октябрьского района г. Барнаула | V22: 1022200508527 | W22: Администрация Осколковского сельсовета Алейского района | AB22: 1022201946689 | AC22: Администрация Сростинского сельсовета Бийского района | AP22: 1022202070220 | AQ22: Комитет по образованию администрации Завьяловского района Алтайского края | AT22: 1022202102328 | AU22: Администрация Новомоношкинского сельсовета Заринского района | BB22: 1022202149430 | BC22: Администрация Филипповского сельсовета Каменского района | BJ22: 1022202217201 | BK22: Администрация Чинетинского сельсовета Краснощековского района | BT22: 1022202282717 | BU22: Администрация Покровского сельсовета Локтевского района | BV22: 1022202073717 | BW22: Администрация Чернокурьинского сельсовета Мамонтовского района | CD22: 1032200610782 | CE22: Администрация Чернопятовского сельсовета Павловского района | CH22: 1022202409393 | CI22: Администрация Рассказихинского сельсовета Первомайского района | CN22: 1022202564450 | CO22: Администрация Усть-Мосихинкого сельсовета Ребрихинского района | CT22: 1022202611310 | CU22: Администрация Ракитовского сельсовета Рубцовского района | DH22: 1022202734135 | DI22: Администрация Речкуновского сельсовета Тальменского района | DL22: 1022202768092 | DM22: Администрация Топчихинского сельсовета Топчихинского района | DR22: 1022202565703 | DS22: Администрация Шарчинского сельсовета Тюменцевского района | DX22: 1022202865080 | DY22: Администрация Нижнегусихинского сельсовета Усть-Пристанского района | EH22: 1022202956093 | EI22: Администрация Родинского сельсовета Шипуновского района
A23: 15 | D23: 1022201775969 | E23: Администрация Центрального района г. Барнаула | V23: 1022200507845 | W23: Администрация Плотавского сельсовета Алейского района | AB23: 1022201944984 | AC23: Администрация Усятского сельсовета Бийского района | AT23: 1022202104320 | AU23: Администрация Смазневского сельсовета Заринского района | BT23: 1022202282838 | BU23: Администрация Ремовского сельсовета Локтевского района | BV23: 1022202072397 | BW23: Комитет Администрации Мамонтовского района по Образованию | CD23: 1022202364051 | CE23: Администрация Черемновского сельсовета Павловского района | CH23: 1022202409547 | CI23: Администрация Санниковского сельсовета Первомайского района | CT23: 1022202614060 | CU23: Администрация Рубцовского сельсовета Рубцовского района | DH23: 1022202734620 | DI23: Администрация Среднесибирского сельсовета Тальменского района | DL23: 1022202768466 | DM23: Администрация Фунтиковского сельсовета Топчихинского района | DR23: 1022202563668 | DS23: Администрация Юдихинского сельсовета Тюменцевского района | EH23: 1022202956522 | EI23: Администрация Российского сельсовета Шипуновского района
A24: 16 | D24: 1022201769732 | E24: Южная поселковая администрация г. Барнаула | V24: 1022200508604 | W24: Администрация Савинского сельсовета Алейского района | AB24: 1022201946447 | AC24: Администрация Шебалинского сельсовета Бийского района | AT24: 1022202102273 | AU24: Администрация Сосновского сельсовета Заринского района | BT24: 1022202282783 | BU24: Администрация Самарского сельсовета Локтевского района | CD24: 1022202363842 | CE24: Администрация Шаховского сельсовета Павловского района | CH24: 1022202408447 | CI24: Администрация Северного сельсовета Первомайского района | CT24: 1022202611540 | CU24: Администрация Самарского сельсовета Рубцовского района | DH24: 1022202734806 | DI24: Администрация Староперуновского сельсовета Тальменского района | DL24: 1022202768389 | DM24: Администрация Хабазинского сельсовета Топчихинского района | DR24: 1022202563591 | DS24: Комитет администрации Тюменцевского района по образованию Алтайского края | EH24: 1022202953772 | EI24: Администрация Самсоновского сельсовета Шипуновского района
A25: 17 | D25: 1022201767444 | E25: Лебяжинская сельская администрация г. Барнаула | V25: 1022200507922 | W25: Администрация Совхозного сельсовета Алейского района | AT25: 1022202102284 | AU25: Администрация Стародраченинского сельсовета Заринского района | BT25: 1022202282706 | BU25: Администрация Успенского сельсовета Локтевского района | CH25: 1022202406852 | CI25: Администрация Сибирского сельсовета Первомайского района | CT25: 1022202615368 | CU25: Администрация Саратовского сельсовета Рубцовского района | DH25: 1022202735598 | DI25: Администрация Тальменского поссовета Тальменского района | DL25: 1022202769269 | DM25: Администрация Чаузовского сельсовета Топчихинского района | EH25: 1022202955543 | EI25: Администрация Тугозвоновского сельсовета Шипуновского района Алтайского края
A26: 18 | V26: 1022200507834 | W26: Администрация Урюпинского сельсовета Алейского района | AT26: 1032201300120 | AU26: Администрация Тягунского сельсовета Заринского района | BT26: 1022202282739 | BU26: Администрация Устьянского сельсовета Локтевского района | CH26: 1022202407810 | CI26: Администрация Солнечного сельсовета Первомайского района | CT26: 1022202614202 | CU26: Администрация Тишинского сельсовета Рубцовского района | DH26: 1022202736599 | DI26: Администрация Шадринцевского сельсовета Тальменского района | DL26: 1022202770567 | DM26: Администрация Чистюньского сельсовета Топчихинского района | EH26: 1022202955741 | EI26: Администрация Урлаповского сельсовета Шипуновского района
A27: 19 | V27: 1022200507890 | W27: Администрация Фрунзенского сельсовета Алейского района | AT27: 1022202102251 | AU27: Администрация Хмелевского сельсовета Заринского района | BT27: 1022202282651 | BU27: Администрация города Горняка Локтевского района Алтайского края | CH27: 1022202407501 | CI27: Администрация Сорочелоговского сельсовета Первомайского района | DH27: 1022202735301 | DI27: Администрация Шишкинского сельсовета Тальменского района | EH27: 1022202955510 | EI27: Администрация Хлопуновского сельсовета Шипуновского района
A28: 20 | V28: 1022200510496 | W28: Администрация Чапаевского сельсовета Алейского района | AT28: 1022202102449 | AU28: Администрация Шпагинского сельсовета Заринского района | EH28: 1022202955246 | EI28: Администрация Шипуновского сельсовета Шипуновского района
A29: 21 | AT29: 1022202104264 | AU29: Администрация Яновского сельсовета Заринского района

Sheet НОВЫЙ_ФОРМАТ_тест
D3: Порядковый номер | E3: 1 | F3: 2 | G3: 3 | H3: 4 | I3: 5 | J3: 6 | K3: 7 | L3: 8 | M3: 9 | N3: 10 | O3: 11 | P3: 12 | Q3: 13 | R3: 14 | S3: 15 | T3: 16 | U3: 17 | V3: 18 | W3: 19 | X3: 20 | Y3: 21 | Z3: 22 | AA3: 23 | AB3: 24 | AC3: 25 | AD3: 26 | AE3: 27 | AF3: 28 | AG3: 29 | AH3: 30 | AI3: 31 | AJ3: 32 | AK3: 33 | AL3: 34 | AM3: 35 | AN3: 36 | AO3: 37 | AP3: 38
D4: С ЕПГУ заявления по услугам маршрутизируются в информационную систему: | E4: ПГС | F4: ПГС | G4: ПГС | H4: ПГС | I4: ПГС | J4: ПГС | K4: ПГС | L4: ПГС | M4: ПГС | N4: ПГС | O4: ПГС на ГосТех | P4: ПГС | Q4: ПГС | R4: ПГС | S4: ПГС | T4: ПГС на ГосТех | U4: ПГС на ГосТех | V4: ПГС | W4: ПГС на ГосТех | X4: ПГС | Y4: ПГС | Z4: ПГС | AA4: ПГС | AB4: ПГС | AC4: ПГС | AD4: ПГС | AE4: ПГС на ГосТех | AF4: ПГС | AG4: ПГС | AH4: ПГС | AI4: ПГС | AJ4: ПГС | AK4: ПГС | AL4: ПГС | AM4: ПГС | AN4: ПГС | AO4: ПГС на ГосТех | AP4: ПГС
D5: Номер услуги изрегионального перечня(протокол от 11.07.2022 №3) | E5: 1 | F5: 2 | G5: 3 | H5: 4 | I5: 6 | J5: 7 | K5: 9 | L5: 14 | M5: 15 | N5: 19 | O5: 22 | P5: 24 | Q5: 25 | R5: 27 | S5: 33 | T5: 34 | U5: 35 | V5: 36 | W5: 37 | X5: 38 | Y5: 39 | Z5: 40 | AA5: 41 | AB5: 44 | AC5: 46 | AD5: 48 | AE5: 50 | AF5: 54 | AG5: 55 | AH5: 56 | AI5: 58 | AJ5: 64 | AK5: 68 | AL5: 74 | AM5: 84 | AN5: 53 | AO5: 86 | AP5: 18
D6: Наименование услуги в перечне МСЗУ Алтайского края/Наименование ОМСУ | E6: Выдача разрешения на ввод объекта в эксплуатацию | F6: Выдача разрешения на строительство объекта капитального строительства (муниципальная) | G6: Направление уведомления о соответствии построенных или реконструированных объектов индивидуального жилищного строительства или садового дома требованиям законодательства Российской Федерации о градостроительной деятельности | H6: Направление уведомления о соответствии указанных в уведомлении о планируемом строительстве параметров объекта индивидуального жилищного строительства или садового дома установленным параметрам и допустимости размещения объекта индивидуального жилищного строительства или садового дома на земельном участке | I6: Выдача градостроительного плана земельного участка | J6: Выдача разрешений на право вырубки зеленых насаждений | K6: Назначение выплаты компенсации части платы, взимаемой с родителей (законных представителей) за присмотр и уход за ребенком в образовательных организациях Алтайского края, реализующих образовательную программу дошкольного образования | L6: Перераспределение земельных участков, находящихся в собственности Алтайского края, или земель и (или) земельных участков, государственная собственность на которые не разграничена, и земельных участков, находящихся в частной собственности | M6: Предоставление разрешения на осуществление земляных работ | N6: Присвоение адреса объекту адресации, изменение и аннулирование такого адреса | O6: Согласование проведения переустройства и (или) перепланировки помещения в многоквартирном доме | P6: Утверждение схемы расположения земельного участка или земельных участков на кадастровом плане территории (муниципальная) | Q6: Предоставление земельного участка, находящегося в муниципальной собственности, или государственная собственность на который не разграничена, на торгах | R6: Информационное обеспечение физических и юридических лиц на основе документов Архивного фонда Российской Федерации и других архивных документов, предоставление архивных справок, архивных выписок и копий архивных документов | S6: Направление уведомления о планируемом сносе объекта капитального строительства и уведомления о завершении сноса объекта капитального строительства | T6: Признание садового дома жилым домом и жилого дома садовым домом | U6: Перевод жилого помещения в нежилое помещение и нежилого помещения в жилое помещение | V6: Предоставление разрешения на отклонение от предельных параметров разрешенного строительства, реконструкции объекта капитального строительства | W6: Выдача разрешения на установку и эксплуатацию рекламных конструкций на соответствующей территории, аннулирование такого разрешения | X6: Выдача разрешения на использование земель или земельных участков, находящихся в государственной собственности, без предоставления земельных участков и установления сервитута, публичного сервитута | Y6: Перевод земельных участков из одной категории в другую | Z6: Заключение соглашения об установлении сервитута в отношении земельных участков, находящихся в муниципальной собственности, и земельных участков, государственная собственность на которые не разграничена | AA6: Выдача акта освидетельствования проведения основных работ по строительству (реконструкции) объекта индивидуального жилищного строительства с привлечением средств материнского (семейного) капитала | AB6: Оформление свидетельств об осуществлении перевозок по маршруту регулярных перевозок и карт маршрута регулярных перевозок, переоформление свидетельств об осуществлении перевозок по маршруту регулярных перевозок и карт маршрута регулярных перевозок | AC6: Подготовка и утверждение документации по планировке территории | AD6: Предоставление разрешения на условно разрешенный вид использования земельного участка или объекта капитального строительства | AE6: Установление информационной вывески, согласование дизайн-проекта размещения вывески | AF6: Предварительное согласование предоставления земельного участка (муниципальная услуга) | AG6: Предоставление в собственность, аренду, постоянное (бессрочное) пользование, безвозмездное пользование земельного участка, находящегося в государственной или муниципальной собственности, без проведения торгов (муниципальная услуга) | AH6: Рассмотрение заявлений и принятие решений о предоставлении в собственность бесплатно земельного участка садоводческому, огородническому или дачному некоммерческому объединению граждан, а также членам садоводческого, огороднического или дачного некоммерческого объединения граждан | AI6: Принятие на учет граждан в качестве, нуждающихся в жилых помещениях | AJ6: Предоставление жилого помещения по договору социального найма | AK6: Ежемесячная выплаты на содержание ребенка в семье опекуна (попечителя), приемной семье | AL6: Выдача (направление) акта органа опеки и попечительства о назначении (об отказе в назначении) опекуна или заключения органа опеки и попечительства о возможности (невозможности) гражданина быть опекуном | AM6: Предоставление выписки из реестра объектов муниципальной собственности | AN6: Постановка граждан на учет в качестве лиц, имеющих право на предоставление земельных участков в собственность бесплатно | AO6: Передача в собственность граждан занимаемых ими жилых помещений жилищного фонда (приватизация жилищного фонда) | AP6: Присвоение спортивных разрядов
C7: ОРГН (скрыть строку) | D7: Код услуги ЕСНСИ | E7: -10000115324 | F7: 10003773828 | G7: -10000115326 | H7: -10000115325 | I7: -10000115323 | J7: -10000115373 | K7: -10000115342 | L7: -10000115356 | M7: -10000115338 | N7: -10000115329 | O7: -10000115341 | P7: -10000115345 | Q7: -10000115352 | R7: -10000115361 | S7: -10000115360 | T7: -10000115343 | U7: -10000115354 | V7: -10000115349 | W7: -10000115331 | X7: -10000115359 | Y7: -10000115367 | Z7: -10000115366 | AA7: -10000115347 | AB7: -10000115365 | AC7: -10000115371 | AD7: -10000115339 | AE7: -10000000215 | AF7: -10000000241 | AG7: -10000000231 | AH7: -10000000209 | AI7: -10000000246 | AJ7: -10000000208 | AK7: -10000000214 | AL7: -10000000235 | AM7: -10000000452 | AN7: 60047363 | AO7: -10000000451 | AP7: -10000115362
C8: Наименование района: | D8: г. Барнаул
B9: 1 | C9: =OFFSET('База ведомств'!$A$1,2,MATCH($D$8,'База ведомств'!$C$2:$EI$2,0)*1,50,1) -> 1042202280251 | D9: =OFFSET('База ведомств'!$A$1,2,MATCH($D$8,'База ведомств'!$C$2:$EI$2,0)+1,50,1) -> Администрация г. Барнаула | E9: =IF(ISERROR(MATCH(CONCATENATE($C9,E$7),ЕСНСИ!$A$2:$A$10000,0)),"х",1) -> х | F9: =IF(ISERROR(MATCH(CONCATENATE($C9,F$7),ЕСНСИ!$A$2:$A$10000,0)),"х",1) -> х | G9: =IF(ISERROR(MATCH(CONCATENATE($C9,G$7),ЕСНСИ!$A$2:$A$10000,0)),"х",1) -> х | H9: =IF(ISERROR(MATCH(CONCATENATE($C9,H$7),ЕСНСИ!$A$2:$A$10000,0)),"х",1) -> х | I9: =IF(ISERROR(MATCH(CONCATENATE($C9,I$7),ЕСНСИ!$A$2:$A$10000,0)),"х",1) -> х | J9: =IF(ISERROR(MATCH(CONCATENATE($C9,J$7),ЕСНСИ!$A$2:$A$10000,0)),"х",1) -> х | K9: =IF(ISERROR(MATCH(CONCATENATE($C9,K$7),ЕСНСИ!$A$2:$A$10000,0)),"х",1) -> х | L9: =IF(ISERROR(MATCH(CONCATENATE($C9,L$7),ЕСНСИ!$A$2:$A$10000,0)),"х",1) -> х | ... AP9: =IF(ISERROR(MATCH(CONCATENATE($C9,AP$7),ЕСНСИ!$A$2:$A$10000,0)),"х",1) -> х
B10: 2 | C10: =OFFSET('База ведомств'!$A$1,2,MATCH($D$8,'База ведомств'!$C$2:$EI$2,0)*1,50,1) -> 1022201509990 | D10: =OFFSET('База ведомств'!$A$1,2,MATCH($D$8,'База ведомств'!$C$2:$EI$2,0)+1,50,1) -> Комитет по образованию г. Барнаула | E10: =IF(ISERROR(MATCH(CONCATENATE($C10,E$7),ЕСНСИ!$A$2:$A$10000,0)),"х",1) -> х | F10: =IF(ISERROR(MATCH(CONCATENATE($C10,F$7),ЕСНСИ!$A$2:$A$10000,0)),"х",1) -> х | G10: =IF(ISERROR(MATCH(CONCATENATE($C10,G$7),ЕСНСИ!$A$2:$A$10000,0)),"х",1) -> х | H10: =IF(ISERROR(MATCH(CONCATENATE($C10,H$7),ЕСНСИ!$A$2:$A$10000,0)),"х",1) -> х | I10: =IF(ISERROR(MATCH(CONCATENATE($C10,I$7),ЕСНСИ!$A$2:$A$10000,0)),"х",1) -> х | J10: =IF(ISERROR(MATCH(CONCATENATE($C10,J$7),ЕСНСИ!$A$2:$A$10000,0)),"х",1) -> х | K10: =IF(ISERROR(MATCH(CONCATENATE($C10,K$7),ЕСНСИ!$A$2:$A$10000,0)),"х",1) -> 1 | L10: =IF(ISERROR(MATCH(CONCATENATE($C10,L$7),ЕСНСИ!$A$2:$A$10000,0)),"х",1) -> х | ... AP10: =IF(ISERROR(MATCH(CONCATENATE($C10,AP$7),ЕСНСИ!$A$2:$A$10000,0)),"х",1) -> х
B11: 3 | C11: =OFFSET('База ведомств'!$A$1,2,MATCH($D$8,'База ведомств'!$C$2:$EI$2,0)*1,50,1) -> 1022201760635 | D11: =OFFSET('База ведомств'!$A$1,2,MATCH($D$8,'База ведомств'!$C$2:$EI$2,0)+1,50,1) -> Комитет жилищно-коммунального хозяйства г. Барнаула | E11: =IF(ISERROR(MATCH(CONCATENATE($C11,E$7),ЕСНСИ!$A$2:$A$10000,0)),"х",1) -> х | F11: =IF(ISERROR(MATCH(CONCATENATE($C11,F$7),ЕСНСИ!$A$2:$A$10000,0)),"х",1) -> х | G11: =IF(ISERROR(MATCH(CONCATENATE($C11,G$7),ЕСНСИ!$A$2:$A$10000,0)),"х",1) -> х | H11: =IF(ISERROR(MATCH(CONCATENATE($C11,H$7),ЕСНСИ!$A$2:$A$10000,0)),"х",1) -> х | I11: =IF(ISERROR(MATCH(CONCATENATE($C11,I$7),ЕСНСИ!$A$2:$A$10000,0)),"х",1) -> х | J11: =IF(ISERROR(MATCH(CONCATENATE($C11,J$7),ЕСНСИ!$A$2:$A$10000,0)),"х",1) -> х | K11: =IF(ISERROR(MATCH(CONCATENATE($C11,K$7),ЕСНСИ!$A$2:$A$10000,0)),"х",1) -> х | L11: =IF(ISERROR(MATCH(CONCATENATE($C11,L$7),ЕСНСИ!$A$2:$A$10000,0)),"х",1) -> х | ... AP11: =IF(ISERROR(MATCH(CONCATENATE($C11,AP$7),ЕСНСИ!$A$2:$A$10000,0)),"х",1) -> х
B12: 4 | C12: =OFFSET('База ведомств'!$A$1,2,MATCH($D$8,'База ведомств'!$C$2:$EI$2,0)*1,50,1) -> 1062221001160 | D12: =OFFSET('База ведомств'!$A$1,2,MATCH($D$8,'База ведомств'!$C$2:$EI$2,0)+1,50,1) -> Комитет по земельным ресурсам и землеустройству г. Барнаула | E12: =IF(ISERROR(MATCH(CONCATENATE($C12,E$7),ЕСНСИ!$A$2:$A$10000,0)),"х",1) -> х | F12: =IF(ISERROR(MATCH(CONCATENATE($C12,F$7),ЕСНСИ!$A$2:$A$10000,0)),"х",1) -> х | G12: =IF(ISERROR(MATCH(CONCATENATE($C12,G$7),ЕСНСИ!$A$2:$A$10000,0)),"х",1) -> х | H12: =IF(ISERROR(MATCH(CONCATENATE($C12,H$7),ЕСНСИ!$A$2:$A$10000,0)),"х",1) -> х | I12: =IF(ISERROR(MATCH(CONCATENATE($C12,I$7),ЕСНСИ!$A$2:$A$10000,0)),"х",1) -> х | J12: =IF(ISERROR(MATCH(CONCATENATE($C12,J$7),ЕСНСИ!$A$2:$A$10000,0)),"х",1) -> х | K12: =IF(ISERROR(MATCH(CONCATENATE($C12,K$7),ЕСНСИ!$A$2:$A$10000,0)),"х",1) -> х | L12: =IF(ISERROR(MATCH(CONCATENATE($C12,L$7),ЕСНСИ!$A$2:$A$10000,0)),"х",1) -> 1 | ... AP12: =IF(ISERROR(MATCH(CONCATENATE($C12,AP$7),ЕСНСИ!$A$2:$A$10000,0)),"х",1) -> х
B13: 5 | C13: =OFFSET('База ведомств'!$A$1,2,MATCH($D$8,'База ведомств'!$C$2:$EI$2,0)*1,50,1) -> 1022201770381 | D13: =OFFSET('База ведомств'!$A$1,2,MATCH($D$8,'База ведомств'!$C$2:$EI$2,0)+1,50,1) -> Комитет по управлению муниципальной собственностью г. Барнаула | E13: =IF(ISERROR(MATCH(CONCATENATE($C13,E$7),ЕСНСИ!$A$2:$A$10000,0)),"х",1) -> х | F13: =IF(ISERROR(MATCH(CONCATENATE($C13,F$7),ЕСНСИ!$A$2:$A$10000,0)),"х",1) -> х | G13: =IF(ISERROR(MATCH(CONCATENATE($C13,G$7),ЕСНСИ!$A$2:$A$10000,0)),"х",1) -> х | H13: =IF(ISERROR(MATCH(CONCATENATE($C13,H$7),ЕСНСИ!$A$2:$A$10000,0)),"х",1) -> х | I13: =IF(ISERROR(MATCH(CONCATENATE($C13,I$7),ЕСНСИ!$A$2:$A$10000,0)),"х",1) -> х | J13: =IF(ISERROR(MATCH(CONCATENATE($C13,J$7),ЕСНСИ!$A$2:$A$10000,0)),"х",1) -> х | K13: =IF(ISERROR(MATCH(CONCATENATE($C13,K$7),ЕСНСИ!$A$2:$A$10000,0)),"х",1) -> х | L13: =IF(ISERROR(MATCH(CONCATENATE($C13,L$7),ЕСНСИ!$A$2:$A$10000,0)),"х",1) -> х | ... AP13: =IF(ISERROR(MATCH(CONCATENATE($C13,AP$7),ЕСНСИ!$A$2:$A$10000,0)),"х",1) -> х
B14: 6 | C14: =OFFSET('База ведомств'!$A$1,2,MATCH($D$8,'База ведомств'!$C$2:$EI$2,0)*1,50,1) -> 1022200907156 | D14: =OFFSET('База ведомств'!$A$1,2,MATCH($D$8,'База ведомств'!$C$2:$EI$2,0)+1,50,1) -> Комитет по строительству, архитектуре и развитию г. Барнаула | E14: =IF(ISERROR(MATCH(CONCATENATE($C14,E$7),ЕСНСИ!$A$2:$A$10000,0)),"х",1) -> 1 | F14: =IF(ISERROR(MATCH(CONCATENATE($C14,F$7),ЕСНСИ!$A$2:$A$10000,0)),"х",1) -> 1 | G14: =IF(ISERROR(MATCH(CONCATENATE($C14,G$7),ЕСНСИ!$A$2:$A$10000,0)),"х",1) -> х | H14: =IF(ISERROR(MATCH(CONCATENATE($C14,H$7),ЕСНСИ!$A$2:$A$10000,0)),"х",1) -> х | I14: =IF(ISERROR(MATCH(CONCATENATE($C14,I$7),ЕСНСИ!$A$2:$A$10000,0)),"х",1) -> 1 | J14: =IF(ISERROR(MATCH(CONCATENATE($C14,J$7),ЕСНСИ!$A$2:$A$10000,0)),"х",1) -> х | K14: =IF(ISERROR(MATCH(CONCATENATE($C14,K$7),ЕСНСИ!$A$2:$A$10000,0)),"х",1) -> х | L14: =IF(ISERROR(MATCH(CONCATENATE($C14,L$7),ЕСНСИ!$A$2:$A$10000,0)),"х",1) -> х | ... AP14: =IF(ISERROR(MATCH(CONCATENATE($C14,AP$7),ЕСНСИ!$A$2:$A$10000,0)),"х",1) -> х
B15: 7 | C15: =OFFSET('База ведомств'!$A$1,2,MATCH($D$8,'База ведомств'!$C$2:$EI$2,0)*1,50,1) -> 1232200021096 | D15: =OFFSET('База ведомств'!$A$1,2,MATCH($D$8,'База ведомств'!$C$2:$EI$2,0)+1,50,1) -> Комитет по благоустройству г. Барнаула | E15: =IF(ISERROR(MATCH(CONCATENATE($C15,E$7),ЕСНСИ!$A$2:$A$10000,0)),"х",1) -> х | F15: =IF(ISERROR(MATCH(CONCATENATE($C15,F$7),ЕСНСИ!$A$2:$A$10000,0)),"х",1) -> х | G15: =IF(ISERROR(MATCH(CONCATENATE($C15,G$7),ЕСНСИ!$A$2:$A$10000,0)),"х",1) -> х | H15: =IF(ISERROR(MATCH(CONCATENATE($C15,H$7),ЕСНСИ!$A$2:$A$10000,0)),"х",1) -> х | I15: =IF(ISERROR(MATCH(CONCATENATE($C15,I$7),ЕСНСИ!$A$2:$A$10000,0)),"х",1) -> х | J15: =IF(ISERROR(MATCH(CONCATENATE($C15,J$7),ЕСНСИ!$A$2:$A$10000,0)),"х",1) -> 1 | K15: =IF(ISERROR(MATCH(CONCATENATE($C15,K$7),ЕСНСИ!$A$2:$A$10000,0)),"х",1) -> х | L15: =IF(ISERROR(MATCH(CONCATENATE($C15,L$7),ЕСНСИ!$A$2:$A$10000,0)),"х",1) -> х | ... AP15: =IF(ISERROR(MATCH(CONCATENATE($C15,AP$7),ЕСНСИ!$A$2:$A$10000,0)),"х",1) -> х
B16: 8 | C16: =OFFSET('База ведомств'!$A$1,2,MATCH($D$8,'База ведомств'!$C$2:$EI$2,0)*1,50,1) -> 1022200908839 | D16: =OFFSET('База ведомств'!$A$1,2,MATCH($D$8,'База ведомств'!$C$2:$EI$2,0)+1,50,1) -> Комитет по физической культуре и спорту г. Барнаула | E16: =IF(ISERROR(MATCH(CONCATENATE($C16,E$7),ЕСНСИ!$A$2:$A$10000,0)),"х",1) -> х | F16: =IF(ISERROR(MATCH(CONCATENATE($C16,F$7),ЕСНСИ!$A$2:$A$10000,0)),"х",1) -> х | G16: =IF(ISERROR(MATCH(CONCATENATE($C16,G$7),ЕСНСИ!$A$2:$A$10000,0)),"х",1) -> х | H16: =IF(ISERROR(MATCH(CONCATENATE($C16,H$7),ЕСНСИ!$A$2:$A$10000,0)),"х",1) -> х | I16: =IF(ISERROR(MATCH(CONCATENATE($C16,I$7),ЕСНСИ!$A$2:$A$10000,0)),"х",1) -> х | J16: =IF(ISERROR(MATCH(CONCATENATE($C16,J$7),ЕСНСИ!$A$2:$A$10000,0)),"х",1) -> х | K16: =IF(ISERROR(MATCH(CONCATENATE($C16,K$7),ЕСНСИ!$A$2:$A$10000,0)),"х",1) -> х | L16: =IF(ISERROR(MATCH(CONCATENATE($C16,L$7),ЕСНСИ!$A$2:$A$10000,0)),"х",1) -> х | ... AP16: =IF(ISERROR(MATCH(CONCATENATE($C16,AP$7),ЕСНСИ!$A$2:$A$10000,0)),"х",1) -> 1
B17: 9 | C17: =OFFSET('База ведомств'!$A$1,2,MATCH($D$8,'База ведомств'!$C$2:$EI$2,0)*1,50,1) -> 1022200895441 | D17: =OFFSET('База ведомств'!$A$1,2,MATCH($D$8,'База ведомств'!$C$2:$EI$2,0)+1,50,1) -> Администрация Железнодорожного района г. Барнаула | E17: =IF(ISERROR(MATCH(CONCATENATE($C17,E$7),ЕСНСИ!$A$2:$A$10000,0)),"х",1) -> 1 | F17: =IF(ISERROR(MATCH(CONCATENATE($C17,F$7),ЕСНСИ!$A$2:$A$10000,0)),"х",1) -> х | G17: =IF(ISERROR(MATCH(CONCATENATE($C17,G$7),ЕСНСИ!$A$2:$A$10000,0)),"х",1) -> 1 | H17: =IF(ISERROR(MATCH(CONCATENATE($C17,H$7),ЕСНСИ!$A$2:$A$10000,0)),"х",1) -> 1 | I17: =IF(ISERROR(MATCH(CONCATENATE($C17,I$7),ЕСНСИ!$A$2:$A$10000,0)),"х",1) -> 1 | J17: =IF(ISERROR(MATCH(CONCATENATE($C17,J$7),ЕСНСИ!$A$2:$A$10000,0)),"х",1) -> х | K17: =IF(ISERROR(MATCH(CONCATENATE($C17,K$7),ЕСНСИ!$A$2:$A$10000,0)),"х",1) -> х | L17: =IF(ISERROR(MATCH(CONCATENATE($C17,L$7),ЕСНСИ!$A$2:$A$10000,0)),"х",1) -> х | ... AP17: =IF(ISERROR(MATCH(CONCATENATE($C17,AP$7),ЕСНСИ!$A$2:$A$10000,0)),"х",1) -> х
B18: 10 | C18: =OFFSET('База ведомств'!$A$1,2,MATCH($D$8,'База ведомств'!$C$2:$EI$2,0)*1,50,1) -> 1022201128905 | D18: =OFFSET('База ведомств'!$A$1,2,MATCH($D$8,'База ведомств'!$C$2:$EI$2,0)+1,50,1) -> Администрация Индустриального района г. Барнаула | E18: =IF(ISERROR(MATCH(CONCATENATE($C18,E$7),ЕСНСИ!$A$2:$A$10000,0)),"х",1) -> 1 | F18: =IF(ISERROR(MATCH(CONCATENATE($C18,F$7),ЕСНСИ!$A$2:$A$10000,0)),"х",1) -> х | G18: =IF(ISERROR(MATCH(CONCATENATE($C18,G$7),ЕСНСИ!$A$2:$A$10000,0)),"х",1) -> 1 | H18: =IF(ISERROR(MATCH(CONCATENATE($C18,H$7),ЕСНСИ!$A$2:$A$10000,0)),"х",1) -> 1 | I18: =IF(ISERROR(MATCH(CONCATENATE($C18,I$7),ЕСНСИ!$A$2:$A$10000,0)),"х",1) -> 1 | J18: =IF(ISERROR(MATCH(CONCATENATE($C18,J$7),ЕСНСИ!$A$2:$A$10000,0)),"х",1) -> х | K18: =IF(ISERROR(MATCH(CONCATENATE($C18,K$7),ЕСНСИ!$A$2:$A$10000,0)),"х",1) -> х | L18: =IF(ISERROR(MATCH(CONCATENATE($C18,L$7),ЕСНСИ!$A$2:$A$10000,0)),"х",1) -> х | ... AP18: =IF(ISERROR(MATCH(CONCATENATE($C18,AP$7),ЕСНСИ!$A$2:$A$10000,0)),"х",1) -> х
B19: 11 | C19: =OFFSET('База ведомств'!$A$1,2,MATCH($D$8,'База ведомств'!$C$2:$EI$2,0)*1,50,1) -> 1022201145768 | D19: =OFFSET('База ведомств'!$A$1,2,MATCH($D$8,'База ведомств'!$C$2:$EI$2,0)+1,50,1) -> Власихинская сельская администрация Индустриального района г. Барнаула | E19: =IF(ISERROR(MATCH(CONCATENATE($C19,E$7),ЕСНСИ!$A$2:$A$10000,0)),"х",1) -> х | F19: =IF(ISERROR(MATCH(CONCATENATE($C19,F$7),ЕСНСИ!$A$2:$A$10000,0)),"х",1) -> х | G19: =IF(ISERROR(MATCH(CONCATENATE($C19,G$7),ЕСНСИ!$A$2:$A$10000,0)),"х",1) -> х | H19: =IF(ISERROR(MATCH(CONCATENATE($C19,H$7),ЕСНСИ!$A$2:$A$10000,0)),"х",1) -> х | I19: =IF(ISERROR(MATCH(CONCATENATE($C19,I$7),ЕСНСИ!$A$2:$A$10000,0)),"х",1) -> х | J19: =IF(ISERROR(MATCH(CONCATENATE($C19,J$7),ЕСНСИ!$A$2:$A$10000,0)),"х",1) -> х | K19: =IF(ISERROR(MATCH(CONCATENATE($C19,K$7),ЕСНСИ!$A$2:$A$10000,0)),"х",1) -> х | L19: =IF(ISERROR(MATCH(CONCATENATE($C19,L$7),ЕСНСИ!$A$2:$A$10000,0)),"х",1) -> х | ... AP19: =IF(ISERROR(MATCH(CONCATENATE($C19,AP$7),ЕСНСИ!$A$2:$A$10000,0)),"х",1) -> х
B20: 12 | C20: =OFFSET('База ведомств'!$A$1,2,MATCH($D$8,'База ведомств'!$C$2:$EI$2,0)*1,50,1) -> 1022201386900 | D20: =OFFSET('База ведомств'!$A$1,2,MATCH($D$8,'База ведомств'!$C$2:$EI$2,0)+1,50,1) -> Администрация Ленинского района г. Барнаула | E20: =IF(ISERROR(MATCH(CONCATENATE($C20,E$7),ЕСНСИ!$A$2:$A$10000,0)),"х",1) -> 1 | F20: =IF(ISERROR(MATCH(CONCATENATE($C20,F$7),ЕСНСИ!$A$2:$A$10000,0)),"х",1) -> 1 | G20: =IF(ISERROR(MATCH(CONCATENATE($C20,G$7),ЕСНСИ!$A$2:$A$10000,0)),"х",1) -> 1 | H20: =IF(ISERROR(MATCH(CONCATENATE($C20,H$7),ЕСНСИ!$A$2:$A$10000,0)),"х",1) -> 1 | I20: =IF(ISERROR(MATCH(CONCATENATE($C20,I$7),ЕСНСИ!$A$2:$A$10000,0)),"х",1) -> 1 | J20: =IF(ISERROR(MATCH(CONCATENATE($C20,J$7),ЕСНСИ!$A$2:$A$10000,0)),"х",1) -> х | K20: =IF(ISERROR(MATCH(CONCATENATE($C20,K$7),ЕСНСИ!$A$2:$A$10000,0)),"х",1) -> х | L20: =IF(ISERROR(MATCH(CONCATENATE($C20,L$7),ЕСНСИ!$A$2:$A$10000,0)),"х",1) -> х | ... AP20: =IF(ISERROR(MATCH(CONCATENATE($C20,AP$7),ЕСНСИ!$A$2:$A$10000,0)),"х",1) -> х
... B29: 21 | C29: =OFFSET('База ведомств'!$A$1,2,MATCH($D$8,'База ведомств'!$C$2:$EI$2,0)*1,50,1) -> 0 | D29: =OFFSET('База ведомств'!$A$1,2,MATCH($D$8,'База ведомств'!$C$2:$EI$2,0)+1,50,1) -> 0 | E29: =IF(ISERROR(MATCH(CONCATENATE($C29,E$7),ЕСНСИ!$A$2:$A$10000,0)),"х",1) -> х | F29: =IF(ISERROR(MATCH(CONCATENATE($C29,F$7),ЕСНСИ!$A$2:$A$10000,0)),"х",1) -> х | G29: =IF(ISERROR(MATCH(CONCATENATE($C29,G$7),ЕСНСИ!$A$2:$A$10000,0)),"х",1) -> х | H29: =IF(ISERROR(MATCH(CONCATENATE($C29,H$7),ЕСНСИ!$A$2:$A$10000,0)),"х",1) -> х | I29: =IF(ISERROR(MATCH(CONCATENATE($C29,I$7),ЕСНСИ!$A$2:$A$10000,0)),"х",1) -> х | J29: =IF(ISERROR(MATCH(CONCATENATE($C29,J$7),ЕСНСИ!$A$2:$A$10000,0)),"х",1) -> х | K29: =IF(ISERROR(MATCH(CONCATENATE($C29,K$7),ЕСНСИ!$A$2:$A$10000,0)),"х",1) -> х | L29: =IF(ISERROR(MATCH(CONCATENATE($C29,L$7),ЕСНСИ!$A$2:$A$10000,0)),"х",1) -> х | ... AP29: =IF(ISERROR(MATCH(CONCATENATE($C29,AP$7),ЕСНСИ!$A$2:$A$10000,0)),"х",1) -> х
E30: =SUBTOTAL(9,E9:E29) -> 6 | F30: =SUBTOTAL(9,F9:F29) -> 2 | G30: =SUBTOTAL(9,G9:G29) -> 5 | H30: =SUBTOTAL(9,H9:H29) -> 5 | I30: =SUBTOTAL(9,I9:I29) -> 6 | J30: =SUBTOTAL(9,J9:J29) -> 1 | K30: =SUBTOTAL(9,K9:K29) -> 1 | L30: =SUBTOTAL(9,L9:L29) -> 1 | ... AP30: =SUBTOTAL(9,AP9:AP29) -> 1
E32: Направление уведомления о соответствии указанных в уведомлении о планируемом строительстве параметров объекта индивидуального жилищного строительства или садового дома установленным параметрам и допустимости размещения объекта индивидуального жилищного строительства или садового дома на земельном участке | J32: =OFFSET(D6,1,MATCH(E32,E6:AP6,0)) -> -10000115325
E33: Фильтр
E34: =IF(ISERROR(MATCH(CONCATENATE($C9,$J$32),ЕСНСИ!$A$2:$A$10000,0)),"Пусто",D9) -> Пусто
E35: =IF(ISERROR(MATCH(CONCATENATE($C10,$J$32),ЕСНСИ!$A$2:$A$10000,0)),"Пусто",D10) -> Пусто
E36: =IF(ISERROR(MATCH(CONCATENATE($C11,$J$32),ЕСНСИ!$A$2:$A$10000,0)),"Пусто",D11) -> Пусто
E37: =IF(ISERROR(MATCH(CONCATENATE($C12,$J$32),ЕСНСИ!$A$2:$A$10000,0)),"Пусто",D12) -> Пусто
E38: =IF(ISERROR(MATCH(CONCATENATE($C13,$J$32),ЕСНСИ!$A$2:$A$10000,0)),"Пусто",D13) -> Пусто
E39: =IF(ISERROR(MATCH(CONCATENATE($C14,$J$32),ЕСНСИ!$A$2:$A$10000,0)),"Пусто",D14) -> Пусто
E40: =IF(ISERROR(MATCH(CONCATENATE($C15,$J$32),ЕСНСИ!$A$2:$A$10000,0)),"Пусто",D15) -> Пусто
E41: =IF(ISERROR(MATCH(CONCATENATE($C16,$J$32),ЕСНСИ!$A$2:$A$10000,0)),"Пусто",D16) -> Пусто
E42: =IF(ISERROR(MATCH(CONCATENATE($C17,$J$32),ЕСНСИ!$A$2:$A$10000,0)),"Пусто",D17) -> Администрация Железнодорожного района г. Барнаула
E43: =IF(ISERROR(MATCH(CONCATENATE($C18,$J$32),ЕСНСИ!$A$2:$A$10000,0)),"Пусто",D18) -> Администрация Индустриального района г. Барнаула
E44: =IF(ISERROR(MATCH(CONCATENATE($C19,$J$32),ЕСНСИ!$A$2:$A$10000,0)),"Пусто",D19) -> Пусто
E45: =IF(ISERROR(MATCH(CONCATENATE($C20,$J$32),ЕСНСИ!$A$2:$A$10000,0)),"Пусто",D20) -> Администрация Ленинского района г. Барнаула
... E54: =IF(ISERROR(MATCH(CONCATENATE($C29,$J$32),ЕСНСИ!$A$2:$A$10000,0)),"Пусто",D29) -> Пусто

Sheet НОВЫЙ_ФОРМАТ
A1: 0
D2: п/п | E2: 1 | F2: 2 | G2: 3 | H2: 4 | I2: 5 | J2: 6 | K2: 7 | L2: 8 | M2: 9 | N2: 10 | O2: 11 | P2: 12 | Q2: 13 | R2: 14 | S2: 15 | T2: 16 | U2: 17 | V2: 18 | W2: 19 | X2: 20 | Y2: 21 | Z2: 22 | AA2: 23 | AB2: 24 | AC2: 25 | AD2: 26 | AE2: 27 | AF2: 28 | AG2: 29 | AH2: 30 | AI2: 31 | AJ2: 32 | AK2: 33 | AL2: 34 | AM2: 35 | AN2: 36 | AO2: 37 | AP2: 38 | AQ2: 39 | AR2: 40 | AS2: 41 | AT2: 42 | AU2: 43
D3: № услуги в перечне МСЗУ, утв. комиссией АК протокол от 10.03.2026 №31/прот/3 | E3: 1 | F3: 2 | G3: 3 | H3: 4 | I3: 6 | J3: 7 | K3: 8 | L3: 12 | M3: 13 | N3: 17 | O3: 18 | P3: 20 | Q3: 22 | R3: 23 | S3: 29 | T3: 30 | U3: 31 | V3: 32 | W3: 33 | X3: 34 | Y3: 35 | Z3: 36 | AA3: 37 | AB3: 40 | AC3: 42 | AD3: 44 | AE3: 45 | AF3: 48 | AG3: 49 | AH3: 50 | AI3: 51 | AJ3: 53 | AK3: 57 | AL3: 60 | AM3: 66 | AN3: 76 | AO3: 78 | AP3: - | AQ3: - | AR3: - | AS3: - | AT3: - | AU3: -
D4: Система для обработки заявлений | E4: ПГС | F4: ПГС | G4: ПГС | H4: ПГС | I4: ПГС | J4: ПГС | K4: ПГС | L4: ПГС | M4: ПГС | N4: ПГС | O4: ПГС | P4: ПГС 3.0 | Q4: ПГС | R4: ПГС | S4: ПГС | T4: ПГС 3.0 | U4: ПГС 3.0 | V4: ПГС | W4: ПГС | X4: ПГС | Y4: ПГС | Z4: ПГС | AA4: ПГС | AB4: ПГС | AC4: ПГС | AD4: ПГС | AE4: ПГС | AF4: ПГС 3.0 | AG4: ПГС | AH4: ПГС | AI4: ПГС | AJ4: ПГС | AK4: ПГС | AL4: ПГС | AM4: ПГС | AN4: ПГС | AO4: ПГС 3.0 | AP4: ПГС | AQ4: ПГС 3.0 | AR4: ПГС 3.0 | AS4: ПГС 3.0 | AT4: ПГС 3.0 | AU4: ПГС 2.0 | AW4: Добавить опеку?
D5: Наименование услуги в перечне МСЗУ Алтайского края | E5: Выдача разрешения на ввод объекта в эксплуатацию | F5: Выдача разрешения на строительство объекта капитального строительства (муниципальная) | G5: Направление уведомления о соответствии построенных или реконструированных объектов индивидуального жилищного строительства или садового дома требованиям законодательства Российской Федерации о градостроительной деятельности | H5: Направление уведомления о соответствии указанных в уведомлении о планируемом строительстве параметров объекта индивидуального жилищного строительства или садового дома установленным параметрам и допустимости размещения объекта индивидуального жилищного строительства или садового дома на земельном участке | I5: Выдача градостроительного плана земельного участка | J5: Выдача разрешений на право вырубки зеленых насаждений | K5: Назначение выплаты компенсации части платы, взимаемой с родителей (законных представителей) за присмотр и уход за ребенком в образовательных организациях Алтайского края, реализующих образовательную программу дошкольного образования | L5: Перераспределение земельных участков, находящихся в собственности Алтайского края, или земель и (или) земельных участков, государственная собственность на которые не разграничена, и земельных участков, находящихся в частной собственности | M5: Предоставление разрешения на осуществление земляных работ | N5: Присвоение адреса объекту адресации, изменение и аннулирование такого адреса | O5: Присвоение спортивных разрядов | P5: Согласование проведения переустройства и (или) перепланировки помещения в многоквартирном доме | Q5: Утверждение схемы расположения земельного участка или земельных участков на кадастровом плане территории (муниципальная) | R5: Предоставление земельного участка, находящегося в муниципальной собственности, или государственная собственность на который не разграничена, на торгах | S5: Направление уведомления о планируемом сносе объекта капитального строительства и уведомления о завершении сноса объекта капитального строительства | T5: Признание садового дома жилым домом и жилого дома садовым домом | U5: Перевод жилого помещения в нежилое помещение и нежилого помещения в жилое помещение | V5: Предоставление разрешения на отклонение от предельных параметров разрешенного строительства, реконструкции объекта капитального строительства | W5: Выдача разрешения на установку и эксплуатацию рекламных конструкций на соответствующей территории, аннулирование такого разрешения | X5: Выдача разрешения на использование земель или земельных участков, находящихся в государственной собственности, без предоставления земельных участков и установления сервитута, публичного сервитута | Y5: Перевод земельных участков из одной категории в другую | Z5: Заключение соглашения об установлении сервитута в отношении земельных участков, находящихся в муниципальной собственности, и земельных участков, государственная собственность на которые не разграничена | AA5: Выдача акта освидетельствования проведения основных работ по строительству (реконструкции) объекта индивидуального жилищного строительства с привлечением средств материнского (семейного) капитала | AB5: Оформление свидетельств об осуществлении перевозок по маршруту регулярных перевозок и карт маршрута регулярных перевозок, переоформление свидетельств об осуществлении перевозок по маршруту регулярных перевозок и карт маршрута регулярных перевозок | AC5: Подготовка и утверждение документации по планировке территории | AD5: Предоставление разрешения на условно разрешенный вид использования земельного участка или объекта капитального строительства | AE5: Установление информационной вывески, согласование дизайн-проекта размещения вывески | AF5: Постановка граждан на учет в качестве лиц, имеющих право на предоставление земельных участков в собственность бесплатно | AG5: Предварительное согласование предоставления земельного участка (муниципальная услуга) | AH5: Предоставление в собственность, аренду, постоянное (бессрочное) пользование, безвозмездное пользование земельного участка, находящегося в государственной или муниципальной собственности, без проведения торгов (муниципальная услуга) | AI5: Рассмотрение заявлений и принятие решений о предоставлении в собственность бесплатно земельного участка садоводческому, огородническому или дачному некоммерческому объединению граждан, а также членам садоводческого, огороднического или дачного некоммерческого объединения граждан | AJ5: Принятие на учет граждан в качестве, нуждающихся в жилых помещениях | AK5: Предоставление жилого помещения по договору социального найма | AL5: Ежемесячная выплаты на содержание ребенка в семье опекуна (попечителя), приемной семье | AM5: Выдача (направление) акта органа опеки и попечительства о назначении (об отказе в назначении) опекуна или заключения органа опеки и попечительства о возможности (невозможности) гражданина быть опекуном | AN5: Предоставление выписки из реестра объектов муниципальной собственности | AO5: Передача в собственность граждан занимаемых ими жилых помещений жилищного фонда (приватизация жилищного фонда) | AP5: Информационное обеспечение физических и юридических лиц на основе документов Архивного фонда Российской Федерации и других архивных документов, предоставление архивных справок, архивных выписок и копий архивных документов | AQ5: Получение технических условий, заключение договоров на переустройство линейных объектов | AR5: Согласование архитектурно-градостроительного облика объекта | AS5: Получение архивных справок и копий документов для земли и стройки из архивного фонда муниципалитета и региона | AT5: Получение информации о жилищно-коммунальных услугах населению | AU5: Выдача разрешения на строительство объекта капитального строительства (в том числе внесение изменений в разрешение на строительство объекта капитального строительства и внесение изменений в разрешение на строительство объекта капитального строительства в связи с продлением срока действия такого разрешения) | AV5: Выберите услугу, для создания списка подключенных ведомств в выбранном районе
C6: ОРГН (скрыть строку) | D6: Код услуги ЕСНСИ | E6: -10000115324 | F6: 10003773828 | G6: -10000115326 | H6: -10000115325 | I6: -10000115323 | J6: -10000115373 | K6: -10000115342 | L6: -10000115356 | M6: -10000115338 | N6: -10000115329 | O6: -10000115362 | P6: -10000115341 | Q6: -10000115345 | R6: -10000115352 | S6: -10000115360 | T6: -10000115343 | U6: -10000115354 | V6: -10000115349 | W6: -10000115331 | X6: -10000115359 | Y6: -10000115367 | Z6: -10000115366 | AA6: -10000115347 | AB6: -10000115365 | AC6: -10000115371 | AD6: -10000115339 | AE6: -10000000215 | AF6: 60047363 | AG6: -10000000241 | AH6: -10000000231 | AI6: -10000000209 | AJ6: -10000000246 | AK6: -10000000208 | AL6: -10000000214 | AM6: -10000000235 | AN6: -10000000452 | AO6: -10000000451 | AP6: -10000115361 | AQ6: 625462 | AR6: -60022542 | AS6: -10000000149 | AT6: -60029382 | AU6: -10003773828
C7: Наименование района: | D7: г. Барнаул | E7: <-- Выберите район из выподающего списка, информация о подключении отобразится ниже | AU7: -10003773828
B8: 1 | C8: =OFFSET('База ведомств'!$A$1,2,MATCH($D$7,'База ведомств'!$C$2:$EI$2,0)*1,50,1) -> 0 | D8: =OFFSET('База ведомств'!$A$1,2,MATCH($D$7,'База ведомств'!$C$2:$EI$2,0)+1,50,1) -> 0
B9: 1 | C9: =OFFSET('База ведомств'!$A$1,2,MATCH($D$7,'База ведомств'!$C$2:$EI$2,0)*1,50,1) -> 1042202280251 | D9: =OFFSET('База ведомств'!$A$1,2,MATCH($D$7,'База ведомств'!$C$2:$EI$2,0)+1,50,1) -> Администрация г. Барнаула | E9: =IF(ISERROR(MATCH(CONCATENATE($C9,E$6),ЕСНСИ!$A$2:$A$10000,0)),"х",1) -> х | F9: =IF(ISERROR(MATCH(CONCATENATE($C9,F$6),ЕСНСИ!$A$2:$A$10000,0)),"х",1) -> х | G9: =IF(ISERROR(MATCH(CONCATENATE($C9,G$6),ЕСНСИ!$A$2:$A$10000,0)),"х",1) -> х | H9: =IF(ISERROR(MATCH(CONCATENATE($C9,H$6),ЕСНСИ!$A$2:$A$10000,0)),"х",1) -> х | I9: =IF(ISERROR(MATCH(CONCATENATE($C9,I$6),ЕСНСИ!$A$2:$A$10000,0)),"х",1) -> х | J9: =IF(ISERROR(MATCH(CONCATENATE($C9,J$6),ЕСНСИ!$A$2:$A$10000,0)),"х",1) -> х | K9: =IF(ISERROR(MATCH(CONCATENATE($C9,K$6),ЕСНСИ!$A$2:$A$10000,0)),"х",1) -> х | L9: =IF(ISERROR(MATCH(CONCATENATE($C9,L$6),ЕСНСИ!$A$2:$A$10000,0)),"х",1) -> х | ... AE9: =IF(ISERROR(MATCH(CONCATENATE($C9,AE$6),ЕСНСИ!$A$2:$A$10000,0)),"х",1) -> х | AF9: =IF(ISERROR(MATCH(CONCATENATE($C9,AF$6),SERVICE_ROUTE_ORG!$A$2:$A$10000,0)),"х",1) -> х | AG9: =IF(ISERROR(MATCH(CONCATENATE($C9,AG$6),ЕСНСИ!$A$2:$A$10000,0)),"х",1) -> х | AH9: =IF(ISERROR(MATCH(CONCATENATE($C9,AH$6),ЕСНСИ!$A$2:$A$10000,0)),"х",1) -> х | AI9: =IF(ISERROR(MATCH(CONCATENATE($C9,AI$6),ЕСНСИ!$A$2:$A$10000,0)),"х",1) -> х | AJ9: =IF(ISERROR(MATCH(CONCATENATE($C9,AJ$6),ЕСНСИ!$A$2:$A$10000,0)),"х",1) -> х | AK9: =IF(ISERROR(MATCH(CONCATENATE($C9,AK$6),ЕСНСИ!$A$2:$A$10000,0)),"х",1) -> х | AL9: =IF(ISERROR(MATCH(CONCATENATE($C9,AL$6),ЕСНСИ!$A$2:$A$10000,0)),"х",1) -> х | AM9: =IF(ISERROR(MATCH(CONCATENATE($C9,AM$6),ЕСНСИ!$A$2:$A$10000,0)),"х",1) -> х | AN9: =IF(ISERROR(MATCH(CONCATENATE($C9,AN$6),ЕСНСИ!$A$2:$A$10000,0)),"х",1) -> х | AO9: =IF(ISERROR(MATCH(CONCATENATE($C9,AO$6),OIV_SERVICES!$A$2:$A$10000,0)),"х",1) -> х | AP9: =IF(ISERROR(MATCH(CONCATENATE($C9,AP$6),ЕСНСИ!$A$2:$A$10000,0)),"х",1) -> 1 | AQ9: =IF(ISERROR(MATCH(CONCATENATE($C9,AQ$6),ЕСНСИ!$A$2:$A$10000,0)),"х",1) -> 1 | AR9: =IF(ISERROR(MATCH(CONCATENATE($C9,AR$6),ЕСНСИ!$A$2:$A$10000,0)),"х",1) -> х | AS9: =IF(ISERROR(MATCH(CONCATENATE($C9,AS$6),ЕСНСИ!$A$2:$A$10000,0)),"х",1) -> х | AT9: =IF(ISERROR(MATCH(CONCATENATE($C9,AT$6),ЕСНСИ!$A$2:$A$10000,0)),"х",1) -> х | AU9: =IF(ISERROR(MATCH(CONCATENATE($C9,AU$6),ЕСНСИ!$A$2:$A$10000,0)),"х",1) -> х
B10: 2 | C10: =OFFSET('База ведомств'!$A$1,2,MATCH($D$7,'База ведомств'!$C$2:$EI$2,0)*1,50,1) -> 1022201509990 | D10: =OFFSET('База ведомств'!$A$1,2,MATCH($D$7,'База ведомств'!$C$2:$EI$2,0)+1,50,1) -> Комитет по образованию г. Барнаула | E10: =IF(ISERROR(MATCH(CONCATENATE($C10,E$6),ЕСНСИ!$A$2:$A$10000,0)),"х",1) -> х | F10: =IF(ISERROR(MATCH(CONCATENATE($C10,F$6),ЕСНСИ!$A$2:$A$10000,0)),"х",1) -> х | G10: =IF(ISERROR(MATCH(CONCATENATE($C10,G$6),ЕСНСИ!$A$2:$A$10000,0)),"х",1) -> х | H10: =IF(ISERROR(MATCH(CONCATENATE($C10,H$6),ЕСНСИ!$A$2:$A$10000,0)),"х",1) -> х | I10: =IF(ISERROR(MATCH(CONCATENATE($C10,I$6),ЕСНСИ!$A$2:$A$10000,0)),"х",1) -> х | J10: =IF(ISERROR(MATCH(CONCATENATE($C10,J$6),ЕСНСИ!$A$2:$A$10000,0)),"х",1) -> х | K10: =IF(ISERROR(MATCH(CONCATENATE($C10,K$6),ЕСНСИ!$A$2:$A$10000,0)),"х",1) -> 1 | L10: =IF(ISERROR(MATCH(CONCATENATE($C10,L$6),ЕСНСИ!$A$2:$A$10000,0)),"х",1) -> х | ... AE10: =IF(ISERROR(MATCH(CONCATENATE($C10,AE$6),ЕСНСИ!$A$2:$A$10000,0)),"х",1) -> х | AF10: =IF(ISERROR(MATCH(CONCATENATE($C10,AF$6),SERVICE_ROUTE_ORG!$A$2:$A$10000,0)),"х",1) -> х | AG10: =IF(ISERROR(MATCH(CONCATENATE($C10,AG$6),ЕСНСИ!$A$2:$A$10000,0)),"х",1) -> х | AH10: =IF(ISERROR(MATCH(CONCATENATE($C10,AH$6),ЕСНСИ!$A$2:$A$10000,0)),"х",1) -> х | AI10: =IF(ISERROR(MATCH(CONCATENATE($C10,AI$6),ЕСНСИ!$A$2:$A$10000,0)),"х",1) -> х | AJ10: =IF(ISERROR(MATCH(CONCATENATE($C10,AJ$6),ЕСНСИ!$A$2:$A$10000,0)),"х",1) -> х | AK10: =IF(ISERROR(MATCH(CONCATENATE($C10,AK$6),ЕСНСИ!$A$2:$A$10000,0)),"х",1) -> х | AL10: =IF(ISERROR(MATCH(CONCATENATE($C10,AL$6),ЕСНСИ!$A$2:$A$10000,0)),"х",1) -> х | AM10: =IF(ISERROR(MATCH(CONCATENATE($C10,AM$6),ЕСНСИ!$A$2:$A$10000,0)),"х",1) -> х | AN10: =IF(ISERROR(MATCH(CONCATENATE($C10,AN$6),ЕСНСИ!$A$2:$A$10000,0)),"х",1) -> х | AO10: =IF(ISERROR(MATCH(CONCATENATE($C10,AO$6),OIV_SERVICES!$A$2:$A$10000,0)),"х",1) -> х | AP10: =IF(ISERROR(MATCH(CONCATENATE($C10,AP$6),ЕСНСИ!$A$2:$A$10000,0)),"х",1) -> х | AQ10: =IF(ISERROR(MATCH(CONCATENATE($C10,AQ$6),ЕСНСИ!$A$2:$A$10000,0)),"х",1) -> х | AR10: =IF(ISERROR(MATCH(CONCATENATE($C10,AR$6),ЕСНСИ!$A$2:$A$10000,0)),"х",1) -> х | AS10: =IF(ISERROR(MATCH(CONCATENATE($C10,AS$6),ЕСНСИ!$A$2:$A$10000,0)),"х",1) -> х | AT10: =IF(ISERROR(MATCH(CONCATENATE($C10,AT$6),ЕСНСИ!$A$2:$A$10000,0)),"х",1) -> х | AU10: =IF(ISERROR(MATCH(CONCATENATE($C10,AU$6),ЕСНСИ!$A$2:$A$10000,0)),"х",1) -> х
B11: 3 | C11: =OFFSET('База ведомств'!$A$1,2,MATCH($D$7,'База ведомств'!$C$2:$EI$2,0)*1,50,1) -> 1022201760635 | D11: =OFFSET('База ведомств'!$A$1,2,MATCH($D$7,'База ведомств'!$C$2:$EI$2,0)+1,50,1) -> Комитет жилищно-коммунального хозяйства г. Барнаула | E11: =IF(ISERROR(MATCH(CONCATENATE($C11,E$6),ЕСНСИ!$A$2:$A$10000,0)),"х",1) -> х | F11: =IF(ISERROR(MATCH(CONCATENATE($C11,F$6),ЕСНСИ!$A$2:$A$10000,0)),"х",1) -> х | G11: =IF(ISERROR(MATCH(CONCATENATE($C11,G$6),ЕСНСИ!$A$2:$A$10000,0)),"х",1) -> х | H11: =IF(ISERROR(MATCH(CONCATENATE($C11,H$6),ЕСНСИ!$A$2:$A$10000,0)),"х",1) -> х | I11: =IF(ISERROR(MATCH(CONCATENATE($C11,I$6),ЕСНСИ!$A$2:$A$10000,0)),"х",1) -> х | J11: =IF(ISERROR(MATCH(CONCATENATE($C11,J$6),ЕСНСИ!$A$2:$A$10000,0)),"х",1) -> х | K11: =IF(ISERROR(MATCH(CONCATENATE($C11,K$6),ЕСНСИ!$A$2:$A$10000,0)),"х",1) -> х | L11: =IF(ISERROR(MATCH(CONCATENATE($C11,L$6),ЕСНСИ!$A$2:$A$10000,0)),"х",1) -> х | ... AE11: =IF(ISERROR(MATCH(CONCATENATE($C11,AE$6),ЕСНСИ!$A$2:$A$10000,0)),"х",1) -> х | AF11: =IF(ISERROR(MATCH(CONCATENATE($C11,AF$6),SERVICE_ROUTE_ORG!$A$2:$A$10000,0)),"х",1) -> 1 | AG11: =IF(ISERROR(MATCH(CONCATENATE($C11,AG$6),ЕСНСИ!$A$2:$A$10000,0)),"х",1) -> х | AH11: =IF(ISERROR(MATCH(CONCATENATE($C11,AH$6),ЕСНСИ!$A$2:$A$10000,0)),"х",1) -> х | AI11: =IF(ISERROR(MATCH(CONCATENATE($C11,AI$6),ЕСНСИ!$A$2:$A$10000,0)),"х",1) -> х | AJ11: =IF(ISERROR(MATCH(CONCATENATE($C11,AJ$6),ЕСНСИ!$A$2:$A$10000,0)),"х",1) -> х | AK11: =IF(ISERROR(MATCH(CONCATENATE($C11,AK$6),ЕСНСИ!$A$2:$A$10000,0)),"х",1) -> 1 | AL11: =IF(ISERROR(MATCH(CONCATENATE($C11,AL$6),ЕСНСИ!$A$2:$A$10000,0)),"х",1) -> х | AM11: =IF(ISERROR(MATCH(CONCATENATE($C11,AM$6),ЕСНСИ!$A$2:$A$10000,0)),"х",1) -> х | AN11: =IF(ISERROR(MATCH(CONCATENATE($C11,AN$6),ЕСНСИ!$A$2:$A$10000,0)),"х",1) -> х | AO11: =IF(ISERROR(MATCH(CONCATENATE($C11,AO$6),OIV_SERVICES!$A$2:$A$10000,0)),"х",1) -> 1 | AP11: =IF(ISERROR(MATCH(CONCATENATE($C11,AP$6),ЕСНСИ!$A$2:$A$10000,0)),"х",1) -> х | AQ11: =IF(ISERROR(MATCH(CONCATENATE($C11,AQ$6),ЕСНСИ!$A$2:$A$10000,0)),"х",1) -> х | AR11: =IF(ISERROR(MATCH(CONCATENATE($C11,AR$6),ЕСНСИ!$A$2:$A$10000,0)),"х",1) -> х | AS11: =IF(ISERROR(MATCH(CONCATENATE($C11,AS$6),ЕСНСИ!$A$2:$A$10000,0)),"х",1) -> х | AT11: =IF(ISERROR(MATCH(CONCATENATE($C11,AT$6),ЕСНСИ!$A$2:$A$10000,0)),"х",1) -> 1 | AU11: =IF(ISERROR(MATCH(CONCATENATE($C11,AU$6),ЕСНСИ!$A$2:$A$10000,0)),"х",1) -> х
B12: 4 | C12: =OFFSET('База ведомств'!$A$1,2,MATCH($D$7,'База ведомств'!$C$2:$EI$2,0)*1,50,1) -> 1062221001160 | D12: =OFFSET('База ведомств'!$A$1,2,MATCH($D$7,'База ведомств'!$C$2:$EI$2,0)+1,50,1) -> Комитет по земельным ресурсам и землеустройству г. Барнаула | E12: =IF(ISERROR(MATCH(CONCATENATE($C12,E$6),ЕСНСИ!$A$2:$A$10000,0)),"х",1) -> х | F12: =IF(ISERROR(MATCH(CONCATENATE($C12,F$6),ЕСНСИ!$A$2:$A$10000,0)),"х",1) -> х | G12: =IF(ISERROR(MATCH(CONCATENATE($C12,G$6),ЕСНСИ!$A$2:$A$10000,0)),"х",1) -> х | H12: =IF(ISERROR(MATCH(CONCATENATE($C12,H$6),ЕСНСИ!$A$2:$A$10000,0)),"х",1) -> х | I12: =IF(ISERROR(MATCH(CONCATENATE($C12,I$6),ЕСНСИ!$A$2:$A$10000,0)),"х",1) -> х | J12: =IF(ISERROR(MATCH(CONCATENATE($C12,J$6),ЕСНСИ!$A$2:$A$10000,0)),"х",1) -> х | K12: =IF(ISERROR(MATCH(CONCATENATE($C12,K$6),ЕСНСИ!$A$2:$A$10000,0)),"х",1) -> х | L12: =IF(ISERROR(MATCH(CONCATENATE($C12,L$6),ЕСНСИ!$A$2:$A$10000,0)),"х",1) -> 1 | ... AE12: =IF(ISERROR(MATCH(CONCATENATE($C12,AE$6),ЕСНСИ!$A$2:$A$10000,0)),"х",1) -> х | AF12: =IF(ISERROR(MATCH(CONCATENATE($C12,AF$6),SERVICE_ROUTE_ORG!$A$2:$A$10000,0)),"х",1) -> 1 | AG12: =IF(ISERROR(MATCH(CONCATENATE($C12,AG$6),ЕСНСИ!$A$2:$A$10000,0)),"х",1) -> 1 | AH12: =IF(ISERROR(MATCH(CONCATENATE($C12,AH$6),ЕСНСИ!$A$2:$A$10000,0)),"х",1) -> 1 | AI12: =IF(ISERROR(MATCH(CONCATENATE($C12,AI$6),ЕСНСИ!$A$2:$A$10000,0)),"х",1) -> 1 | AJ12: =IF(ISERROR(MATCH(CONCATENATE($C12,AJ$6),ЕСНСИ!$A$2:$A$10000,0)),"х",1) -> х | AK12: =IF(ISERROR(MATCH(CONCATENATE($C12,AK$6),ЕСНСИ!$A$2:$A$10000,0)),"х",1) -> х | AL12: =IF(ISERROR(MATCH(CONCATENATE($C12,AL$6),ЕСНСИ!$A$2:$A$10000,0)),"х",1) -> х | AM12: =IF(ISERROR(MATCH(CONCATENATE($C12,AM$6),ЕСНСИ!$A$2:$A$10000,0)),"х",1) -> х | AN12: =IF(ISERROR(MATCH(CONCATENATE($C12,AN$6),ЕСНСИ!$A$2:$A$10000,0)),"х",1) -> х | AO12: =IF(ISERROR(MATCH(CONCATENATE($C12,AO$6),OIV_SERVICES!$A$2:$A$10000,0)),"х",1) -> х | AP12: =IF(ISERROR(MATCH(CONCATENATE($C12,AP$6),ЕСНСИ!$A$2:$A$10000,0)),"х",1) -> х | AQ12: =IF(ISERROR(MATCH(CONCATENATE($C12,AQ$6),ЕСНСИ!$A$2:$A$10000,0)),"х",1) -> х | AR12: =IF(ISERROR(MATCH(CONCATENATE($C12,AR$6),ЕСНСИ!$A$2:$A$10000,0)),"х",1) -> х | AS12: =IF(ISERROR(MATCH(CONCATENATE($C12,AS$6),ЕСНСИ!$A$2:$A$10000,0)),"х",1) -> х | AT12: =IF(ISERROR(MATCH(CONCATENATE($C12,AT$6),ЕСНСИ!$A$2:$A$10000,0)),"х",1) -> х | AU12: =IF(ISERROR(MATCH(CONCATENATE($C12,AU$6),ЕСНСИ!$A$2:$A$10000,0)),"х",1) -> х
B13: 5 | C13: =OFFSET('База ведомств'!$A$1,2,MATCH($D$7,'База ведомств'!$C$2:$EI$2,0)*1,50,1) -> 1022201770381 | D13: =OFFSET('База ведомств'!$A$1,2,MATCH($D$7,'База ведомств'!$C$2:$EI$2,0)+1,50,1) -> Комитет по управлению муниципальной собственностью г. Барнаула | E13: =IF(ISERROR(MATCH(CONCATENATE($C13,E$6),ЕСНСИ!$A$2:$A$10000,0)),"х",1) -> х | F13: =IF(ISERROR(MATCH(CONCATENATE($C13,F$6),ЕСНСИ!$A$2:$A$10000,0)),"х",1) -> х | G13: =IF(ISERROR(MATCH(CONCATENATE($C13,G$6),ЕСНСИ!$A$2:$A$10000,0)),"х",1) -> х | H13: =IF(ISERROR(MATCH(CONCATENATE($C13,H$6),ЕСНСИ!$A$2:$A$10000,0)),"х",1) -> х | I13: =IF(ISERROR(MATCH(CONCATENATE($C13,I$6),ЕСНСИ!$A$2:$A$10000,0)),"х",1) -> х | J13: =IF(ISERROR(MATCH(CONCATENATE($C13,J$6),ЕСНСИ!$A$2:$A$10000,0)),"х",1) -> х | K13: =IF(ISERROR(MATCH(CONCATENATE($C13,K$6),ЕСНСИ!$A$2:$A$10000,0)),"х",1) -> х | L13: =IF(ISERROR(MATCH(CONCATENATE($C13,L$6),ЕСНСИ!$A$2:$A$10000,0)),"х",1) -> х | ... AE13: =IF(ISERROR(MATCH(CONCATENATE($C13,AE$6),ЕСНСИ!$A$2:$A$10000,0)),"х",1) -> х | AF13: =IF(ISERROR(MATCH(CONCATENATE($C13,AF$6),SERVICE_ROUTE_ORG!$A$2:$A$10000,0)),"х",1) -> х | AG13: =IF(ISERROR(MATCH(CONCATENATE($C13,AG$6),ЕСНСИ!$A$2:$A$10000,0)),"х",1) -> х | AH13: =IF(ISERROR(MATCH(CONCATENATE($C13,AH$6),ЕСНСИ!$A$2:$A$10000,0)),"х",1) -> х | AI13: =IF(ISERROR(MATCH(CONCATENATE($C13,AI$6),ЕСНСИ!$A$2:$A$10000,0)),"х",1) -> х | AJ13: =IF(ISERROR(MATCH(CONCATENATE($C13,AJ$6),ЕСНСИ!$A$2:$A$10000,0)),"х",1) -> х | AK13: =IF(ISERROR(MATCH(CONCATENATE($C13,AK$6),ЕСНСИ!$A$2:$A$10000,0)),"х",1) -> х | AL13: =IF(ISERROR(MATCH(CONCATENATE($C13,AL$6),ЕСНСИ!$A$2:$A$10000,0)),"х",1) -> х | AM13: =IF(ISERROR(MATCH(CONCATENATE($C13,AM$6),ЕСНСИ!$A$2:$A$10000,0)),"х",1) -> х | AN13: =IF(ISERROR(MATCH(CONCATENATE($C13,AN$6),ЕСНСИ!$A$2:$A$10000,0)),"х",1) -> 1 | AO13: =IF(ISERROR(MATCH(CONCATENATE($C13,AO$6),OIV_SERVICES!$A$2:$A$10000,0)),"х",1) -> х | AP13: =IF(ISERROR(MATCH(CONCATENATE($C13,AP$6),ЕСНСИ!$A$2:$A$10000,0)),"х",1) -> х | AQ13: =IF(ISERROR(MATCH(CONCATENATE($C13,AQ$6),ЕСНСИ!$A$2:$A$10000,0)),"х",1) -> х | AR13: =IF(ISERROR(MATCH(CONCATENATE($C13,AR$6),ЕСНСИ!$A$2:$A$10000,0)),"х",1) -> х | AS13: =IF(ISERROR(MATCH(CONCATENATE($C13,AS$6),ЕСНСИ!$A$2:$A$10000,0)),"х",1) -> х | AT13: =IF(ISERROR(MATCH(CONCATENATE($C13,AT$6),ЕСНСИ!$A$2:$A$10000,0)),"х",1) -> х | AU13: =IF(ISERROR(MATCH(CONCATENATE($C13,AU$6),ЕСНСИ!$A$2:$A$10000,0)),"х",1) -> х
B14: 6 | C14: =OFFSET('База ведомств'!$A$1,2,MATCH($D$7,'База ведомств'!$C$2:$EI$2,0)*1,50,1) -> 1022200907156 | D14: =OFFSET('База ведомств'!$A$1,2,MATCH($D$7,'База ведомств'!$C$2:$EI$2,0)+1,50,1) -> Комитет по строительству, архитектуре и развитию г. Барнаула | E14: =IF(ISERROR(MATCH(CONCATENATE($C14,E$6),ЕСНСИ!$A$2:$A$10000,0)),"х",1) -> 1 | F14: =IF(ISERROR(MATCH(CONCATENATE($C14,F$6),ЕСНСИ!$A$2:$A$10000,0)),"х",1) -> 1 | G14: =IF(ISERROR(MATCH(CONCATENATE($C14,G$6),ЕСНСИ!$A$2:$A$10000,0)),"х",1) -> х | H14: =IF(ISERROR(MATCH(CONCATENATE($C14,H$6),ЕСНСИ!$A$2:$A$10000,0)),"х",1) -> х | I14: =IF(ISERROR(MATCH(CONCATENATE($C14,I$6),ЕСНСИ!$A$2:$A$10000,0)),"х",1) -> 1 | J14: =IF(ISERROR(MATCH(CONCATENATE($C14,J$6),ЕСНСИ!$A$2:$A$10000,0)),"х",1) -> х | K14: =IF(ISERROR(MATCH(CONCATENATE($C14,K$6),ЕСНСИ!$A$2:$A$10000,0)),"х",1) -> х | L14: =IF(ISERROR(MATCH(CONCATENATE($C14,L$6),ЕСНСИ!$A$2:$A$10000,0)),"х",1) -> х | ... AE14: =IF(ISERROR(MATCH(CONCATENATE($C14,AE$6),ЕСНСИ!$A$2:$A$10000,0)),"х",1) -> х | AF14: =IF(ISERROR(MATCH(CONCATENATE($C14,AF$6),SERVICE_ROUTE_ORG!$A$2:$A$10000,0)),"х",1) -> 1 | AG14: =IF(ISERROR(MATCH(CONCATENATE($C14,AG$6),ЕСНСИ!$A$2:$A$10000,0)),"х",1) -> х | AH14: =IF(ISERROR(MATCH(CONCATENATE($C14,AH$6),ЕСНСИ!$A$2:$A$10000,0)),"х",1) -> х | AI14: =IF(ISERROR(MATCH(CONCATENATE($C14,AI$6),ЕСНСИ!$A$2:$A$10000,0)),"х",1) -> х | AJ14: =IF(ISERROR(MATCH(CONCATENATE($C14,AJ$6),ЕСНСИ!$A$2:$A$10000,0)),"х",1) -> х | AK14: =IF(ISERROR(MATCH(CONCATENATE($C14,AK$6),ЕСНСИ!$A$2:$A$10000,0)),"х",1) -> х | AL14: =IF(ISERROR(MATCH(CONCATENATE($C14,AL$6),ЕСНСИ!$A$2:$A$10000,0)),"х",1) -> х | AM14: =IF(ISERROR(MATCH(CONCATENATE($C14,AM$6),ЕСНСИ!$A$2:$A$10000,0)),"х",1) -> х | AN14: =IF(ISERROR(MATCH(CONCATENATE($C14,AN$6),ЕСНСИ!$A$2:$A$10000,0)),"х",1) -> х | AO14: =IF(ISERROR(MATCH(CONCATENATE($C14,AO$6),OIV_SERVICES!$A$2:$A$10000,0)),"х",1) -> х | AP14: =IF(ISERROR(MATCH(CONCATENATE($C14,AP$6),ЕСНСИ!$A$2:$A$10000,0)),"х",1) -> х | AQ14: =IF(ISERROR(MATCH(CONCATENATE($C14,AQ$6),ЕСНСИ!$A$2:$A$10000,0)),"х",1) -> х | AR14: =IF(ISERROR(MATCH(CONCATENATE($C14,AR$6),ЕСНСИ!$A$2:$A$10000,0)),"х",1) -> х | AS14: =IF(ISERROR(MATCH(CONCATENATE($C14,AS$6),ЕСНСИ!$A$2:$A$10000,0)),"х",1) -> х | AT14: =IF(ISERROR(MATCH(CONCATENATE($C14,AT$6),ЕСНСИ!$A$2:$A$10000,0)),"х",1) -> х | AU14: =IF(ISERROR(MATCH(CONCATENATE($C14,AU$6),ЕСНСИ!$A$2:$A$10000,0)),"х",1) -> х
B15: 7 | C15: =OFFSET('База ведомств'!$A$1,2,MATCH($D$7,'База ведомств'!$C$2:$EI$2,0)*1,50,1) -> 1232200021096 | D15: =OFFSET('База ведомств'!$A$1,2,MATCH($D$7,'База ведомств'!$C$2:$EI$2,0)+1,50,1) -> Комитет по благоустройству г. Барнаула | E15: =IF(ISERROR(MATCH(CONCATENATE($C15,E$6),ЕСНСИ!$A$2:$A$10000,0)),"х",1) -> х | F15: =IF(ISERROR(MATCH(CONCATENATE($C15,F$6),ЕСНСИ!$A$2:$A$10000,0)),"х",1) -> х | G15: =IF(ISERROR(MATCH(CONCATENATE($C15,G$6),ЕСНСИ!$A$2:$A$10000,0)),"х",1) -> х | H15: =IF(ISERROR(MATCH(CONCATENATE($C15,H$6),ЕСНСИ!$A$2:$A$10000,0)),"х",1) -> х | I15: =IF(ISERROR(MATCH(CONCATENATE($C15,I$6),ЕСНСИ!$A$2:$A$10000,0)),"х",1) -> х | J15: =IF(ISERROR(MATCH(CONCATENATE($C15,J$6),ЕСНСИ!$A$2:$A$10000,0)),"х",1) -> 1 | K15: =IF(ISERROR(MATCH(CONCATENATE($C15,K$6),ЕСНСИ!$A$2:$A$10000,0)),"х",1) -> х | L15: =IF(ISERROR(MATCH(CONCATENATE($C15,L$6),ЕСНСИ!$A$2:$A$10000,0)),"х",1) -> х | ... AE15: =IF(ISERROR(MATCH(CONCATENATE($C15,AE$6),ЕСНСИ!$A$2:$A$10000,0)),"х",1) -> х | AF15: =IF(ISERROR(MATCH(CONCATENATE($C15,AF$6),SERVICE_ROUTE_ORG!$A$2:$A$10000,0)),"х",1) -> х | AG15: =IF(ISERROR(MATCH(CONCATENATE($C15,AG$6),ЕСНСИ!$A$2:$A$10000,0)),"х",1) -> х | AH15: =IF(ISERROR(MATCH(CONCATENATE($C15,AH$6),ЕСНСИ!$A$2:$A$10000,0)),"х",1) -> х | AI15: =IF(ISERROR(MATCH(CONCATENATE($C15,AI$6),ЕСНСИ!$A$2:$A$10000,0)),"х",1) -> х | AJ15: =IF(ISERROR(MATCH(CONCATENATE($C15,AJ$6),ЕСНСИ!$A$2:$A$10000,0)),"х",1) -> х | AK15: =IF(ISERROR(MATCH(CONCATENATE($C15,AK$6),ЕСНСИ!$A$2:$A$10000,0)),"х",1) -> х | AL15: =IF(ISERROR(MATCH(CONCATENATE($C15,AL$6),ЕСНСИ!$A$2:$A$10000,0)),"х",1) -> х | AM15: =IF(ISERROR(MATCH(CONCATENATE($C15,AM$6),ЕСНСИ!$A$2:$A$10000,0)),"х",1) -> х | AN15: =IF(ISERROR(MATCH(CONCATENATE($C15,AN$6),ЕСНСИ!$A$2:$A$10000,0)),"х",1) -> х | AO15: =IF(ISERROR(MATCH(CONCATENATE($C15,AO$6),OIV_SERVICES!$A$2:$A$10000,0)),"х",1) -> х | AP15: =IF(ISERROR(MATCH(CONCATENATE($C15,AP$6),ЕСНСИ!$A$2:$A$10000,0)),"х",1) -> х | AQ15: =IF(ISERROR(MATCH(CONCATENATE($C15,AQ$6),ЕСНСИ!$A$2:$A$10000,0)),"х",1) -> х | AR15: =IF(ISERROR(MATCH(CONCATENATE($C15,AR$6),ЕСНСИ!$A$2:$A$10000,0)),"х",1) -> х | AS15: =IF(ISERROR(MATCH(CONCATENATE($C15,AS$6),ЕСНСИ!$A$2:$A$10000,0)),"х",1) -> х | AT15: =IF(ISERROR(MATCH(CONCATENATE($C15,AT$6),ЕСНСИ!$A$2:$A$10000,0)),"х",1) -> х | AU15: =IF(ISERROR(MATCH(CONCATENATE($C15,AU$6),ЕСНСИ!$A$2:$A$10000,0)),"х",1) -> х
B16: 8 | C16: =OFFSET('База ведомств'!$A$1,2,MATCH($D$7,'База ведомств'!$C$2:$EI$2,0)*1,50,1) -> 1022200908839 | D16: =OFFSET('База ведомств'!$A$1,2,MATCH($D$7,'База ведомств'!$C$2:$EI$2,0)+1,50,1) -> Комитет по физической культуре и спорту г. Барнаула | E16: =IF(ISERROR(MATCH(CONCATENATE($C16,E$6),ЕСНСИ!$A$2:$A$10000,0)),"х",1) -> х | F16: =IF(ISERROR(MATCH(CONCATENATE($C16,F$6),ЕСНСИ!$A$2:$A$10000,0)),"х",1) -> х | G16: =IF(ISERROR(MATCH(CONCATENATE($C16,G$6),ЕСНСИ!$A$2:$A$10000,0)),"х",1) -> х | H16: =IF(ISERROR(MATCH(CONCATENATE($C16,H$6),ЕСНСИ!$A$2:$A$10000,0)),"х",1) -> х | I16: =IF(ISERROR(MATCH(CONCATENATE($C16,I$6),ЕСНСИ!$A$2:$A$10000,0)),"х",1) -> х | J16: =IF(ISERROR(MATCH(CONCATENATE($C16,J$6),ЕСНСИ!$A$2:$A$10000,0)),"х",1) -> х | K16: =IF(ISERROR(MATCH(CONCATENATE($C16,K$6),ЕСНСИ!$A$2:$A$10000,0)),"х",1) -> х | L16: =IF(ISERROR(MATCH(CONCATENATE($C16,L$6),ЕСНСИ!$A$2:$A$10000,0)),"х",1) -> х | ... AE16: =IF(ISERROR(MATCH(CONCATENATE($C16,AE$6),ЕСНСИ!$A$2:$A$10000,0)),"х",1) -> х | AF16: =IF(ISERROR(MATCH(CONCATENATE($C16,AF$6),SERVICE_ROUTE_ORG!$A$2:$A$10000,0)),"х",1) -> х | AG16: =IF(ISERROR(MATCH(CONCATENATE($C16,AG$6),ЕСНСИ!$A$2:$A$10000,0)),"х",1) -> х | AH16: =IF(ISERROR(MATCH(CONCATENATE($C16,AH$6),ЕСНСИ!$A$2:$A$10000,0)),"х",1) -> х | AI16: =IF(ISERROR(MATCH(CONCATENATE($C16,AI$6),ЕСНСИ!$A$2:$A$10000,0)),"х",1) -> х | AJ16: =IF(ISERROR(MATCH(CONCATENATE($C16,AJ$6),ЕСНСИ!$A$2:$A$10000,0)),"х",1) -> х | AK16: =IF(ISERROR(MATCH(CONCATENATE($C16,AK$6),ЕСНСИ!$A$2:$A$10000,0)),"х",1) -> х | AL16: =IF(ISERROR(MATCH(CONCATENATE($C16,AL$6),ЕСНСИ!$A$2:$A$10000,0)),"х",1) -> х | AM16: =IF(ISERROR(MATCH(CONCATENATE($C16,AM$6),ЕСНСИ!$A$2:$A$10000,0)),"х",1) -> х | AN16: =IF(ISERROR(MATCH(CONCATENATE($C16,AN$6),ЕСНСИ!$A$2:$A$10000,0)),"х",1) -> х | AO16: =IF(ISERROR(MATCH(CONCATENATE($C16,AO$6),OIV_SERVICES!$A$2:$A$10000,0)),"х",1) -> х | AP16: =IF(ISERROR(MATCH(CONCATENATE($C16,AP$6),ЕСНСИ!$A$2:$A$10000,0)),"х",1) -> х | AQ16: =IF(ISERROR(MATCH(CONCATENATE($C16,AQ$6),ЕСНСИ!$A$2:$A$10000,0)),"х",1) -> х | AR16: =IF(ISERROR(MATCH(CONCATENATE($C16,AR$6),ЕСНСИ!$A$2:$A$10000,0)),"х",1) -> х | AS16: =IF(ISERROR(MATCH(CONCATENATE($C16,AS$6),ЕСНСИ!$A$2:$A$10000,0)),"х",1) -> х | AT16: =IF(ISERROR(MATCH(CONCATENATE($C16,AT$6),ЕСНСИ!$A$2:$A$10000,0)),"х",1) -> х | AU16: =IF(ISERROR(MATCH(CONCATENATE($C16,AU$6),ЕСНСИ!$A$2:$A$10000,0)),"х",1) -> х
B17: 9 | C17: =OFFSET('База ведомств'!$A$1,2,MATCH($D$7,'База ведомств'!$C$2:$EI$2,0)*1,50,1) -> 1022200895441 | D17: =OFFSET('База ведомств'!$A$1,2,MATCH($D$7,'База ведомств'!$C$2:$EI$2,0)+1,50,1) -> Администрация Железнодорожного района г. Барнаула | E17: =IF(ISERROR(MATCH(CONCATENATE($C17,E$6),ЕСНСИ!$A$2:$A$10000,0)),"х",1) -> 1 | F17: =IF(ISERROR(MATCH(CONCATENATE($C17,F$6),ЕСНСИ!$A$2:$A$10000,0)),"х",1) -> х | G17: =IF(ISERROR(MATCH(CONCATENATE($C17,G$6),ЕСНСИ!$A$2:$A$10000,0)),"х",1) -> 1 | H17: =IF(ISERROR(MATCH(CONCATENATE($C17,H$6),ЕСНСИ!$A$2:$A$10000,0)),"х",1) -> 1 | I17: =IF(ISERROR(MATCH(CONCATENATE($C17,I$6),ЕСНСИ!$A$2:$A$10000,0)),"х",1) -> 1 | J17: =IF(ISERROR(MATCH(CONCATENATE($C17,J$6),ЕСНСИ!$A$2:$A$10000,0)),"х",1) -> х | K17: =IF(ISERROR(MATCH(CONCATENATE($C17,K$6),ЕСНСИ!$A$2:$A$10000,0)),"х",1) -> х | L17: =IF(ISERROR(MATCH(CONCATENATE($C17,L$6),ЕСНСИ!$A$2:$A$10000,0)),"х",1) -> х | ... AE17: =IF(ISERROR(MATCH(CONCATENATE($C17,AE$6),ЕСНСИ!$A$2:$A$10000,0)),"х",1) -> 1 | AF17: =IF(ISERROR(MATCH(CONCATENATE($C17,AF$6),SERVICE_ROUTE_ORG!$A$2:$A$10000,0)),"х",1) -> х | AG17: =IF(ISERROR(MATCH(CONCATENATE($C17,AG$6),ЕСНСИ!$A$2:$A$10000,0)),"х",1) -> х | AH17: =IF(ISERROR(MATCH(CONCATENATE($C17,AH$6),ЕСНСИ!$A$2:$A$10000,0)),"х",1) -> х | AI17: =IF(ISERROR(MATCH(CONCATENATE($C17,AI$6),ЕСНСИ!$A$2:$A$10000,0)),"х",1) -> х | AJ17: =IF(ISERROR(MATCH(CONCATENATE($C17,AJ$6),ЕСНСИ!$A$2:$A$10000,0)),"х",1) -> х | AK17: =IF(ISERROR(MATCH(CONCATENATE($C17,AK$6),ЕСНСИ!$A$2:$A$10000,0)),"х",1) -> х | AL17: =IF(ISERROR(MATCH(CONCATENATE($C17,AL$6),ЕСНСИ!$A$2:$A$10000,0)),"х",1) -> 1 | AM17: =IF(ISERROR(MATCH(CONCATENATE($C17,AM$6),ЕСНСИ!$A$2:$A$10000,0)),"х",1) -> 1 | AN17: =IF(ISERROR(MATCH(CONCATENATE($C17,AN$6),ЕСНСИ!$A$2:$A$10000,0)),"х",1) -> х | AO17: =IF(ISERROR(MATCH(CONCATENATE($C17,AO$6),OIV_SERVICES!$A$2:$A$10000,0)),"х",1) -> х | AP17: =IF(ISERROR(MATCH(CONCATENATE($C17,AP$6),ЕСНСИ!$A$2:$A$10000,0)),"х",1) -> х | AQ17: =IF(ISERROR(MATCH(CONCATENATE($C17,AQ$6),ЕСНСИ!$A$2:$A$10000,0)),"х",1) -> х | AR17: =IF(ISERROR(MATCH(CONCATENATE($C17,AR$6),ЕСНСИ!$A$2:$A$10000,0)),"х",1) -> х | AS17: =IF(ISERROR(MATCH(CONCATENATE($C17,AS$6),ЕСНСИ!$A$2:$A$10000,0)),"х",1) -> х | AT17: =IF(ISERROR(MATCH(CONCATENATE($C17,AT$6),ЕСНСИ!$A$2:$A$10000,0)),"х",1) -> 1 | AU17: =IF(ISERROR(MATCH(CONCATENATE($C17,AU$6),ЕСНСИ!$A$2:$A$10000,0)),"х",1) -> х
B18: 10 | C18: =OFFSET('База ведомств'!$A$1,2,MATCH($D$7,'База ведомств'!$C$2:$EI$2,0)*1,50,1) -> 1022201128905 | D18: =OFFSET('База ведомств'!$A$1,2,MATCH($D$7,'База ведомств'!$C$2:$EI$2,0)+1,50,1) -> Администрация Индустриального района г. Барнаула | E18: =IF(ISERROR(MATCH(CONCATENATE($C18,E$6),ЕСНСИ!$A$2:$A$10000,0)),"х",1) -> 1 | F18: =IF(ISERROR(MATCH(CONCATENATE($C18,F$6),ЕСНСИ!$A$2:$A$10000,0)),"х",1) -> х | G18: =IF(ISERROR(MATCH(CONCATENATE($C18,G$6),ЕСНСИ!$A$2:$A$10000,0)),"х",1) -> 1 | H18: =IF(ISERROR(MATCH(CONCATENATE($C18,H$6),ЕСНСИ!$A$2:$A$10000,0)),"х",1) -> 1 | I18: =IF(ISERROR(MATCH(CONCATENATE($C18,I$6),ЕСНСИ!$A$2:$A$10000,0)),"х",1) -> 1 | J18: =IF(ISERROR(MATCH(CONCATENATE($C18,J$6),ЕСНСИ!$A$2:$A$10000,0)),"х",1) -> х | K18: =IF(ISERROR(MATCH(CONCATENATE($C18,K$6),ЕСНСИ!$A$2:$A$10000,0)),"х",1) -> х | L18: =IF(ISERROR(MATCH(CONCATENATE($C18,L$6),ЕСНСИ!$A$2:$A$10000,0)),"х",1) -> х | ... AE18: =IF(ISERROR(MATCH(CONCATENATE($C18,AE$6),ЕСНСИ!$A$2:$A$10000,0)),"х",1) -> 1 | AF18: =IF(ISERROR(MATCH(CONCATENATE($C18,AF$6),SERVICE_ROUTE_ORG!$A$2:$A$10000,0)),"х",1) -> х | AG18: =IF(ISERROR(MATCH(CONCATENATE($C18,AG$6),ЕСНСИ!$A$2:$A$10000,0)),"х",1) -> х | AH18: =IF(ISERROR(MATCH(CONCATENATE($C18,AH$6),ЕСНСИ!$A$2:$A$10000,0)),"х",1) -> х | AI18: =IF(ISERROR(MATCH(CONCATENATE($C18,AI$6),ЕСНСИ!$A$2:$A$10000,0)),"х",1) -> х | AJ18: =IF(ISERROR(MATCH(CONCATENATE($C18,AJ$6),ЕСНСИ!$A$2:$A$10000,0)),"х",1) -> х | AK18: =IF(ISERROR(MATCH(CONCATENATE($C18,AK$6),ЕСНСИ!$A$2:$A$10000,0)),"х",1) -> х | AL18: =IF(ISERROR(MATCH(CONCATENATE($C18,AL$6),ЕСНСИ!$A$2:$A$10000,0)),"х",1) -> 1 | AM18: =IF(ISERROR(MATCH(CONCATENATE($C18,AM$6),ЕСНСИ!$A$2:$A$10000,0)),"х",1) -> 1 | AN18: =IF(ISERROR(MATCH(CONCATENATE($C18,AN$6),ЕСНСИ!$A$2:$A$10000,0)),"х",1) -> х | AO18: =IF(ISERROR(MATCH(CONCATENATE($C18,AO$6),OIV_SERVICES!$A$2:$A$10000,0)),"х",1) -> х | AP18: =IF(ISERROR(MATCH(CONCATENATE($C18,AP$6),ЕСНСИ!$A$2:$A$10000,0)),"х",1) -> х | AQ18: =IF(ISERROR(MATCH(CONCATENATE($C18,AQ$6),ЕСНСИ!$A$2:$A$10000,0)),"х",1) -> х | AR18: =IF(ISERROR(MATCH(CONCATENATE($C18,AR$6),ЕСНСИ!$A$2:$A$10000,0)),"х",1) -> х | AS18: =IF(ISERROR(MATCH(CONCATENATE($C18,AS$6),ЕСНСИ!$A$2:$A$10000,0)),"х",1) -> х | AT18: =IF(ISERROR(MATCH(CONCATENATE($C18,AT$6),ЕСНСИ!$A$2:$A$10000,0)),"х",1) -> 1 | AU18: =IF(ISERROR(MATCH(CONCATENATE($C18,AU$6),ЕСНСИ!$A$2:$A$10000,0)),"х",1) -> х
B19: 11 | C19: =OFFSET('База ведомств'!$A$1,2,MATCH($D$7,'База ведомств'!$C$2:$EI$2,0)*1,50,1) -> 1022201145768 | D19: =OFFSET('База ведомств'!$A$1,2,MATCH($D$7,'База ведомств'!$C$2:$EI$2,0)+1,50,1) -> Власихинская сельская администрация Индустриального района г. Барнаула | E19: =IF(ISERROR(MATCH(CONCATENATE($C19,E$6),ЕСНСИ!$A$2:$A$10000,0)),"х",1) -> х | F19: =IF(ISERROR(MATCH(CONCATENATE($C19,F$6),ЕСНСИ!$A$2:$A$10000,0)),"х",1) -> х | G19: =IF(ISERROR(MATCH(CONCATENATE($C19,G$6),ЕСНСИ!$A$2:$A$10000,0)),"х",1) -> х | H19: =IF(ISERROR(MATCH(CONCATENATE($C19,H$6),ЕСНСИ!$A$2:$A$10000,0)),"х",1) -> х | I19: =IF(ISERROR(MATCH(CONCATENATE($C19,I$6),ЕСНСИ!$A$2:$A$10000,0)),"х",1) -> х | J19: =IF(ISERROR(MATCH(CONCATENATE($C19,J$6),ЕСНСИ!$A$2:$A$10000,0)),"х",1) -> х | K19: =IF(ISERROR(MATCH(CONCATENATE($C19,K$6),ЕСНСИ!$A$2:$A$10000,0)),"х",1) -> х | L19: =IF(ISERROR(MATCH(CONCATENATE($C19,L$6),ЕСНСИ!$A$2:$A$10000,0)),"х",1) -> х | ... AE19: =IF(ISERROR(MATCH(CONCATENATE($C19,AE$6),ЕСНСИ!$A$2:$A$10000,0)),"х",1) -> х | AF19: =IF(ISERROR(MATCH(CONCATENATE($C19,AF$6),SERVICE_ROUTE_ORG!$A$2:$A$10000,0)),"х",1) -> х | AG19: =IF(ISERROR(MATCH(CONCATENATE($C19,AG$6),ЕСНСИ!$A$2:$A$10000,0)),"х",1) -> х | AH19: =IF(ISERROR(MATCH(CONCATENATE($C19,AH$6),ЕСНСИ!$A$2:$A$10000,0)),"х",1) -> х | AI19: =IF(ISERROR(MATCH(CONCATENATE($C19,AI$6),ЕСНСИ!$A$2:$A$10000,0)),"х",1) -> х | AJ19: =IF(ISERROR(MATCH(CONCATENATE($C19,AJ$6),ЕСНСИ!$A$2:$A$10000,0)),"х",1) -> х | AK19: =IF(ISERROR(MATCH(CONCATENATE($C19,AK$6),ЕСНСИ!$A$2:$A$10000,0)),"х",1) -> х | AL19: =IF(ISERROR(MATCH(CONCATENATE($C19,AL$6),ЕСНСИ!$A$2:$A$10000,0)),"х",1) -> х | AM19: =IF(ISERROR(MATCH(CONCATENATE($C19,AM$6),ЕСНСИ!$A$2:$A$10000,0)),"х",1) -> х | AN19: =IF(ISERROR(MATCH(CONCATENATE($C19,AN$6),ЕСНСИ!$A$2:$A$10000,0)),"х",1) -> х | AO19: =IF(ISERROR(MATCH(CONCATENATE($C19,AO$6),OIV_SERVICES!$A$2:$A$10000,0)),"х",1) -> х | AP19: =IF(ISERROR(MATCH(CONCATENATE($C19,AP$6),ЕСНСИ!$A$2:$A$10000,0)),"х",1) -> х | AQ19: =IF(ISERROR(MATCH(CONCATENATE($C19,AQ$6),ЕСНСИ!$A$2:$A$10000,0)),"х",1) -> х | AR19: =IF(ISERROR(MATCH(CONCATENATE($C19,AR$6),ЕСНСИ!$A$2:$A$10000,0)),"х",1) -> х | AS19: =IF(ISERROR(MATCH(CONCATENATE($C19,AS$6),ЕСНСИ!$A$2:$A$10000,0)),"х",1) -> х | AT19: =IF(ISERROR(MATCH(CONCATENATE($C19,AT$6),ЕСНСИ!$A$2:$A$10000,0)),"х",1) -> 1 | AU19: =IF(ISERROR(MATCH(CONCATENATE($C19,AU$6),ЕСНСИ!$A$2:$A$10000,0)),"х",1) -> х
B20: 12 | C20: =OFFSET('База ведомств'!$A$1,2,MATCH($D$7,'База ведомств'!$C$2:$EI$2,0)*1,50,1) -> 1022201386900 | D20: =OFFSET('База ведомств'!$A$1,2,MATCH($D$7,'База ведомств'!$C$2:$EI$2,0)+1,50,1) -> Администрация Ленинского района г. Барнаула | E20: =IF(ISERROR(MATCH(CONCATENATE($C20,E$6),ЕСНСИ!$A$2:$A$10000,0)),"х",1) -> 1 | F20: =IF(ISERROR(MATCH(CONCATENATE($C20,F$6),ЕСНСИ!$A$2:$A$10000,0)),"х",1) -> 1 | G20: =IF(ISERROR(MATCH(CONCATENATE($C20,G$6),ЕСНСИ!$A$2:$A$10000,0)),"х",1) -> 1 | H20: =IF(ISERROR(MATCH(CONCATENATE($C20,H$6),ЕСНСИ!$A$2:$A$10000,0)),"х",1) -> 1 | I20: =IF(ISERROR(MATCH(CONCATENATE($C20,I$6),ЕСНСИ!$A$2:$A$10000,0)),"х",1) -> 1 | J20: =IF(ISERROR(MATCH(CONCATENATE($C20,J$6),ЕСНСИ!$A$2:$A$10000,0)),"х",1) -> х | K20: =IF(ISERROR(MATCH(CONCATENATE($C20,K$6),ЕСНСИ!$A$2:$A$10000,0)),"х",1) -> х | L20: =IF(ISERROR(MATCH(CONCATENATE($C20,L$6),ЕСНСИ!$A$2:$A$10000,0)),"х",1) -> х | ... AE20: =IF(ISERROR(MATCH(CONCATENATE($C20,AE$6),ЕСНСИ!$A$2:$A$10000,0)),"х",1) -> 1 | AF20: =IF(ISERROR(MATCH(CONCATENATE($C20,AF$6),SERVICE_ROUTE_ORG!$A$2:$A$10000,0)),"х",1) -> х | AG20: =IF(ISERROR(MATCH(CONCATENATE($C20,AG$6),ЕСНСИ!$A$2:$A$10000,0)),"х",1) -> х | AH20: =IF(ISERROR(MATCH(CONCATENATE($C20,AH$6),ЕСНСИ!$A$2:$A$10000,0)),"х",1) -> х | AI20: =IF(ISERROR(MATCH(CONCATENATE($C20,AI$6),ЕСНСИ!$A$2:$A$10000,0)),"х",1) -> х | AJ20: =IF(ISERROR(MATCH(CONCATENATE($C20,AJ$6),ЕСНСИ!$A$2:$A$10000,0)),"х",1) -> х | AK20: =IF(ISERROR(MATCH(CONCATENATE($C20,AK$6),ЕСНСИ!$A$2:$A$10000,0)),"х",1) -> х | AL20: =IF(ISERROR(MATCH(CONCATENATE($C20,AL$6),ЕСНСИ!$A$2:$A$10000,0)),"х",1) -> 1 | AM20: =IF(ISERROR(MATCH(CONCATENATE($C20,AM$6),ЕСНСИ!$A$2:$A$10000,0)),"х",1) -> 1 | AN20: =IF(ISERROR(MATCH(CONCATENATE($C20,AN$6),ЕСНСИ!$A$2:$A$10000,0)),"х",1) -> х | AO20: =IF(ISERROR(MATCH(CONCATENATE($C20,AO$6),OIV_SERVICES!$A$2:$A$10000,0)),"х",1) -> х | AP20: =IF(ISERROR(MATCH(CONCATENATE($C20,AP$6),ЕСНСИ!$A$2:$A$10000,0)),"х",1) -> х | AQ20: =IF(ISERROR(MATCH(CONCATENATE($C20,AQ$6),ЕСНСИ!$A$2:$A$10000,0)),"х",1) -> х | AR20: =IF(ISERROR(MATCH(CONCATENATE($C20,AR$6),ЕСНСИ!$A$2:$A$10000,0)),"х",1) -> х | AS20: =IF(ISERROR(MATCH(CONCATENATE($C20,AS$6),ЕСНСИ!$A$2:$A$10000,0)),"х",1) -> х | AT20: =IF(ISERROR(MATCH(CONCATENATE($C20,AT$6),ЕСНСИ!$A$2:$A$10000,0)),"х",1) -> 1 | AU20: =IF(ISERROR(MATCH(CONCATENATE($C20,AU$6),ЕСНСИ!$A$2:$A$10000,0)),"х",1) -> х
... B27: 19 | C27: =OFFSET('База ведомств'!$A$1,2,MATCH($D$7,'База ведомств'!$C$2:$EI$2,0)*1,50,1) -> 0 | D27: =OFFSET('База ведомств'!$A$1,2,MATCH($D$7,'База ведомств'!$C$2:$EI$2,0)+1,50,1) -> 0 | E27: =IF(ISERROR(MATCH(CONCATENATE($C27,E$6),ЕСНСИ!$A$2:$A$10000,0)),"х",1) -> х | F27: =IF(ISERROR(MATCH(CONCATENATE($C27,F$6),ЕСНСИ!$A$2:$A$10000,0)),"х",1) -> х | G27: =IF(ISERROR(MATCH(CONCATENATE($C27,G$6),ЕСНСИ!$A$2:$A$10000,0)),"х",1) -> х | H27: =IF(ISERROR(MATCH(CONCATENATE($C27,H$6),ЕСНСИ!$A$2:$A$10000,0)),"х",1) -> х | I27: =IF(ISERROR(MATCH(CONCATENATE($C27,I$6),ЕСНСИ!$A$2:$A$10000,0)),"х",1) -> х | J27: =IF(ISERROR(MATCH(CONCATENATE($C27,J$6),ЕСНСИ!$A$2:$A$10000,0)),"х",1) -> х | K27: =IF(ISERROR(MATCH(CONCATENATE($C27,K$6),ЕСНСИ!$A$2:$A$10000,0)),"х",1) -> х | L27: =IF(ISERROR(MATCH(CONCATENATE($C27,L$6),ЕСНСИ!$A$2:$A$10000,0)),"х",1) -> х | ... AE27: =IF(ISERROR(MATCH(CONCATENATE($C27,AE$6),ЕСНСИ!$A$2:$A$10000,0)),"х",1) -> х | AF27: =IF(ISERROR(MATCH(CONCATENATE($C27,AF$6),SERVICE_ROUTE_ORG!$A$2:$A$10000,0)),"х",1) -> х | AG27: =IF(ISERROR(MATCH(CONCATENATE($C27,AG$6),ЕСНСИ!$A$2:$A$10000,0)),"х",1) -> х | AH27: =IF(ISERROR(MATCH(CONCATENATE($C27,AH$6),ЕСНСИ!$A$2:$A$10000,0)),"х",1) -> х | AI27: =IF(ISERROR(MATCH(CONCATENATE($C27,AI$6),ЕСНСИ!$A$2:$A$10000,0)),"х",1) -> х | AJ27: =IF(ISERROR(MATCH(CONCATENATE($C27,AJ$6),ЕСНСИ!$A$2:$A$10000,0)),"х",1) -> х | AK27: =IF(ISERROR(MATCH(CONCATENATE($C27,AK$6),ЕСНСИ!$A$2:$A$10000,0)),"х",1) -> х | AL27: =IF(ISERROR(MATCH(CONCATENATE($C27,AL$6),ЕСНСИ!$A$2:$A$10000,0)),"х",1) -> х | AM27: =IF(ISERROR(MATCH(CONCATENATE($C27,AM$6),ЕСНСИ!$A$2:$A$10000,0)),"х",1) -> х | AN27: =IF(ISERROR(MATCH(CONCATENATE($C27,AN$6),ЕСНСИ!$A$2:$A$10000,0)),"х",1) -> х | AO27: =IF(ISERROR(MATCH(CONCATENATE($C27,AO$6),OIV_SERVICES!$A$2:$A$10000,0)),"х",1) -> х | AP27: =IF(ISERROR(MATCH(CONCATENATE($C27,AP$6),ЕСНСИ!$A$2:$A$10000,0)),"х",1) -> х | AQ27: =IF(ISERROR(MATCH(CONCATENATE($C27,AQ$6),ЕСНСИ!$A$2:$A$10000,0)),"х",1) -> х | AR27: =IF(ISERROR(MATCH(CONCATENATE($C27,AR$6),ЕСНСИ!$A$2:$A$10000,0)),"х",1) -> х | AS27: =IF(ISERROR(MATCH(CONCATENATE($C27,AS$6),ЕСНСИ!$A$2:$A$10000,0)),"х",1) -> х | AT27: =IF(ISERROR(MATCH(CONCATENATE($C27,AT$6),ЕСНСИ!$A$2:$A$10000,0)),"х",1) -> х | AU27: =IF(ISERROR(MATCH(CONCATENATE($C27,AU$6),ЕСНСИ!$A$2:$A$10000,0)),"х",1) -> х
B28: 20 | D28: =OFFSET('База ведомств'!$A$1,2,MATCH($D$7,'База ведомств'!$C$2:$EI$2,0)+1,50,1) -> 0 | E28: =IF(ISERROR(MATCH(CONCATENATE($C28,E$6),ЕСНСИ!$A$2:$A$10000,0)),"х",1) -> х | F28: =IF(ISERROR(MATCH(CONCATENATE($C28,F$6),ЕСНСИ!$A$2:$A$10000,0)),"х",1) -> х | G28: =IF(ISERROR(MATCH(CONCATENATE($C28,G$6),ЕСНСИ!$A$2:$A$10000,0)),"х",1) -> х | H28: =IF(ISERROR(MATCH(CONCATENATE($C28,H$6),ЕСНСИ!$A$2:$A$10000,0)),"х",1) -> х | I28: =IF(ISERROR(MATCH(CONCATENATE($C28,I$6),ЕСНСИ!$A$2:$A$10000,0)),"х",1) -> х | J28: =IF(ISERROR(MATCH(CONCATENATE($C28,J$6),ЕСНСИ!$A$2:$A$10000,0)),"х",1) -> х | K28: =IF(ISERROR(MATCH(CONCATENATE($C28,K$6),ЕСНСИ!$A$2:$A$10000,0)),"х",1) -> х | L28: =IF(ISERROR(MATCH(CONCATENATE($C28,L$6),ЕСНСИ!$A$2:$A$10000,0)),"х",1) -> х | ... AE28: =IF(ISERROR(MATCH(CONCATENATE($C28,AE$6),ЕСНСИ!$A$2:$A$10000,0)),"х",1) -> х | AF28: =IF(ISERROR(MATCH(CONCATENATE($C28,AF$6),SERVICE_ROUTE_ORG!$A$2:$A$10000,0)),"х",1) -> х | AG28: =IF(ISERROR(MATCH(CONCATENATE($C28,AG$6),ЕСНСИ!$A$2:$A$10000,0)),"х",1) -> х | AH28: =IF(ISERROR(MATCH(CONCATENATE($C28,AH$6),ЕСНСИ!$A$2:$A$10000,0)),"х",1) -> х | AI28: =IF(ISERROR(MATCH(CONCATENATE($C28,AI$6),ЕСНСИ!$A$2:$A$10000,0)),"х",1) -> х | AJ28: =IF(ISERROR(MATCH(CONCATENATE($C28,AJ$6),ЕСНСИ!$A$2:$A$10000,0)),"х",1) -> х | AK28: =IF(ISERROR(MATCH(CONCATENATE($C28,AK$6),ЕСНСИ!$A$2:$A$10000,0)),"х",1) -> х | AL28: =IF(ISERROR(MATCH(CONCATENATE($C28,AL$6),ЕСНСИ!$A$2:$A$10000,0)),"х",1) -> х | AM28: =IF(ISERROR(MATCH(CONCATENATE($C28,AM$6),ЕСНСИ!$A$2:$A$10000,0)),"х",1) -> х | AN28: =IF(ISERROR(MATCH(CONCATENATE($C28,AN$6),ЕСНСИ!$A$2:$A$10000,0)),"х",1) -> х | AO28: =IF(ISERROR(MATCH(CONCATENATE($C28,AO$6),OIV_SERVICES!$A$2:$A$10000,0)),"х",1) -> х | AP28: =IF(ISERROR(MATCH(CONCATENATE($C28,AP$6),ЕСНСИ!$A$2:$A$10000,0)),"х",1) -> х | AQ28: =IF(ISERROR(MATCH(CONCATENATE($C28,AQ$6),ЕСНСИ!$A$2:$A$10000,0)),"х",1) -> х | AR28: =IF(ISERROR(MATCH(CONCATENATE($C28,AR$6),ЕСНСИ!$A$2:$A$10000,0)),"х",1) -> х | AS28: =IF(ISERROR(MATCH(CONCATENATE($C28,AS$6),ЕСНСИ!$A$2:$A$10000,0)),"х",1) -> х | AT28: =IF(ISERROR(MATCH(CONCATENATE($C28,AT$6),ЕСНСИ!$A$2:$A$10000,0)),"х",1) -> х | AU28: =IF(ISERROR(MATCH(CONCATENATE($C28,AU$6),ЕСНСИ!$A$2:$A$10000,0)),"х",1) -> х
B29: 21 | D29: =OFFSET('База ведомств'!$A$1,2,MATCH($D$7,'База ведомств'!$C$2:$EI$2,0)+1,50,1) -> 0 | E29: =IF(ISERROR(MATCH(CONCATENATE($C29,E$6),ЕСНСИ!$A$2:$A$10000,0)),"х",1) -> х | F29: =IF(ISERROR(MATCH(CONCATENATE($C29,F$6),ЕСНСИ!$A$2:$A$10000,0)),"х",1) -> х | G29: =IF(ISERROR(MATCH(CONCATENATE($C29,G$6),ЕСНСИ!$A$2:$A$10000,0)),"х",1) -> х | H29: =IF(ISERROR(MATCH(CONCATENATE($C29,H$6),ЕСНСИ!$A$2:$A$10000,0)),"х",1) -> х | I29: =IF(ISERROR(MATCH(CONCATENATE($C29,I$6),ЕСНСИ!$A$2:$A$10000,0)),"х",1) -> х | J29: =IF(ISERROR(MATCH(CONCATENATE($C29,J$6),ЕСНСИ!$A$2:$A$10000,0)),"х",1) -> х | K29: =IF(ISERROR(MATCH(CONCATENATE($C29,K$6),ЕСНСИ!$A$2:$A$10000,0)),"х",1) -> х | L29: =IF(ISERROR(MATCH(CONCATENATE($C29,L$6),ЕСНСИ!$A$2:$A$10000,0)),"х",1) -> х | ... AE29: =IF(ISERROR(MATCH(CONCATENATE($C29,AE$6),ЕСНСИ!$A$2:$A$10000,0)),"х",1) -> х | AF29: =IF(ISERROR(MATCH(CONCATENATE($C29,AF$6),SERVICE_ROUTE_ORG!$A$2:$A$10000,0)),"х",1) -> х | AG29: =IF(ISERROR(MATCH(CONCATENATE($C29,AG$6),ЕСНСИ!$A$2:$A$10000,0)),"х",1) -> х | AH29: =IF(ISERROR(MATCH(CONCATENATE($C29,AH$6),ЕСНСИ!$A$2:$A$10000,0)),"х",1) -> х | AI29: =IF(ISERROR(MATCH(CONCATENATE($C29,AI$6),ЕСНСИ!$A$2:$A$10000,0)),"х",1) -> х | AJ29: =IF(ISERROR(MATCH(CONCATENATE($C29,AJ$6),ЕСНСИ!$A$2:$A$10000,0)),"х",1) -> х | AK29: =IF(ISERROR(MATCH(CONCATENATE($C29,AK$6),ЕСНСИ!$A$2:$A$10000,0)),"х",1) -> х | AL29: =IF(ISERROR(MATCH(CONCATENATE($C29,AL$6),ЕСНСИ!$A$2:$A$10000,0)),"х",1) -> х | AM29: =IF(ISERROR(MATCH(CONCATENATE($C29,AM$6),ЕСНСИ!$A$2:$A$10000,0)),"х",1) -> х | AN29: =IF(ISERROR(MATCH(CONCATENATE($C29,AN$6),ЕСНСИ!$A$2:$A$10000,0)),"х",1) -> х | AO29: =IF(ISERROR(MATCH(CONCATENATE($C29,AO$6),OIV_SERVICES!$A$2:$A$10000,0)),"х",1) -> х | AP29: =IF(ISERROR(MATCH(CONCATENATE($C29,AP$6),ЕСНСИ!$A$2:$A$10000,0)),"х",1) -> х | AQ29: =IF(ISERROR(MATCH(CONCATENATE($C29,AQ$6),ЕСНСИ!$A$2:$A$10000,0)),"х",1) -> х | AR29: =IF(ISERROR(MATCH(CONCATENATE($C29,AR$6),ЕСНСИ!$A$2:$A$10000,0)),"х",1) -> х | AS29: =IF(ISERROR(MATCH(CONCATENATE($C29,AS$6),ЕСНСИ!$A$2:$A$10000,0)),"х",1) -> х | AT29: =IF(ISERROR(MATCH(CONCATENATE($C29,AT$6),ЕСНСИ!$A$2:$A$10000,0)),"х",1) -> х | AU29: =IF(ISERROR(MATCH(CONCATENATE($C29,AU$6),ЕСНСИ!$A$2:$A$10000,0)),"х",1) -> х
D33: Наименование усулги | E33: Код услуги
D34: Выберите услугу, для создания списка подключенных ведомств в выбранном районе | E34: =OFFSET(D5,1,MATCH(D34,E5:AP5,0)) -> #N/A
D35: Фильтр
D36: =IF(ISERROR(MATCH(CONCATENATE($C9,$E$34),ЕСНСИ!$A$2:$A$10000,0)),"Скрыть через фильтр",D9) -> Скрыть через фильтр
D37: =IF(ISERROR(MATCH(CONCATENATE($C10,$E$34),ЕСНСИ!$A$2:$A$10000,0)),"Скрыть через фильтр",D10) -> Скрыть через фильтр
D38: =IF(ISERROR(MATCH(CONCATENATE($C11,$E$34),ЕСНСИ!$A$2:$A$10000,0)),"Скрыть через фильтр",D11) -> Скрыть через фильтр
D39: =IF(ISERROR(MATCH(CONCATENATE($C12,$E$34),ЕСНСИ!$A$2:$A$10000,0)),"Скрыть через фильтр",D12) -> Скрыть через фильтр
D40: =IF(ISERROR(MATCH(CONCATENATE($C13,$E$34),ЕСНСИ!$A$2:$A$10000,0)),"Скрыть через фильтр",D13) -> Скрыть через фильтр
D41: =IF(ISERROR(MATCH(CONCATENATE($C14,$E$34),ЕСНСИ!$A$2:$A$10000,0)),"Скрыть через фильтр",D14) -> Скрыть через фильтр
D42: =IF(ISERROR(MATCH(CONCATENATE($C15,$E$34),ЕСНСИ!$A$2:$A$10000,0)),"Скрыть через фильтр",D15) -> Скрыть через фильтр
D43: =IF(ISERROR(MATCH(CONCATENATE($C16,$E$34),ЕСНСИ!$A$2:$A$10000,0)),"Скрыть через фильтр",D16) -> Скрыть через фильтр
D44: =IF(ISERROR(MATCH(CONCATENATE($C17,$E$34),ЕСНСИ!$A$2:$A$10000,0)),"Скрыть через фильтр",D17) -> Скрыть через фильтр
D45: =IF(ISERROR(MATCH(CONCATENATE($C18,$E$34),ЕСНСИ!$A$2:$A$10000,0)),"Скрыть через фильтр",D18) -> Скрыть через фильтр
D46: =IF(ISERROR(MATCH(CONCATENATE($C19,$E$34),ЕСНСИ!$A$2:$A$10000,0)),"Скрыть через фильтр",D19) -> Скрыть через фильтр
D47: =IF(ISERROR(MATCH(CONCATENATE($C20,$E$34),ЕСНСИ!$A$2:$A$10000,0)),"Скрыть через фильтр",D20) -> Скрыть через фильтр
... D56: =IF(ISERROR(MATCH(CONCATENATE($C29,$E$34),ЕСНСИ!$A$2:$A$10000,0)),"Скрыть через фильтр",D29) -> Скрыть через фильтр
