Workbook

Sheet SERVICE_ROUTE_ORG
A1: Дата актуализации: 13.04.2026 | B1: CODE | C1: SERVICE_CODE
A2: =IF(B2="","",CONCATENATE(B2,C2)) -> 102220228376260047363 | B2: 1022202283762 | C2: 60047363
A3: =IF(B3="","",CONCATENATE(B3,C3)) -> 102220291465660047363 | B3: 1022202914656 | C3: 60047363
A4: =IF(B4="","",CONCATENATE(B4,C4)) -> 102220273332160047363 | B4: 1022202733321 | C4: 60047363
A5: =IF(B5="","",CONCATENATE(B5,C5)) -> 102220221842260047363 | B5: 1022202218422 | C5: 60047363
A6: =IF(B6="","",CONCATENATE(B6,C6)) -> 102220266976360047363 | B6: 1022202669763 | C6: 60047363
A7: =IF(B7="","",CONCATENATE(B7,C7)) -> 102220289323960047363 | B7: 1022202893239 | C7: 60047363
A8: =IF(B8="","",CONCATENATE(B8,C8)) -> 102220086704060047363 | B8: 1022200867040 | C8: 60047363
A9: =IF(B9="","",CONCATENATE(B9,C9)) -> 102220276863160047363 | B9: 1022202768631 | C9: 60047363
A10: =IF(B10="","",CONCATENATE(B10,C10)) -> 102220256352560047363 | B10: 1022202563525 | C10: 60047363
A11: =IF(B11="","",CONCATENATE(B11,C11)) -> 102220291695560047363 | B11: 1022202916955 | C11: 60047363
A12: =IF(B12="","",CONCATENATE(B12,C12)) -> 102220075457560047363 | B12: 1022200754575 | C12: 60047363
A13: =IF(B13="","",CONCATENATE(B13,C13)) -> 102220194445660047363 | B13: 1022201944456 | C13: 60047363
... A71: =IF(B71="","",CONCATENATE(B71,C71)) -> 125220001845460047363 | B71: 1252200018454 | C71: 60047363

Sheet ЕСНСИ
A1: Дата актуализации: 07.10.2026 | B1: CODE | C1: SERVICE_CODE
A2: =IF(B2="","",CONCATENATE(B2,C2)) -> 1072235001420-10000115376 | B2: 1072235001420 | C2: -10000115376
A3: =IF(B3="","",CONCATENATE(B3,C3)) -> 1072210001511-10000115337 | B3: 1072210001511 | C3: -10000115337
A4: =IF(B4="","",CONCATENATE(B4,C4)) -> 1022202191362-10000115331 | B4: 1022202191362 | C4: -10000115331
A5: =IF(B5="","",CONCATENATE(B5,C5)) -> 1072207001030-10000115377 | B5: 1072207001030 | C5: -10000115377
A6: =IF(B6="","",CONCATENATE(B6,C6)) -> 1022202217036-10000115356 | B6: 1022202217036 | C6: -10000115356
A7: =IF(B7="","",CONCATENATE(B7,C7)) -> 1022202611782-10000115331 | B7: 1022202611782 | C7: -10000115331
A8: =IF(B8="","",CONCATENATE(B8,C8)) -> 1022202101030-10000115345 | B8: 1022202101030 | C8: -10000115345
A9: =IF(B9="","",CONCATENATE(B9,C9)) -> 1022202072430-10000115356 | B9: 1022202072430 | C9: -10000115356
A10: =IF(B10="","",CONCATENATE(B10,C10)) -> 1022202149936-10000115361 | B10: 1022202149936 | C10: -10000115361
A11: =IF(B11="","",CONCATENATE(B11,C11)) -> 1022202916955-10000115366 | B11: 1022202916955 | C11: -10000115366
A12: =IF(B12="","",CONCATENATE(B12,C12)) -> 1022202611782-10000000208 | B12: 1022202611782 | C12: -10000000208
A13: =IF(B13="","",CONCATENATE(B13,C13)) -> 1022202073200-10000115339 | B13: 1022202073200 | C13: -10000115339
... A1193: =IF(B1193="","",CONCATENATE(B1193,C1193)) -> 1072235001453-10000000194 | B1193: 1072235001453 | C1193: -10000000194
B1194: 1022202217036 | C1194: -10000115323
A1195: =IF(B1195="","",CONCATENATE(B1195,C1195)) -> 1022202072430-10000115365 | B1195: 1022202072430 | C1195: -10000115365
A1196: =IF(B1196="","",CONCATENATE(B1196,C1196)) -> 1072210001577-10000000200 | B1196: 1072210001577 | C1196: -10000000200
A1197: =IF(B1197="","",CONCATENATE(B1197,C1197)) -> 1022200507823-10000115360 | B1197: 1022200507823 | C1197: -10000115360
A1198: =IF(B1198="","",CONCATENATE(B1198,C1198)) -> 1022200754575-10000115371 | B1198: 1022200754575 | C1198: -10000115371
A1199: =IF(B1199="","",CONCATENATE(B1199,C1199)) -> 1072209003030-10000000200 | B1199: 1072209003030 | C1199: -10000000200
A1200: =IF(B1200="","",CONCATENATE(B1200,C1200)) -> 1022202150960-10000115324 | B1200: 1022202150960 | C1200: -10000115324
A1201: =IF(B1201="","",CONCATENATE(B1201,C1201)) -> 1022202563525-10000000241 | B1201: 1022202563525 | C1201: -10000000241
A1202: =IF(B1202="","",CONCATENATE(B1202,C1202)) -> 1022202366108-10000115341 | B1202: 1022202366108 | C1202: -10000115341
A1203: =IF(B1203="","",CONCATENATE(B1203,C1203)) -> 1022200507823-10000115373 | B1203: 1022200507823 | C1203: -10000115373
A1204: =IF(B1204="","",CONCATENATE(B1204,C1204)) -> 1022202735543-10000115325 | B1204: 1022202735543 | C1204: -10000115325
A1205: =IF(B1205="","",CONCATENATE(B1205,C1205)) -> 1022200535280-10000000235 | B1205: 1022200535280 | C1205: -10000000235
A1206: =IF(B1206="","",CONCATENATE(B1206,C1206)) -> 1022200883847-10000000231 | B1206: 1022200883847 | C1206: -10000000231
... A6533: =IF(B6533="","",CONCATENATE(B6533,C6533)) -> 1022201523926-60029382 | B6533: 1022201523926 | C6533: -60029382
A6534: =IF(B6534="","",CONCATENATE(B6534,C6534))
A6535: =IF(B6535="","",CONCATENATE(B6535,C6535))
A6536: =IF(B6536="","",CONCATENATE(B6536,C6536))
A6537: =IF(B6537="","",CONCATENATE(B6537,C6537))
A6538: =IF(B6538="","",CONCATENATE(B6538,C6538))
A6539: =IF(B6539="","",CONCATENATE(B6539,C6539))
A6540: =IF(B6540="","",CONCATENATE(B6540,C6540))
A6541: =IF(B6541="","",CONCATENATE(B6541,C6541))
A6542: =IF(B6542="","",CONCATENATE(B6542,C6542))
A6543: =IF(B6543="","",CONCATENATE(B6543,C6543))
A6544: =IF(B6544="","",CONCATENATE(B6544,C6544))
A6545: =IF(B6545="","",CONCATENATE(B6545,C6545))
...

Sheet OIV_SERVICES
A1: Дата актуализации: 13.04.2026 | B1: OGRN | C1: SERVICE_CODE
A2: =IF(B2="","",CONCATENATE(B2,C2)) -> 1022200754575-10000000451 | B2: 1022200754575 | C2: -10000000451
A3: =IF(B3="","",CONCATENATE(B3,C3)) -> 1022202669851-10000000451 | B3: 1022202669851 | C3: -10000000451
A4: =IF(B4="","",CONCATENATE(B4,C4)) -> 1022202575570-10000000451 | B4: 1022202575570 | C4: -10000000451
A5: =IF(B5="","",CONCATENATE(B5,C5)) -> 1022200567212-10000000451 | B5: 1022200567212 | C5: -10000000451
A6: =IF(B6="","",CONCATENATE(B6,C6)) -> 1022200813656-10000000451 | B6: 1022200813656 | C6: -10000000451
A7: =IF(B7="","",CONCATENATE(B7,C7)) -> 1022200768468-10000000451 | B7: 1022200768468 | C7: -10000000451
A8: =IF(B8="","",CONCATENATE(B8,C8)) -> 1022200883847-10000000451 | B8: 1022200883847 | C8: -10000000451
A9: =IF(B9="","",CONCATENATE(B9,C9)) -> 1022201944456-10000000451 | B9: 1022201944456 | C9: -10000000451
A10: =IF(B10="","",CONCATENATE(B10,C10)) -> 1022200867040-10000000451 | B10: 1022200867040 | C10: -10000000451
A11: =IF(B11="","",CONCATENATE(B11,C11)) -> 1022202914656-10000000451 | B11: 1022202914656 | C11: -10000000451
A12: =IF(B12="","",CONCATENATE(B12,C12)) -> 1022202217036-10000000451 | B12: 1022202217036 | C12: -10000000451
A13: =IF(B13="","",CONCATENATE(B13,C13)) -> 1022202366108-10000000451 | B13: 1022202366108 | C13: -10000000451
... A309: =IF(B309="","",CONCATENATE(B309,C309)) -> 1022201760635-10000000451 | B309: 1022201760635 | C309: -10000000451

Sheet OMSY_MINSTROY
A1: Дата актуализации: 13.04.2026 | B1: OGRN | C1: SERVICE_CODE
A2: =IF(B2="","",CONCATENATE(B2,C2)) -> 1252200018421-00001 | B2: 1252200018421 | C2: -00001
A3: =IF(B3="","",CONCATENATE(B3,C3)) -> 1022202073200-00001 | B3: 1022202073200 | C3: -00001
A4: =IF(B4="","",CONCATENATE(B4,C4)) -> 1022200535280-00001 | B4: 1022200535280 | C4: -00001
A5: =IF(B5="","",CONCATENATE(B5,C5))
A6: =IF(B6="","",CONCATENATE(B6,C6))
A7: =IF(B7="","",CONCATENATE(B7,C7))
A8: =IF(B8="","",CONCATENATE(B8,C8))
A9: =IF(B9="","",CONCATENATE(B9,C9))
A10: =IF(B10="","",CONCATENATE(B10,C10))
A11: =IF(B11="","",CONCATENATE(B11,C11))
A12: =IF(B12="","",CONCATENATE(B12,C12))
A13: =IF(B13="","",CONCATENATE(B13,C13))
A14: =IF(B14="","",CONCATENATE(B14,C14))
A15: =IF(B15="","",CONCATENATE(B15,C15))
A16: =IF(B16="","",CONCATENATE(B16,C16))
... A24: =IF(B24="","",CONCATENATE(B24,C24))

Sheet OMSY_MINSTROY_ARCHIVE
A1: Дата актуализации: 13.04.2026 | B1: OGRN | C1: SERVICE_CODE
A2: =IF(B2="","",CONCATENATE(B2,C2)) -> 1062221001160-00002 | B2: 1062221001160 | C2: -00002
A3: =IF(B3="","",CONCATENATE(B3,C3)) -> 1022202891303-00002 | B3: 1022202891303 | C3: -00002
A4: =IF(B4="","",CONCATENATE(B4,C4)) -> 1022201908651-00002 | B4: 1022201908651 | C4: -00002
A5: =IF(B5="","",CONCATENATE(B5,C5)) -> 1022201982890-00002 | B5: 1022201982890 | C5: -00002
A6: =IF(B6="","",CONCATENATE(B6,C6)) -> 1022200507548-00002 | B6: 1022200507548 | C6: -00002
A7: =IF(B7="","",CONCATENATE(B7,C7))

Sheet База ведомств
C1: 1 | E1: 2 | G1: 3 | I1: 4 | K1: 5 | M1: 6 | O1: 7 | Q1: 8 | S1: 9 | U1: 10 | W1: 11 | Y1: 12 | AA1: 13 | AC1: 14 | AE1: 15 | AG1: 16 | AI1: 17 | AK1: 18 | AM1: 19 | AO1: 20 | AQ1: 21 | AS1: 22 | AU1: 23 | AW1: 24 | AY1: 25 | BA1: 26 | BC1: 27 | BE1: 28 | BG1: 29 | BI1: 30 | BK1: 31 | BM1: 32 | BO1: 33 | BQ1: 34 | BS1: 35 | BU1: 36 | BW1: 37 | BY1: 38 | CA1: 39 | CC1: 40 | CE1: 41 | CG1: 42 | CI1: 43 | CK1: 44 | CM1: 45 | CO1: 46 | CQ1: 47 | CS1: 48 | CU1: 49 | CW1: 50 | CY1: 51 | DA1: 52 | DC1: 53 | DE1: 54 | DG1: 55 | DI1: 56 | DK1: 57 | DM1: 58 | DO1: 59 | DQ1: 60 | DS1: 61 | DU1: 62 | DW1: 63 | DY1: 64 | EA1: 65 | EC1: 66 | EE1: 67 | EG1: 68 | EI1: 69
A2: Выберите район из выподающего списка | C2: г.Алейск | E2: г. Барнаул | G2: г. Белокуриха | I2: г. Бийск | K2: г.Заринск | M2: ЗАТО Сибирский | O2: г. Новоалтайск | Q2: г. Рубцовска | S2: г. Славгорода | U2: г. Яровое | W2: Алейский район | Y2: Алтайский район | AA2: Баевский район | AC2: Бийский район | AE2: Благовещенский район | AG2: Бурлинский район | AI2: Быстроистокский район | AK2: Волчихинский район | AM2: Егорьевский район | AO2: Ельцовский район | AQ2: Завьяловский район | AS2: Залесовский округ | AU2: Заринский район | AW2: Змеиногорский округ | AY2: Зональный район | BA2: Калманский район | BC2: Каменский район | BE2: Ключевский район | BG2: Косихинский район | BI2: Красногорский район | BK2: Краснощековский район | BM2: Крутихинский район | BO2: Кулундинский район | BQ2: Курьинский район | BS2: Кытмановский район | BU2: Локтевский район | BW2: Мамонтовский район | BY2: Михайловский район | CA2: Немецкий национальный район | CC2: Новичихинский район | CE2: Павловский район | CG2: Панкрушихинский район | CI2: Первомайский район | CK2: Петропавловский район | CM2: Поспелихинский район | CO2: Ребрихинский район | CQ2: Родинский район | CS2: Романовский район | CU2: Рубцовский район | CW2: Смоленский район | CY2: Советский район | DA2: Солонешенский округ | DC2: Солтонский район | DE2: Суетский округ | DG2: Табунский район | DI2: Тальменский район | DK2: Тогульский район | DM2: Топчихинский район | DO2: Третьяковский район | DQ2: Троицкий район | DS2: Тюменцевский район | DU2: Угловский район | DW2: Усть-Калманский район | DY2: Усть-Пристанский район | EA2: Хабарский район | EC2: Целинный район | EE2: Чарышский район | EG2: Шелаболихинский район | EI2: Шипуновский район
A9: 1 | B9: 1022200507548 | C9: Администрация г. Алейска | D9: 1042202280251 | E9: Администрация г. Барнаула | F9: 1022200535280 | G9: Администрация г. Белокуриха | H9: 1022200567212 | I9: Администрация г. Бийска | J9: 1022200708001 | K9: Администрация г.Заринска | L9: 1022202735543 | M9: Администрация ЗАТО Сибирский | N9: 1022200770987 | O9: Администрация г. Новоалтайска | P9: 1022200813656 | Q9: Администрация г. Рубцовска | R9: 1022200867040 | S9: Администрация г. Славгорода | T9: 1022200883847 | U9: Администрация г. Яровое | V9: 1022200507823 | W9: Администрация Алейского района | X9: 1022201907870 | Y9: Администрация Алтайского района | Z9: 1022202149936 | AA9: Администрация Баевского района | AB9: 1022200570853 | AC9: Администрация Бийского района | AD9: 1022201982890 | AE9: Администрация Благовещенского района | AF9: 1022200882076 | AG9: Администрация Бурлинского района | AH9: 1022202670544 | AI9: Администрация Быстроистокского района | AJ9: 1022202575570 | AK9: Администрация Волчихинского района | AL9: 1022202611782 | AM9: Администрация Егорьевского района | AN9: 1022202914656 | AO9: Администрация Ельцовского района | AP9: 1022202073200 | AQ9: Администрация Завьяловского района | AR9: 1212200031120 | AS9: Администрация Залесовского Муниципального округа Алтайского края | AT9: 1022202104000 | AU9: Администрация Заринского района | AV9: 1242200019930 | AW9: Администрация муниципального округа Змеиногорский район Алтайского края | AX9: 1252200018476 | AY9: Администрация Муниципального округа Зональный район Алтайского края | AZ9: 1022202768631 | BA9: Администрация Калманского района | BB9: 1022200754575 | BC9: Администрация Каменского района | BD9: 1252200018443 | BE9: Администрация Муниципального округа Ключевский район Алтайского края | BF9: 1022202191362 | BG9: Администрация Косихинского района | BH9: 1022201944456 | BI9: Администрация Красногорского района | BJ9: 1022202218422 | BK9: Администрация Краснощековского района | BL9: 1022202150960 | BM9: Администрация Крутихинского района | BN9: 1252200018487 | BO9: Администрация Муниципального округа Кулундинский район Алтайского края | BP9: 1022202217036 | BQ9: Администрация Курьинского района | BR9: 1022202101030 | BS9: Администрация Кытмановского района | BT9: 1022202282849 | BU9: Администрация Локтевского района | BV9: 1022202072430 | BW9: Администрация Мамонтовского района | BX9: 1022202316124 | BY9: Администрация Михайловского района | BZ9: 1252200018454 | CA9: Администрация Муниципального округа Немецкий национальный район Алтайского края | CB9: 1022202525388 | CC9: Администрация Новичихинского района | CD9: 1022202366108 | CE9: Администрация Павловского района | CF9: 1252200018421 | CG9: Администрация Муниципального округа Панкрушихинский район Алтайского края | CH9: 1022200768468 | CI9: Администрация Первомайского района | CJ9: 1252200018465 | CK9: Администрация Муниципального округа Петропавловский район Алтайского края | CL9: 1022202523837 | CM9: Администрация Поспелихинского района | CN9: 1022202565120 | CO9: Администрация Ребрихинского района | CP9: 1022202576989 | CQ9: Администрация Родинского района | CR9: 1022202073740 | CS9: Администрация Романовского района | CT9: 1022202613894 | CU9: Администрация Рубцовского района | CV9: 1022202669763 | CW9: Администрация Смоленского района | CX9: 1022202669851 | CY9: Администрация Советского района | CZ9: 1252200018432 | DA9: Администрация Муниципального округа Солонешенский район Алтайского края | DB9: 1022201944236 | DC9: Администрация Солтонского района | DD9: 1222200021438 | DE9: Администрация муниципального округа Суетский район Алтайского края | DF9: 1252200018498 | DG9: Администраця Муниципального округа Табунский район Алтайского края | DH9: 1022202733321 | DI9: Администрация Тальменского района | DJ9: 1022202916955 | DK9: Администрация Тогульского района | DL9: 1022202767971 | DM9: Администрация Топчихинского района | DN9: 1022200730507 | DO9: Администрация Третьяковского района | DP9: 1022202192264 | DQ9: Администрация Троицкого района | DR9: 1022202563525 | DS9: Администрация Тюменцевского района | DT9: 1022202283762 | DU9: Администрация Угловского района | DV9: 1022202863583 | DW9: Администрация Усть-Калманского района | DX9: 1022202864452 | DY9: Администрация Усть-Пристанского района | DZ9: 1022202893239 | EA9: Администрация Хабарского района | EB9: 1022202914942 | EC9: Администрация Целинного района | ED9: 1222200021482 | EE9: Администрация муниципального округа Чарышского района Алтайского края | EF9: 1022202365162 | EG9: Администрация Шелаболихинского района | EH9: 1022202955180 | EI9: Администрация Шипуновского района
A10: 2 | D10: 1022201509990 | E10: Комитет по образованию г. Барнаула | V10: 1022200508076 | W10: Администрация Алейского сельсовета Алейского района | X10: 1022201906330 | Y10: Администрация Айского сельсовета Алтайского района | Z10: 1022202150101 | AA10: Администрация Баевского сельсовета Баевского района | AB10: 1022201947228 | AC10: Администрация Большеугреневского сельсовета Бийского района | AD10: 1022201983319 | AE10: Администрация Алексеевского сельсовета Благовещенского района | AF10: 1022200882010 | AG10: Администрация Бурлинского сельсовета Бурлинского района | AH10: 1022202667343 | AI10: Администрация Акутихинского сельсовета Быстроистокского района | AJ10: 1022202575867 | AK10: Администрация Берёзовского сельсовета Волчихинского района | AL10: 1022202611958 | AM10: Администрация Кругло-Семенцовского сельсовета Егорьевского района | AN10: 1022202915195 | AO10: Администрация Верх-Ненинского сельсовета Ельцовского района | AP10: 1022202071352 | AQ10: Администрация Гилёвского сельсовета Завьяловского района | AT10: 1022202104430 | AU10: Администрация Аламбайского сельсовета Заринского района | AV10: 1022200728582 | AW10: Комитет по образованию и делам молодежи администрации муниципального округа Змеиногорский район Алтайского края | AZ10: 1022202772052 | BA10: Администрация Бурановского сельсовета Калманского района | BB10: 1022202149342 | BC10: Администрация Аллаксого сельсовета Каменского района | BF10: 1022202192638 | BG10: Администрация Баюновского сельсовета Косихинского района | BH10: 1022201945204 | BI10: Администрация Березовского сельсовета Красногорского района | BJ10: 1022202217322 | BK10: Администрация Акимовского сельсовета Краснощековского района | BL10: 1022202152720 | BM10: Администрация Боровского сельсовета Крутихинского района | BN10: 1252200018685 | BO10: УПРАВЛЕНИЕ ТЕРРИТОРИАЛЬНЫХ ОТДЕЛОВ МУНИЦИПАЛЬНОГО ОКРУГА КУЛУНДИНСКИЙ РАЙОН | BP10: 1022202216695 | BQ10: Администрация Казанцевского сельсовета Курьинского района | BR10: 1022202101020 | BS10: Администрация Дмитро-Титовского сельсовета Кытмановского района | BT10: 1022202282761 | BU10: Администрация Александровского сельсовета Локтевского района | BV10: 1022202074586 | BW10: Администрация Буканского сельсовета Мамонтовского района | BX10: 1022202315035 | BY10: Администрация Ащегульского сельсовета Михайловского района | CB10: 1022202523848 | CC10: Администрация Долговского сельсовета Новичихинского района | CD10: 1022202365096 | CE10: Администрация Арбузовского сельсовета Павловского района | CH10: 1022202407479 | CI10: Администрация Акуловского сельсовета Первомайского района | CL10: 1022202524156 | CM10: Администрация Борковского сельсовета Поспелихинского района | CN10: 1022202563448 | CO10: Администрация Беловского сельсовета Ребрихинского района | CP10: 1022202575053 | CQ10: Администрация Зеленолуговского сельсовета Родинского района | CR10: 1022202070791 | CS10: Администрация Гуселетовского сельсовета Романовского района | CT10: 1022202611331 | CU10: Администрация Безрукавского сельсовета Рубцовского района | CV10: 1022202670192 | CW10: Администрация Ануйского сельсовета Смоленского района | CX10: 1022202668180 | CY10: Администрация Кокшинского сельсовета Советского района | DB10: 1022201943356 | DC10: Администрация Карабинского сельсовета Солтонского района | DF10: 1022202238002 | DG10: Комитет администрации Табунского района Алтайского края по образованию | DH10: 1122208000375 | DI10: Администрация Анисимовского сельсовета Тальменского района | DJ10: 1022202917890 | DK10: Администрация Антипинского сельсовета Тогульского района | DL10: 1022202769489 | DM10: Администрация Белояровского сельсовета Топчихинского района | DN10: 1022200729572 | DO10: Администрация Екатерининского сельсовета Третьяковского района | DP10: 1022202193573 | DQ10: Администрация Беловского сельсовета Троицкого района | DR10: 1022202563162 | DS10: Администрация Андроновского сельсовета Тюменцевского района | DT10: 1022202284037 | DU10: Администрация Круглянского сельсовета Угловского района | DV10: 1022202863319 | DW10: Администрация Кабановского сельсовета Усть-Калманского района | DX10: 1022202864364 | DY10: Администрация Вяткинского сельсовета Усть-Пристанского района | DZ10: 1022202891776 | EA10: Администрация Зятьково-Реченского сельсовета Хабарского района | EB10: 1122204000720 | EC10: Администрация Бочкаревского сельсовета Целинного района | EF10: 1022202365118 | EG10: Администрация Верх-Кучукского сельсовета Шелаболихинского района | EH10: 1022202954168 | EI10: Администрация Белоглазовского сельсовета Шипуновского района
A11: 3 | D11: 1022201760635 | E11: Комитет жилищно-коммунального хозяйства г. Барнаула | V11: 1022200508813 | W11: Администрация Безголосовского сельсовета Алейского района | X11: 1022201908519 | Y11: Администрация Алтайского сельсовета Алтайского района | Z11: 1022202150046 | AA11: Администрация Верх-Пайвинского сельсовета Баевского района | AB11: 1022201945116 | AC11: Администрация Верх-Бехтемирского сельсовета Бийского района | AD11: 1022201982417 | AE11: Администрация Благовещенского поссовета Благовещенского района | AF11: 1022200882285 | AG11: Администрация Михайловского сельсовета Бурлинского района | AH11: 1022202667838 | AI11: Администрация Быстроистокского сельсовета Быстроистокского района | AJ11: 1022202575581 | AK11: Администрация Бор-Форпостовского сельсовета Волчихинского района | AL11: 1022202612398 | AM11: Администрация Лебяжинского сельсовета Егорьевского района | AN11: 1022202917164 | AO11: Администрация Ельцовского сельсовета Ельцовского района | AP11: 1022202073090 | AQ11: Администрация Глубоковского сельсовета Завьяловского района | AT11: 1022202103252 | AU11: Администрация Верх-Камышенского сельсовета Заринского района | AV11: 1152209000096 | AW11: Управление экономики и имущественных отношений администрации муниципального округа Змеиногорский район Алтайского края | AZ11: 1022202769071 | BA11: Администрация Зимарёвского сельсовета Калманского района | BB11: 1022202149320 | BC11: Администрация Верх-Аллакского сельсовета Каменского района | BF11: 1022202192649 | BG11: Администрация Верх-Жилинского сельсовета Косихинского района | BH11: 1022201946799 | BI11: Администрация Быстрянского сельсовета Красногорского района | BJ11: 1022202218290 | BK11: Администрация Берёзовского сельсовета Краснощековского района | BL11: 1022202150651 | BM11: Администрация Волчно-Бурлинского сельсовета Крутихинского района | BP11: 1022202218312 | BQ11: Администрация Колыванского сельсовета Курьинского района | BR11: 1022202100997 | BS11: Администрация Кытмановского сельсовета | BT11: 1022202282794 | BU11: Администрация Второкаменского сельсовета Локтевского района | BV11: 1022202074894 | BW11: Администрация Гришенского сельсовета Мамонтовского района | BX11: 1022202315970 | BY11: Администрация Бастанского сельсовета Михайловского района | CB11: 1022202525740 | CC11: Администрация Лобанихинского сельсовета Новичихинского района | CD11: 1022202363050 | CE11: Администрация Бурановского сельсовета Павловского района | CH11: 1022202410295 | CI11: Администрация Баюновоключевского сельсовета Первомайского района | CL11: 1022202524244 | CM11: Администрация Красноалтайского сельсовета Поспелихинского района | CN11: 1022202562909 | CO11: Администрация Боровлянского сельсовета Ребрихинского района | CP11: 1022202575670 | CQ11: Администрация Кочкинского сельсовета Родинского района | CR11: 1022202070857 | CS11: Администрация Гилев-Логовского сельсовета Романовского района | CT11: 1022202612233 | CU11: Администрация Бобковского сельсовета Рубцовского района | CV11: 1022202667959 | CW11: Администрация Верх-Обского сельсовета Смоленского района | CX11: 1022202669697 | CY11: Администрация Коловского сельсовета Советского района | DB11: 1022201943345 | DC11: Администрация Макарьевского сельсовета Солтонского района | DH11: 1022202734531 | DI11: Администрация Зайцевского сельсовета Тальменского района | DJ11: 1022202916780 | DK11: Администрация Новоиушинского сельсовета Тогульского района | DL11: 1022202769357 | DM11: Администрация Володарского сельсовета Топчихинского района | DN11: 1022200729869 | DO11: Администрация Корболихинского сельсовета Третьяковского района | DP11: 1022202193727 | DQ11: Администрация Боровлянского сельсовета Троицкого района | DR11: 1022202563646 | DS11: Администрация Берёзовского сельсовета Тюменцевского района | DT11: 1022202283730 | DU11: Администрация Лаптевского сельсовета Угловского района | DV11: 1022202863176 | DW11: Администрация Михайловского сельсовета Усть-Калманского района | DX11: 1022202864782 | DY11: Администрация Краснодарского сельсовета Усть-Пристанского района | DZ11: 1022202891963 | EA11: Администрация Коротоякского сельсовета Хабарского района | EB11: 1022202915283 | EC11: Администрация Воеводского сельсовета Целинного района | EF11: 1022202365130 | EG11: Администрация Ильинского сельсовета Шелаболихинского района | EH11: 1022202953640 | EI11: Администрация Бобровского сельсовета Шипуновского района
A12: 4 | D12: 1062221001160 | E12: Комитет по земельным ресурсам и землеустройству г. Барнаула | V12: 1022200508780 | W12: Администрация Большепанюшевского сельсовета Алейского района | X12: 1022201907804 | Y12: Администрация Беловского сельсовета Алтайского района | Z12: 1022202150090 | AA12: Администрация Верх-Чуманского сельсовета Баевского района | AB12: 1022201945710 | AC12: Администрация Верх-Катунского сельсовета Бийского района | AD12: 1022201982395 | AE12: Администрация Гляденьского сельсовета Благовещенского района | AF12: 1022200882560 | AG12: Администрация Новоандреевского сельсовета Бурлинского района | AH12: 1022202668278 | AI12: Администрация Верх-Ануйского сельсовета Быстроистокского района | AJ12: 1022202576362 | AK12: Администрация Волчихинского сельсовета Волчихинского района | AL12: 1022202611793 | AM12: Администрация Малошелковниковского сельсовета Егорьевского района | AN12: 1022202914832 | AO12: Администрация Мартыновского сельсовета Ельцовского района | AP12: 1022202071308 | AQ12: Администрация Гоноховского сельсовета Завьяловского района | AT12: 1022202103835 | AU12: Администрация Воскресенского сельсовета Заринского района | AV12: 1242200019808 | AW12: Управление территориальных отделов Администрации муниципального округа Змеиногорский район Алтайского края | AZ12: 1022202769038 | BA12: Администрация Калистратихинского сельсовета Калманского района | BB12: 1022202149639 | BC12: Администрация Гоноховского сельсовета Каменского района | BF12: 1022202193903 | BG12: Администрация Глушинского сельсовета Косихинского района | BH12: 1062234013379 | BI12: Администрация Красногорского сельсовета Красногорского района | BJ12: 1022202217135 | BK12: Администрация Верх-Камышенского сельсовета Краснощековского района | BL12: 1022202150673 | BM12: Администрация Долганского сельсовета Крутихинского района | BP12: 1022202217850 | BQ12: Администрация Трусовского сельсовета Курьинского района | BR12: 1022202101019 | BS12: Администрация Новотарабинского сельсовета Кытмановского района | BT12: 1022202282740 | BU12: Администрация Георгиевского сельсовета Локтевского района | BV12: 1022202073860 | BW12: Администрация Кадниковского сельсовета Мамонтовского района | BX12: 1022202316102 | BY12: Администрация Малиновоозёрского поссовета Михайловского района | CB12: 1022202523815 | CC12: Администрация Мельниковского сельсовета Новичихинского района | CD12: 1022202362346 | CE12: Администрация Елунинского сельсовета Павловского района | CH12: 1022202409063 | CI12: Администрация Березовского сельсовета Первомайского района | CL12: 1022202524453 | CM12: Администрация Калмыцко-Мысовского сельсовета Поспелихинского района | CN12: 1022202563756 | CO12: Администрация Воронихинского сельсовета Ребрихинского района | CP12: 1022202575504 | CQ12: Администрация Каяушинского сельсовета Родинского района | CR12: 1022202071374 | CS12: Администрация Грано-Маяковского сельсовета Романовского района | CT12: 1022202613289 | CU12: Администрация Большешелковниковского сельсовета Рубцовского района | CV12: 1022202669488 | CW12: Администрация Кировского сельсовета Смоленского района | CX12: 1022202669708 | CY12: Администрация Красноярского сельсовета Советского района | DB12: 1022201943994 | DC12: Администрация Ненинского сельсовета Солтонского района | DH12: 1022202734905 | DI12: Администрация Казанцевского сельсовета Тальменского района | DJ12: 1112205000137 | DK12: Администрация Старотогульского сельсовета Тогульского района | DL12: 1022202768972 | DM12: Администрация Зиминского сельсовета Топчихинского района | DN12: 1022200729638 | DO12: Администрация Новоалейского сельсовета Третьяковского района | DP12: 1022202193342 | DQ12: Администрация Гордеевского сельсовета Троицкого района | DR12: 1022202564856 | DS12: Администрация Вылковского сельсовета Тюменцевского района | DT12: 1022202282926 | DU12: Администрация Озерно-Кузнецовского сельсовета Угловского района | DV12: 1022202863011 | DW12: Администрация Новобурановского сельсовета Усть-Калманского района | DX12: 1022202864243 | DY12: Администрация Красноярского сельсовета Усть-Пристанского района | DZ12: 1022202891490 | EA12: Администрация Мартовского сельсовета Хабарского района | EB12: 1022202916592 | EC12: Администрация Дружбинского сельсовета Целинного района | EF12: 1022202365151 | EG12: Администрация Инского сельсовета Шелаболихинского района | EH12: 1022202954894 | EI12: Администрация Войковского сельсовета Шипуновского района
A13: 5 | D13: 1022201770381 | E13: Комитет по управлению муниципальной собственностью г. Барнаула | V13: 1022200507933 | W13: Администрация Боровского сельсовета Алейского района | X13: 1022201906737 | Y13: Администрация Куяганского сельсовета Алтайского района | Z13: 1022202150068 | AA13: Администрация Нижнечуманского сельсовета Баевского района | AB13: 1022201947602 | AC13: Администрация Енисейского сельсовета Бийского района | AD13: 1022201982428 | AE13: Администрация Леньковского сельсовета Благовещенского района | AF13: 1022200882440 | AG13: Администрация Новопесчанского сельсовета Бурлинского района | AH13: 1022202668696 | AI13: Администрация Верх-Озернинского сельсовета Быстроистокского района | AJ13: 1022202575625 | AK13: Администрация Востровского сельсовета Волчихинского района | AL13: 1022202612387 | AM13: Администрация Новоегорьевского сельсовета Егорьевского района | AN13: 1022202915569 | AO13: Администрация Новокаменского сельсовета Ельцовского района | AP13: 1022202071198 | AQ13: Администрация Завьяловского сельсовета Завьяловского района | AT13: 1022202104704 | AU13: Администрация Голухинского сельсовета Заринского района | AZ13: 1022202768830 | BA13: Администрация Калманского сельсовета Калманского района | BB13: 1022202149331 | BC13: Администрация Корниловского сельсовета Каменского района | BF13: 1022202192660 | BG13: Администрация Каркавинского сельсовета Косихинского района | BH13: 1022201945380 | BI13: Администрация Новозыковского сельсовета Красногорского района | BJ13: 1022202218235 | BK13: Администрация Карповского сельсовета Краснощековского района | BL13: 1022202150662 | BM13: Администрация Заковряшинского сельсовета Крутихинского района | BP13: 1022202217685 | BQ13: Админитсрация Кузнецовского сельсовета Курьинского района | BR13: 1102205000490 | BS13: Администрация Октябрьского сельсовета Кытмановского района | BT13: 1022202282805 | BU13: Администрация Гилевского сельсовета Локтевского района | BV13: 1022202072860 | BW13: Администрация Комсомольского сельсовета Мамонтовского района | BX13: 1022202316905 | BY13: Администрация Николаевского сельсовета Михайловского района | CB13: 1022202523200 | CC13: Администрация Новичихинского сельсовета Новичихинского района | CD13: 1022202362412 | CE13: Администрация Колыванского сельсовета Павловского района | CH13: 1022202408326 | CI13: Администрация Бобровского сельсовета Первомайского района | CL13: 1022202523804 | CM13: Администрация Клепечихинского сельсовета Поспелихинского района | CN13: 1022202562910 | CO13: Администрация Зеленорощинского сельсовета Ребрихинского района | CP13: 1022202575240 | CQ13: Администрация Мирненского сельсовета Родинского района | CR13: 1022202070923 | CS13: Администрация Дубровинского сельсовета Романовского района | CT13: 1022202613828 | CU13: Администрация Веселоярского сельсовета Рубцовского района | CV13: 1022202670269 | CW13: Администрация Линевского сельсовета Смоленского района | CX13: 1022202669598 | CY13: Администрация Никольского сельсовета Советского района | DB13: 1022201943499 | DC13: Администрация Нижнененинского сельсовета Солтонского района | DH13: 1022202733288 | DI13: Администрация Кашкарагаихинского сельсовета Тальменского района | DJ13: 1092205000051 | DK13: Администрация Тогульского сельсовета Тогульского района | DL13: 1022202770941 | DM13: Администрация Кировского сельсовета Топчихинского района | DN13: 1022200729528 | DO13: Администрация Первокаменского сельсовета Третьяковского района | DP13: 1022202194244 | DQ13: Администрация Ереминского сельсовета Троицкого района | DR13: 1022202564163 | DS13: Администрация Грязновского сельсовета Тюменцевского района | DT13: 1022202284356 | DU13: Администрация Павловского сельсовета Угловского района | DV13: 1022202863374 | DW13: Администрация Новокалманского сельсовета Усть-Калманского района | DX13: 1022202864320 | DY13: Администрация Троицкого сельсовета Усть-Пристанского района | DZ13: 1022202891480 | EA13: Администрация Мичуринского сельсовета Хабарского района | EB13: 1022202916328 | EC13: Администрация Еландинского сельсовета Целинного района | EF13: 1022202363831 | EG13: Администрация Кипринского сельсовета Шелаболихинского района | EH13: 1022202954784 | EI13: Администрация Горьковского сельсовета Шипуновского района
A14: 6 | D14: 1022200907156 | E14: Комитет по строительству, архитектуре и развитию г. Барнаула | V14: 1022200509616 | W14: Администрация Дружбинского сельсовета Алейского района | X14: 1022201906209 | Y14: Администрация Куячинского сельсовета Алтайского района | Z14: 1022202150134 | AA14: Администрация Паклинского сельсовета Баевского района | AB14: 1022201948515 | AC14: Администрация Заринского сельсовета Бийского района | AD14: 1022201982330 | AE14: Администрация Нижнекучукского сельсовета Благовещенского района | AF14: 1022200882307 | AG14: Администрация Новосельского сельсовета Бурлинского района | AH14: 1022202668102 | AI14: Администрация Новопокровского сельсовета Быстроистокского района | AJ14: 1022202576120 | AK14: Администрация Коминтерновского сельсовета Волчихинского района | AL14: 1022202611760 | AM14: Администрация Первомайского сельсовета Егорьевского района | AN14: 1022202914800 | AO14: Администрация Пуштулимского сельсовета Ельцовского района | AP14: 1022202071363 | AQ14: Администрация Камышенского сельсовета Завьяловского района | AT14: 1022202103054 | AU14: Администрация Гоношихинского сельсовета Заринского района | AZ14: 1022202769401 | BA14: Администрация Кубанского сельсовета Калманского района | BB14: 1022202149595 | BC14: Администрация Новоярковского сельсовета Каменского района | BF14: 1022202191615 | BG14: Администрацмя Контошинского сельсовета Косихинского района | BH14: 1022201945413 | BI14: Администрация Новоталовского сельсовета Красногорского района | BJ14: 1022202218532 | BK14: Администрация Краснощековского сельсовета Краснощековского района | BL14: 1022202151070 | BM14: Администрация Крутихинского сельсовета Крутихинского района | BP14: 1022202217069 | BQ14: Админитсрация Курьинского сельсовета Курьинского района | BR14: 1022202101063 | BS14: Администрация Порошинского сельсовета Кытмановского района | BT14: 1022202282772 | BU14: Администрация Ермошихинского сельсовета Локтевского района | BV14: 1022202073850 | BW14: Администрация Корчинского сельсовета Мамонтовского района | BX14: 1022202316146 | BY14: Администрация Назаровского сельсовета Михайловского района | CB14: 1022202524849 | CC14: Администрация Поломошенского сельсовета Новичихинского района | CD14: 1022202362995 | CE14: Администрация Комсомольского сельсовета Павловского района | CH14: 1022202406687 | CI14: Администрация Боровихинского сельсовета Первомайского района | CL14: 1022202524387 | CM14: Администрация Красноярского сельсовета Поспелихинского района | CN14: 1022202564086 | CO14: Администрация Зиминского сельсовета Ребрихинского района | CP14: 1022202575306 | CQ14: Администрация Покровского сельсовета Родинского района | CR14: 1022202070670 | CS14: Администрация Закладнинского сельсовета Романовского района | CT14: 1022202611342 | CU14: Администрация Вишневского сельсовета Рубцовского района | CV14: 1022202668146 | CW14: Администрация Новотырышкинского сельсовета Смоленского района | CX14: 1022202670577 | CY14: Администрация Платовского сельсовета Советского района | DB14: 1022201943334 | DC14: Администрация Солтонского сельсовета Солтонского района | DH14: 1022202735060 | DI14: Администрация Курочкинского сельсовета Тальменского района | DJ14: 1022202915790 | DK14: Администрация Топтушинского сельсовета Тогульского района | DL14: 1022202768940 | DM14: Администрация Ключевского сельсовета Топчихинского района | DN14: 1022200730188 | DO14: Администрация Плосковского сельсовета Третьяковского района | DP14: 1022202192540 | DQ14: Администрация Заводского сельсовета Троицкого района | DR14: 1022202563096 | DS14: Администрация Заводского сельсовета Тюменцевского района | DT14: 1022202283047 | DU14: Администрация Симоновского сельсовета Угловского района | DV14: 1022202863539 | DW14: Администрация Огневского сельсовета Усть-Калманского района | DX14: 1022202863935 | DY14: Администрация Усть-Пристанского сельсовета Усть-Пристанского района | DZ14: 1022202891479 | EA14: Администрация Новоильинского сельсовета Хабарского района | EB14: 1022202915459 | EC14: Администрация Ложкинского сельсовета Целинного района | EF14: 1022202364030 | EG14: Администрация Крутишинского сельсовета Шелаболихинского района | EH14: 1022202956698 | EI14: Администрация Ельцовского сельсовета Шипуновского района
A15: 7 | D15: 1232200021096 | E15: Комитет по благоустройству г. Барнаула | V15: 1022200508549 | W15: Администрация Дубровского сельсовета Алейского района | X15: 1022201906143 | Y15: Администрация Макарьевского сельсовета Алтайского района | Z15: 1022202150772 | AA15: Администрация Плотавского сельсовета Баевского района | AB15: 1022201949770 | AC15: Администрация Калининского сельсовета Бийского района | AD15: 1022201982296 | AE15: Администрация Николаевского сельсовета Благовещенского района | AF15: 1022200883308 | AG15: Администрация Ореховского сельсовета Бурлинского района | AH15: 1022202668465 | AI15: Администрации Приобского сельсовета Быстроистокского района | AJ15: 1022202575889 | AK15: Администрация Малышево-Логовского сельсовета Волчихинского района | AL15: 1022202611705 | AM15: Администрация Сростинского сельсовета Егорьевского района | AN15: 1022202918330 | AO15: Администрация Черемшанского сельсовета Ельцовского района | AP15: 1022202071132 | AQ15: Администрация Малиновского сельсовета Завьяловского района | AT15: 1022202102218 | AU15: Администрация Гришинского сельсовета Заринского района | AZ15: 1022202771590 | BA15: Администрация Новоромановского сельсовета Калманского района | BB15: 1022202149694 | BC15: Администрация Плотниковского сельсовета Каменского района | BF15: 1022202191549 | BG15: Администрация Косихинского сельсовета Косихинского района | BH15: 1022201944819 | BI15: Администрация Соусканихинского сельсовета Красногорского района | BJ15: 1022202217267 | BK15: Администрация Маралихинского сельсовета Краснощековского района | BL15: 1022202151322 | BM15: Администрация Маловолчанского сельсовета Крутихинского района | BP15: 1022202217762 | BQ15: Админитсрация Бугрышихинского сельсовета Курьинского района | BR15: 1022202100964 | BS15: Администрация Семено - Красиловского сельсовета Кытмановского района | BT15: 1022202282673 | BU15: Администрация Золотухинского сельсовета Локтевского района | BV15: 1022202072496 | BW15: Администрация Костино-Логовского сельсовета Мамонтовского района | BX15: 1022202316212 | BY15: Администрация Полуямского сельсовета Михайловского района | CB15: 1022202525520 | CC15: Администрация Солоновского сельсовета Новичихинского района | CD15: 1022202362984 | CE15: Администрация Лебяжинского сельсовета Павловского района | CH15: 1022202409481 | CI15: Администрация Жилинского сельсовета Первомайского района | CL15: 1022202523860 | CM15: Администрация 12 Лет Октября сельсовета Поспелихинского района | CN15: 1022202563184 | CO15: Администрация Клочковского сельсовета Ребрихинского района | CP15: 1022202575427 | CQ15: Администрация Раздольненского сельсовета Родинского района | CR15: 1022202070659 | CS15: Администрация Казанцевского сельсовета Романовского района | CT15: 1022202612618 | CU15: Администрация Дальнего сельсовета Рубцовского района | CV15: 1022202668971 | CW15: Администрация Смоленского сельсовета Смоленского района | CX15: 1022202670600 | CY15: Администрация Половинского сельсовета Советского района | DB15: 1022201944269 | DC15: Администрация Сузопского сельсовета солтонского района | DH15: 1022202736236 | DI15: Администрация Ларичихинского сельсовета Тальменского района | DJ15: 1062205001330 | DK15: Главное управление экономики Администрации Тогульского района Алтайского края | DL15: 1022202769270 | DM15: Администрация Красноярского сельсовета Топчихинского района | DN15: 1022200730298 | DO15: Администрация Садового сельсовета Третьяковского района | DP15: 1022202193760 | DQ15: Администрация Зеленополянского сельсовета Троицкого района | DR15: 1022202565659 | DS15: Администрация Ключевского сельсовета Тюменцевского района | DT15: 1022202282937 | DU15: Администрация Тополинского сельсовета Угловского района | DV15: 1022202863891 | DW15: Администрация Пономаревского сельсовета Усть-Калманского района | DX15: 1022202864386 | DY15: Администрация Коробейниковского сельсовета Усть-Пристанского района | DZ15: 1022202891589 | EA15: Администрация Плесо-Курьинского сельсовета Хабарского района | EB15: 1022202915063 | EC15: Администрация Марушинского сельсовета Целинного района | EF15: 1022202364062 | EG15: Администрация Кучукского сельсовета Шелаболихинского района | EH15: 1022202955026 | EI15: Администрация Зеркальского сельсовета Шипуновского района
A16: 8 | D16: 1022200908839 | E16: Комитет по физической культуре и спорту г. Барнаула | V16: 1022200508087 | W16: Администрация Заветильичевского сельсовета Алейского района | X16: 1022201907090 | Y16: Администрация Нижнекаменского сельсовета Алтайского района | Z16: 1022202150783 | AA16: Администрация Прослаухинского сельсовета Баевского района | AB16: 1022201945589 | AC16: Администрация Лесного сельсовета Бийского района | AD16: 1022201983396 | AE16: Администрация Новокулундинского сельсовета Благовещенского района | AF16: 1022200882571 | AG16: Администрация Партизанского сельсовета Бурлинского района | AH16: 1022202668311 | AI16: Администрация Усть-Ануйского сельсовета Быстроистокского района | AJ16: 1022202575966 | AK16: Администрация Новокормихинского сельсовета Волчихинского района | AL16: 1022202611694 | AM16: Администрация Титовского сельсовета Егорьевского района | AP16: 1022202072738 | AQ16: Администрация Овечкинского сельсовета Завьяловского района | AT16: 1022202103109 | AU16: Администрация Жуланихинского сельсовета Заринского района | AZ16: 1022202770864 | BA16: Администрация Обского сельсовета Калманского района | BB16: 1022202149397 | BC16: Администрация Пригородного сельсовета Каменского района | BF16: 1022202191505 | BG16: Администрация Лосихинского сельсовета Косихинского района | BH16: 1022201945622 | BI16: Администрация Усть-Ишинского сельсовета Красногорского района | BJ16: 1022202218830 | BK16: Администрация Новошипуновского сельсовета Краснощековского района | BL16: 1022202151157 | BM16: Администрация Новодубровского сельсовета Крутихинского района | BP16: 1022202218037 | BQ16: Админитсрация Ивановского сельсовета Курьинского района | BR16: 1022202101481 | BS16: Администрация Сунгайского сельсовета Кытмановского района | BT16: 1022202282750 | BU16: Администрация Кировского сельсовета Локтевского района | BV16: 1022202072848 | BW16: Администрация Крестьянского сельсовета Мамонтовского района | BX16: 1022202316080 | BY16: Администрация Ракитовского сельсовета Михайловского района | CB16: 1022202523595 | CC16: Администрация Токаревского сельсовета Новичихинского района | CD16: 1022202365679 | CE16: Администрация Новозоринского сельсовета Павловского района | CH16: 1022202407578 | CI16: Администрация Журавлихинского сельсовета Первомайского района | CL16: 1022202524486 | CM16: Администрация Мамонтовского сельсовета Поспелихинского района | CN16: 1022202563404 | CO16: Администрация Пановского сельсовета Ребрихинского района | CP16: 1022202576065 | CQ16: Администрация Родинского сельсовета Родинского района | CR16: 1022202070880 | CS16: Администрация Майского сельсовета Романовского района | CT16: 1022202613938 | CU16: Администрация Куйбышевского сельсовета Рубцовского района | CV16: 1022202670434 | CW16: Администрация Солоновского сельсовета Смоленского района | CX16: 1022202670566 | CY16: Администрация Сетовского сельсовета Советского района | DH16: 1112208003357 | DI16: Администрация Луговского сельсовета Тальменского района | DL16: 1022202769214 | DM16: Администрация Макарьевского сельсовета Топчихинского района | DN16: 1022200729561 | DO16: Администрация Староалейского сельсовета Третьяковского района | DP16: 1022202193860 | DQ16: Администрация Кипешинского сельсовета Троицкого района | DR16: 1022202565428 | DS16: Администрация Королёвского сельсовета Тюменцевского района | DT16: 1022202282520 | DU16: Администрация Угловского сельсовета Угловского района | DV16: 1022202862879 | DW16: Администрация Приозерного сельсовета Усть-Калманского района | DX16: 1022202864287 | DY16: Администрация Нижнеозернинского сельсовета Усть-Пристанского района | DZ16: 1022202893360 | EA16: Администрация Свердловского сельсовета Хабарского района | EB16: 1022202915976 | EC16: Администрация Овсянниковского сельсовета Целинного района | EF16: 1022202365680 | EG16: Администрация Макаровского сельсовета Шелаболихинского района | EH16: 1022202956160 | EI16: Администрация Ильинского сельсовета Шипуновского района
A17: 9 | D17: 1022200895441 | E17: Администрация Железнодорожного района г. Барнаула | V17: 1022200508714 | W17: Администрация Кашинского сельсовета Алейского района | X17: 1022201907430 | Y17: Администрация Пролетарского сельсовета Алтайского района | Z17: 1022202150123 | AA17: Администрация Ситниковского сельсовета Баевского района | AB17: 1022201945765 | AC17: Администрация Малоенисейского сельсовета Бийского района | AD17: 1022201982351 | AE17: Администрация Орлеанского сельсовета Благовещенского района | AF17: 1022200882296 | AG17: Администрация Рожковского сельсовета Бурлинского района | AH17: 1022202668432 | AI17: Администрация Хлеборобного сельсовета Быстроистокского района | AJ17: 1022202575890 | AK17: Администрация Пятковологовского сельсовета Волчихинского района | AL17: 1022202611947 | AM17: Администрация Шубинского сельсовета Егорьевского района | AP17: 1022202072232 | AQ17: Администрация Светловского сельсовета Завьяловского района | AT17: 1022202104473 | AU17: Администрация Зыряновского сельсовета Заринского района | AZ17: 1022202768873 | BA17: Администрация Усть-Алейского сельсовета Калманского района | BB17: 1022202149386 | BC17: Администрация Попереченского сельсовета Каменского района | BF17: 1022202193463 | BG17: Администрация Малаховского сельсовета Косихинского района | BH17: 1022201945787 | BI17: Администрация Усть-Кажинского сельсовета Красногорского района | BJ17: 1022202217344 | BK17: Администрация Суетского сельсовета Краснощековского района | BL17: 1022202150695 | BM17: Администрация Подборного сельсовета Крутихинского района | BP17: 1022202217861 | BQ17: Админитсрация Краснознаменского сельсовета Курьинского района | BR17: 1022202101404 | BS17: Администрация Тягунского сельсовета Кытмановского района | BT17: 1022202282816 | BU17: Администрация Локтевского сельсовета Локтевского района | BV17: 1022202071748 | BW17: Администрация Мамонтовского сельсовета Мамонтовского района | CD17: 1022202365074 | CE17: Администрация Павловского сельсовета Павловского района | CH17: 1022202406225 | CI17: Администрация Зудиловского сельсовета Первомайского района | CL17: 1022202524464 | CM17: Администрация Николаевского сельсовета Поспелихинского района | CN17: 1022202562590 | CO17: Администрация Плоскосеминского сельсовета Ребрихинского района | CP17: 1022202575493 | CQ17: Администрация Степновского сельсовета Родинского района | CR17: 1022202070747 | CS17: Администрация Мормышанского сельсовета Романовского района | CT17: 1022202613290 | CU17: Администрация Новоалександровского сельсовета Рубцовского района | CV17: 1022202670236 | CW17: Администрация Сычёвского сельсовета Смоленского района | CX17: 1022202668740 | CY17: Администрация Советского сельсовета Советского района | DH17: 1022202734950 | DI17: Администрация Лушниковского сельсовета Тальменского района | DL17: 1022202768587 | DM17: Администрация Парфеновского сельсовета Топчихинского района | DN17: 1022200730199 | DO17: Администрация Третьяковского сельсовета Третьяковского района | DP17: 1022202194013 | DQ17: Администрация Петровского сельсовета Троицкого района | DR17: 1022202563679 | DS17: Администрация Мезенцевского сельсовета Тюменцевского района | DT17: 1022202283718 | DU17: Комитет администрации Угловского района по образованию и делам молодёжи Алтайского края | DV17: 1022202863308 | DW17: Администрация Усть-Калманского сельсовета Усть-Калманского района | DX17: 1022202863957 | DY17: Администрация Беловского сельсовета Усть-Пристанского района | DZ17: 1022202891765 | EA17: Администрация Тополинского сельсовета Хабарского района | EB17: 1022202915514 | EC17: Администрация Степно-Чумышского сельсовета Целинного района | EF17: 1022202365173 | EG17: Администрация Новообинцевского сельсовета Шелаболихинского района | EH17: 1022202956401 | EI17: Администрация Комарихинского сельсовета Шипуновского района
A18: 10 | D18: 1022201128905 | E18: Администрация Индустриального района г. Барнаула | V18: 1022200509484 | W18: Администрация Кировского сельсовета Алейского района | X18: 1022201907012 | Y18: Администрация Россошинского сельсовета Алтайского района | Z18: 1022202150057 | AA18: Комитет Администрации Баевского района по образованию | AB18: 1022201945127 | AC18: Администрация Малоугреневского сельсовета Бийского района | AD18: 1022201982318 | AE18: Администрация Степноозерского поссовета Благовещенского района | AF18: 1022200882990 | AG18: Администрация Устьянского сельсовета Бурлинского района | AJ18: 1022202575790 | AK18: Администрация Селивёрстовского сельсовета Волчихинского района | AP18: 1022202071286 | AQ18: Администрация Тумановского сельсовета Завьяловского района | AT18: 1022202102207 | AU18: Администрация Комарского сельсовета Заринского района | AZ18: 1022202768280 | BA18: Администрация Шадринского сельсовета Калманского района | BB18: 1022202149353 | BC18: Администрация Рыбинского сельсовета Каменского района | BF18: 1022202193276 | BG18: Администрация Налобихинского сельсовета Косихинского района | BJ18: 1022202217707 | BK18: Администрация Усть-Беловского сельсовета Краснощековского района | BL18: 1022202151245 | BM18: Администрация Прыганского сельсовета Крутихинского района | BP18: 1022202217872 | BQ18: Админитсрация Новофирсовского сельсовета Курьинского района | BR18: 1022202101338 | BS18: Администрация Тяхтинского сельсовета Кытмановского района | BT18: 1022202282827 | BU18: Администрация Масальского сельсовета Локтевского района | BV18: 1022202072870 | BW18: Администрация Островновского сельсовета Мамонтовского района | CD18: 1022202363479 | CE18: Администрация Павлозаводского сельсовета Павловского района | CH18: 1022202406632 | CI18: Администрация Логовского сельсовета Первомайского района | CL18: 1022202524662 | CM18: Администрация Озимовского сельсовета Поспелихинского района | CN18: 1022202563426 | CO18: Администрация Подстепновского сельсовета Ребрихинского района | CP18: 1022202575680 | CQ18: Администрация Степно-Кучукского сельсовета Родинского района | CR18: 1022202070758 | CS18: Администрация Рассветовского сельсовета Романовского района | CT18: 1022202610946 | CU18: Администрация Новониколаевского сельсовета Рубцовского района | CV18: 1022202669829 | CW18: Администрация Точилинского сельсовета Смоленского района | CX18: 1022202669521 | CY18: Администрация Талицкого сельсовета Советского района | DH18: 1022202735367 | DI18: Администрация Новоозёрского сельсовета Тальменского района | DL18: 1022202768576 | DM18: Администрация Переясловского сельсовета Топчихинского района | DN18: 1022200729407 | DO18: Администрация Шипунихинского сельсовета Третьяковского района | DP18: 1022202191263 | DQ18: Администрация Троицкого сельсовета Троицкого района | DR18: 1022202562689 | DS18: Администрация Новокарповского сельсовета Тюменцевского района | DV18: 1022202863253 | DW18: Администрация Чарышского сельсовета Усть-Калманского района | DX18: 1022202863649 | DY18: Администрация Брусенцевского сельсовета Усть-Пристанского района | DZ18: 1022202891666 | EA18: Администрация Утянского сельсовета Хабарского района | EB18: 1022202915646 | EC18: Администрация Сухо-Чемровского сельсовета Целинного района | EF18: 1022202362885 | EG18: Администрация Шелаболихинского сельсовета Шелаболихинского района | EH18: 1022202955609 | EI18: Администрация Краснояровского сельсовета Шипуновского района
A19: 11 | D19: 1022201145768 | E19: Власихинская сельская администрация Индустриального района г. Барнаула | V19: 1022200507966 | W19: Администрация Краснопартизанского сельсовета Алейского района | X19: 1022201907188 | Y19: Администрация Старобелокурихинского сельсовета Алтайского района | Z19: 1022202151058 | AA19: Комитет по экономике и земельным отношениям Администрации Баевского района | AB19: 1022201945105 | AC19: Администрация Новиковского сельсовета Бийского района | AD19: 1022201982307 | AE19: Администрация Суворовского сельсовета Благовещенского района | AJ19: 1022202577198 | AK19: Администрация Солоновского сельсовета Волчихинского района | AP19: 1022202072100 | AQ19: Администрация Харитоновского сельсовета Завьяловского района | AT19: 1022202104440 | AU19: Администрация Новодраченинского сельсовета Заринского района | AZ19: 1022202768367 | BA19: Администрация Шиловского сельсовета Калманского района | BB19: 1022202149640 | BC19: Администрация Столбовского сельсовета Каменского района | BF19: 1022202193441 | BG19: Администрация Плотниковского сельсовета Косихинского района | BJ19: 1022202217180 | BK19: Администрация Усть-Козлухинского сельсовета Краснощековского района | BP19: 1022202216630 | BQ19: Админитсрация Усть-Таловского сельсовета Курьинского района | BR19: 1022202101052 | BS19: Администрация Червовского сельсовета Кытмановского района | BT19: 1022202282728 | BU19: Администрация Николаевского сельсовета Локтевского района | BV19: 1022202072771 | BW19: Администрация Покровского сельсовета Мамонтовского района | CD19: 1022202362401 | CE19: Администрация Прутского сельсовета Павловского района | CH19: 1022202408491 | CI19: Администрация Новоберезовского сельсовета Первомайского района | CL19: 1022202524520 | CM19: Администрация Поспелихинского сельсовета Поспелихинского района | CN19: 1022202563349 | CO19: Администрация Ребрихинского сельсовета Ребрихинского района | CP19: 1022202575471 | CQ19: Администрация Центрального сельсовета Родинского района | CR19: 1022202070934 | CS19: Администрация Романовского сельсовета Романовского района | CT19: 1022202614037 | CU19: Администрация Новороссийского сельсовета Рубцовского района | CV19: 1022202669774 | CW19: Комитет по образованию Смоленского района Алтайского края | CX19: 1022202669147 | CY19: Администрация Урожайного сельсовета Советского района | DH19: 1022202733387 | DI19: Администрация Новоперуновского сельсовета Тальменского района | DL19: 1022202768246 | DM19: Администрация Победимского сельсовета Топчихинского района | DN19: 1022200730364 | DO19: Комитет администрации Третьяковского района Алтайского края по образованию | DP19: 1022202193991 | DQ19: Администрация Хайрюзовского сельсовета Троицкого района | DR19: 1022202562810 | DS19: Администрация Тюменцевского сельсовета Тюменцевского района | DX19: 1022202864606 | DY19: Администрация Елбанского сельсовета Усть-Пристанского района | DZ19: 1022202891578 | EA19: Администрация Хабарского сельсовета Хабарского района | EB19: 1022202915602 | EC19: Администрация Хомутинского сельсовета Целинного района | EH19: 1022202954861 | EI19: Администрация Нечунаевского сельсовета Шипуновского района
A20: 12 | D20: 1022201386900 | E20: Администрация Ленинского района г. Барнаула | V20: 1022200508571 | W20: Администрация Малиновского сельсовета Алейского района | AB20: 1022201945700 | AC20: Администрация Первомайского сельсовета Бийского района | AD20: 1022201982406 | AE20: Администрация Шимолинского сельсовета Благовещенского района | AJ20: 1022202575955 | AK20: Администрация Усть-Волчихинского сельсовета Волчихинского района | AP20: 1022202071814 | AQ20: Администрация Чернавского сельсовета Завьяловского района | AT20: 1022202103010 | AU20: Администрация Новозыряновского сельсовета Заринского района | BB20: 1022202149441 | BC20: Администрация Телеутского сельсовета Каменского района | BF20: 1022202192583 | BG20: Администрация Полковниковского сельсовета Косихинского района | BJ20: 1022202218895 | BK20: Администрация Усть-Пустынского сельсовета Краснощековского района | BT20: 1022202282684 | BU20: Администрация Новенского сельсовета Локтевского района | BV20: 1022202072837 | BW20: Администрация Сусловского сельсовета Мамонтовского района | CD20: 1022202363853 | CE20: Администрация Рогозихинского сельсовета Павловского района | CH20: 1022202405653 | CI20: Администрация Первомайского сельсовета Первомайского района | CL20: 1022202524410 | CM20: Администрация Поспелихинского Центрального сельсовета Поспелихинского района | CN20: 1022202563008 | CO20: Администрация Рожне-Логовского сельсовета Ребрихинского района | CP20: 1022202575350 | CQ20: Администрация Шаталовского сельсовета Родинского района | CR20: 1022202070802 | CS20: Администрация Сидоровского сельсовета Романовского района | CT20: 1022202611595 | CU20: Администрация Новосклюихинского сельсовета Рубцовского района | CX20: 1022202669037 | CY20: Администрация Шульгин-Логского сельсовета Советского района | DH20: 1022202733365 | DI20: Администрация Новотроицкого сельсовета Тальменского района | DL20: 1022202768510 | DM20: Администрация Покровского сельсовета Топчихинского района | DP20: 1022202193837 | DQ20: Администрация Южаковского сельсовета Троицкого района | DR20: 1022202564097 | DS20: Администрация Урывского сельсовета Тюменцевского района | DX20: 1022202866950 | DY20: Администрация Клепиковского сельсовета Усть-Пристанского района | EB20: 1022202915690 | EC20: Администрация Целинного сельсовета Целинного района | EH20: 1022202955862 | EI20: Администрация Первомайского сельсовета Шипуновского района
